{"text_format":"1","workbook":"xlsx","n_sheets":19,"sheets":["Instructions","Preferences","Scores","Results","Itinerary Chart","Program Chart","Itinerary Details","Itinerary Xref Chart","Tables","Detail Informaton","itineraryCamps","ItineraryPrograms","Descriptions","Calculator","Itineraries","Programs","Camp Programs","Camp Elevations","UteParkPassAlternatives"],"not_rendered":{"charts":8,"images":4,"macros":1,"external_links":0,"defined_names":166,"comments":2,"pivot_tables":0},"unopened":[{"sheet":"Itinerary Chart","index":4,"reason":"not_a_worksheet"},{"sheet":"Program Chart","index":5,"reason":"not_a_worksheet"}],"bounds":{"document_bytes":16777216,"sheet_cells":100000,"rows_first":2000,"rows_last":500,"rows_between":2000,"halvings":0,"cell_chars":16384,"cell_head_chars":4096},"cells_cut":0,"cells_raw":0,"read":"whole","date_system":"1900"}

{"sheet":"Instructions","index":0,"n_rows":8,"n_cols":6,"rows_kept":8,"cut":false,"hidden":false,"merged":[[5,1,5,16],[0,2,0,15],[3,1,3,15]]}
[null,null,"Philmont 2024 Itineraries - 9 Day Treks"]
[]
[]
[null,"Questions or suggestions regarding this spreadsheet may be e-mailed to the author Sid Covington at sid_c@swbell.net"]
[]
[null,{"$f":"\"Updated \"&getlastsavedate()&\" - Revision \" & getSpreadsheetProperty(\"Revision\")","v":"Updated 1/2/2024 11:01PM - Revision 2024_1-0"}]
[null,"     Revision History:",null,null,null,"Note:  Use Ctrl-F1 to show/hide the Excel ribbon"]
[null,null,"2024_1-0","Original 2024 Update"]

{"sheet":"Preferences","index":1,"n_rows":36,"n_cols":7,"rows_kept":36,"cut":false,"hidden":false,"merged":[[29,0,30,2],[24,0,25,2],[26,0,26,2],[17,0,17,2],[10,0,10,2],[21,0,21,2],[19,0,20,2],[0,0,0,7],[3,4,5,7],[12,4,16,7],[9,6,9,7],[8,6,8,7],[7,6,7,7]]}
["Set Crew preferences below"]
[]
["Philmont is divided into four areas.  Is it important to you",null,null,null,"Altitude Factors:"]
["which area you go to?","n",{"$f":"IF(UPPER(B4)=\"Y\",\"\",IF(UPPER(B4)=\"N\",\"\",\"ERROR-Must be Y or N\"))","v":""},null,"Altitude factors may be included or excluded from the calculations.  There are three different factors in the calculation that relate to altitude."]
["If it is important, rank your preference in 1, 2, 3, 4 order with"]
["  1 being the most preferred, 4 being least."]
["    South Country",3,{"$f":"IF(B7<1,\"ERROR-Must be in 1-4 range\",IF(B7>4,\"ERROR-Must be in 1-4 range\",\"\"))","v":""},null,"   Factor:","Include?"]
["    Central Country",4,{"$f":"IF(B8<1,\"ERROR-Must be in 1-4 range\",IF(B8>4,\"ERROR-Must be in 1-4 range\",\"\"))","v":""},null,"     Highest camp elevation:","n",{"$f":"IF(UPPER(F8)=\"Y\",\"\",IF(UPPER(F8)=\"N\",\"\",\"ERROR-enter a 'y' or 'n'\"))","v":""}]
["    North Country",1,{"$f":"IF(B9<1,\"ERROR-Must be in 1-4 range\",IF(B9>4,\"ERROR-Must be in 1-4 range\",\"\"))","v":""},null,"     Trek camp elevation change:","n",{"$f":"IF(UPPER(F9)=\"Y\",\"\",IF(UPPER(F9)=\"N\",\"\",\"ERROR-enter a 'y' or 'n'\"))","v":""}]
["    Valle Vidal",2,{"$f":"IF(B10<1,\"ERROR-Must be in 1-4 range\",IF(B10>4,\"ERROR-Must be in 1-4 range\",\"\"))","v":""},null,"     Average daily change:","y",{"$f":"IF(UPPER(F10)=\"Y\",\"\",IF(UPPER(F10)=\"N\",\"\",\"ERROR-enter a 'y' or 'n'\"))","v":""}]
[{"$f":"IF(LOWER(areaImportant)=\"y\",(IF(validAreaRanking(),\"\",\"ERROR—rank preferences 1 to 4\")),\"\")","v":""}]
[]
["Rate the capability of your crew on a scale of 1 to 10 with",null,null,null,"How much more important are programs than the other factors such as distance, country, altitude, Tooth of Time, etc. in your selection of an itinerary?  Enter y if programs are more important, n if should be treated as lower priority than other factors."]
["1 indicating a young crew with little backpacking experience"]
["and 10 indicating an older crew with a lot of experience."]
[]
["    Capability",3]
[{"$f":"IF(B17>0,IF(B17<11,\"\",\"ERROR-must be less than 10\"),\"ERROR-must be greater than 0\")","v":""},null,null,null,"  Programs more important?","y"]
[]
["Many itineraries return to Base Camp via bus but some hike in (not necessarily over the Tooth of Time)."]
[null,null,null,null,"Include Itineraries with an Itinerary Rating of:"]
["Is it important to hike into Base Camp?",null,null,null,null,null,"Include?"]
[null,"n",null,null,"Challenging","C","y"]
[null,null,null,null,"Rugged","R","y"]
["Most itineraries depart Base Camp to the trailhead by bus.  There are some that hike out of Base Camp to the first camp.",null,null,null,"Strenuous","S","y"]
[null,null,null,null,"Super Strenuous","SS","y"]
["Is it important to hike out of Base Camp?"]
[null,"n"]
[]
["A key part of a Philmont Trek is climbing peaks.  Is it important to you to climb the following peaks?"]
[]
["Baldy Peak","y"]
["Mount Phillips","y"]
["Tooth of Time","y"]
["Trail Peak","n"]
["Others (Mountaineering)","n"]

{"sheet":"Scores","index":2,"n_rows":41,"n_cols":13,"rows_kept":41,"cut":false,"hidden":false,"merged":[]}
["Program:","Crewmember 1","Crewmember 2","Crewmember 3","Crewmember 4","Crewmember 5","Crewmember 6","Crewmember 7","Crewmember 8","Crewmember 9","Crewmember 10","Crewmember 11","Crewmember 12"]
[{"$f":"INDEX(program_table,ROW()-1)","v":"Archaeology"},15,15,15,15,15,15,15,15,15,15,2,0]
[{"$f":"INDEX(program_table,ROW()-1)","v":"Archery - 3 Dimensional"},20,20,20,20,20,20,20,19,18,17,16,15]
[{"$f":"INDEX(program_table,ROW()-1)","v":"Atlatl (Dart-throwing)"},2,13,10,2,0,7,13,10,2,0,7,10]
[{"$f":"INDEX(program_table,ROW()-1)","v":"Baldy Mountain"},18,18,18,18,18,18,18,18,18,18,5,3]
[{"$f":"INDEX(program_table,ROW()-1)","v":"Blacksmithing"},2,0,15,0,18,20,0,15,0,18,20,0]
[{"$f":"INDEX(program_table,ROW()-1)","v":"Campfire (evening)"},2,20,0,14,6,10,20,0,14,6,10,9]
[{"$f":"INDEX(program_table,ROW()-1)","v":"Cantina"},2,20,0,14,6,10,20,0,14,6,10,9]
[{"$f":"INDEX(program_table,ROW()-1)","v":"Challenge Events"},2,5,15,0,20,7,5,15,0,0,7,8]
[{"$f":"INDEX(program_table,ROW()-1)","v":"Chuckwagon Dinner"},2,19,0,0,9,9,19,0,0,9,9,11]
[{"$f":"INDEX(program_table,ROW()-1)","v":"Demonstration Forest"},2,10,5,0,0,7,10,5,0,null,7,15]
[{"$f":"INDEX(program_table,ROW()-1)","v":"Fishing"},2,20,5,0,0,5,20,5,0,null,5,11]
[{"$f":"INDEX(program_table,ROW()-1)","v":"Fly Tying"},2,11,null,13,null,4,10,null,15,0,null,18]
[{"$f":"INDEX(program_table,ROW()-1)","v":"Fur Trapper Rendezvous"},2,10,0,13,0,4,10,0,13,0,4,18]
[{"$f":"INDEX(program_table,ROW()-1)","v":"Gold Mining & Panning"},2,13,10,2,null,7,13,10,2,0,7,10]
[{"$f":"INDEX(program_table,ROW()-1)","v":"Homesteading"},2,12,5,3,null,10,12,5,3,0,10,20]
[{"$f":"INDEX(program_table,ROW()-1)","v":"Horse Rides"},2,8,0,16,5,8,0,8,16,8,3,10]
[{"$f":"INDEX(program_table,ROW()-1)","v":"Hunter Safety"},2,1,1,17,6,4,1,1,17,6,4,11]
[{"$f":"INDEX(program_table,ROW()-1)","v":"Inspiration Point Hike"},2,10,6,15,10,5,10,0,null,1,20,18]
[{"$f":"INDEX(program_table,ROW()-1)","v":"Jicarilla Apache Life"},2,3,5,0,0,5,20,5,0,0,7,15]
[{"$f":"INDEX(program_table,ROW()-1)","v":"Laser Shot Shooting Range"},2,2,15,18,0,10,2,15,18,0,10,12]
[{"$f":"INDEX(program_table,ROW()-1)","v":"Lodge/Cabin Tours"},2,19,0,6,0,12,19,0,6,0,12,0]
[{"$f":"INDEX(program_table,ROW()-1)","v":"Low Impact Camping"},15,2,0,12,0,12,2,10,8,0,20,5]
[{"$f":"INDEX(program_table,ROW()-1)","v":"Mine Tour"},2,6,5,8,9,10,7,7,3,2,1,9]
[{"$f":"INDEX(program_table,ROW()-1)","v":"Mount Phillips"},2,null,15,null,18,20,0,15,0,18,20]
[{"$f":"INDEX(program_table,ROW()-1)","v":"Mountaineering"},2,16,10,15,0,20,16,10,15,0,20,10]
[{"$f":"INDEX(program_table,ROW()-1)","v":"Muzzle Loading Rifle"},2,null,10,5,10,null,10,20,5,15,2,18]
[{"$f":"INDEX(program_table,ROW()-1)","v":"New Mexico Homestead"},2,0,15,null,17,12,0,15,0,17,12,10]
[{"$f":"INDEX(program_table,ROW()-1)","v":"Petroglyph Tour"},15,0,15,null,19,12,0,15,0,19,12,10]
[{"$f":"INDEX(program_table,ROW()-1)","v":"Post Civil War Encampment"},15,0,15,null,12,12,0,15,null,12,12,10]
[{"$f":"INDEX(program_table,ROW()-1)","v":"Railroading"},15,0,15,null,11,12,10,15,15,11,12,10]
[{"$f":"INDEX(program_table,ROW()-1)","v":"Rock Climbing & Rappelling"},18,17,6,null,12,13,5,16,3,13,14,18]
[{"$f":"INDEX(program_table,ROW()-1)","v":"Rocky Mountain Fur Co."},10,0,5,null,16,9,0,5,0,16,null,0]
[{"$f":"INDEX(program_table,ROW()-1)","v":"Shooting/Reloading - .30-06"},19,20,null,14,7,10,20,null,14,7,2,8]
[{"$f":"INDEX(program_table,ROW()-1)","v":"Shotgun Shooting/Reloading - 12 Gauge"},19,20,0,14,7,10,20,18,14,7,10,8]
[{"$f":"INDEX(program_table,ROW()-1)","v":"Spar Pole Climbing"},18,5,10,5,19,20,null,10,15,5,14,19]
[{"$f":"INDEX(program_table,ROW()-1)","v":"Tie Making & Crosscut Saws"},20,5,16,20,20,1,15,15,null,18,20,20]
[{"$f":"INDEX(program_table,ROW()-1)","v":"Tomahawk Throwing"},14,15,10,17,20,4,20,15,17,null,5,20]
[{"$f":"INDEX(program_table,ROW()-1)","v":"Tooth of Time"},19,20,null,14,7,10,20,null,14,7,10,8]
[{"$f":"INDEX(program_table,ROW()-1)","v":"Trail Peak"},8,2,10,20,0,12,2,10,15,0,12,10]
[{"$f":"INDEX(program_table,ROW()-1)","v":"Western Lore/Branding"},15,10," ",10,8,5,8," ",14,8,5,10]

{"sheet":"Results","index":3,"n_rows":47,"n_cols":17,"rows_kept":47,"cut":false,"hidden":false,"merged":[[16,4,16,5],[1,10,1,15],[0,0,0,15],[1,8,2,8],[1,9,2,9],[1,4,2,4],[1,5,2,5]]}
["Philmont Trek Itinerary Selection"]
[null,null,null,null,"Choice",null,null,null,"# X's","Pgm Index","Top Itinerary/Program Cross Reference"]
["Itinerary","Classification","Distance",{"$f":"IF(meanMedian=\"Mean\",\"Average\",meanMedian) & \" Score\"","v":"Median Score"},null,null,"Program","Value",null,null,"9-4","9-15","9-3","9-2","9-8","9-7"]
["9-4","Challenging",44,10417.5,"#1",null,"Archery - 3 Dimensional",225,{"$f":"COUNTIF(K4:P4,\"X\")","v":2},2,{"$f":"IF($G4=0,\"\",IF(INDEX(itineraryPrograms,numericItinerary(K$3),$J4)=\"y\",\"X\",\"\"))","v":""},{"$f":"IF($G4=0,\"\",IF(INDEX(itineraryPrograms,numericItinerary(L$3),$J4)=\"y\",\"X\",\"\"))","v":"X"},{"$f":"IF($G4=0,\"\",IF(INDEX(itineraryPrograms,numericItinerary(M$3),$J4)=\"y\",\"X\",\"\"))","v":""},{"$f":"IF($G4=0,\"\",IF(INDEX(itineraryPrograms,numericItinerary(N$3),$J4)=\"y\",\"X\",\"\"))","v":""},{"$f":"IF($G4=0,\"\",IF(INDEX(itineraryPrograms,numericItinerary(O$3),$J4)=\"y\",\"X\",\"\"))","v":"X"},{"$f":"IF($G4=0,\"\",IF(INDEX(itineraryPrograms,numericItinerary(P$3),$J4)=\"y\",\"X\",\"\"))","v":""},1]
["9-15","Super Strenuous",70,9522,"#2",null,"Baldy Mountain",188,3,4,{"$f":"IF($G5=0,\"\",IF(INDEX(itineraryPrograms,numericItinerary(K$3),$J5)=\"y\",\"X\",\"\"))","v":""},{"$f":"IF($G5=0,\"\",IF(INDEX(itineraryPrograms,numericItinerary(L$3),$J5)=\"y\",\"X\",\"\"))","v":"X"},{"$f":"IF($G5=0,\"\",IF(INDEX(itineraryPrograms,numericItinerary(M$3),$J5)=\"y\",\"X\",\"\"))","v":""},{"$f":"IF($G5=0,\"\",IF(INDEX(itineraryPrograms,numericItinerary(N$3),$J5)=\"y\",\"X\",\"\"))","v":"X"},{"$f":"IF($G5=0,\"\",IF(INDEX(itineraryPrograms,numericItinerary(O$3),$J5)=\"y\",\"X\",\"\"))","v":""},{"$f":"IF($G5=0,\"\",IF(INDEX(itineraryPrograms,numericItinerary(P$3),$J5)=\"y\",\"X\",\"\"))","v":"X"},2]
["9-3","Challenging",41,9330.7999999999993,"#3",null,"Tie Making & Crosscut Saws",170,4,36,{"$f":"IF($G6=0,\"\",IF(INDEX(itineraryPrograms,numericItinerary(K$3),$J6)=\"y\",\"X\",\"\"))","v":""},{"$f":"IF($G6=0,\"\",IF(INDEX(itineraryPrograms,numericItinerary(L$3),$J6)=\"y\",\"X\",\"\"))","v":"X"},{"$f":"IF($G6=0,\"\",IF(INDEX(itineraryPrograms,numericItinerary(M$3),$J6)=\"y\",\"X\",\"\"))","v":""},{"$f":"IF($G6=0,\"\",IF(INDEX(itineraryPrograms,numericItinerary(N$3),$J6)=\"y\",\"X\",\"\"))","v":"X"},{"$f":"IF($G6=0,\"\",IF(INDEX(itineraryPrograms,numericItinerary(O$3),$J6)=\"y\",\"X\",\"\"))","v":"X"},{"$f":"IF($G6=0,\"\",IF(INDEX(itineraryPrograms,numericItinerary(P$3),$J6)=\"y\",\"X\",\"\"))","v":"X"},3]
["9-2","Challenging",39,9056.7999999999993,"#4",null,"Tomahawk Throwing",157,5,37,{"$f":"IF($G7=0,\"\",IF(INDEX(itineraryPrograms,numericItinerary(K$3),$J7)=\"y\",\"X\",\"\"))","v":"X"},{"$f":"IF($G7=0,\"\",IF(INDEX(itineraryPrograms,numericItinerary(L$3),$J7)=\"y\",\"X\",\"\"))","v":""},{"$f":"IF($G7=0,\"\",IF(INDEX(itineraryPrograms,numericItinerary(M$3),$J7)=\"y\",\"X\",\"\"))","v":"X"},{"$f":"IF($G7=0,\"\",IF(INDEX(itineraryPrograms,numericItinerary(N$3),$J7)=\"y\",\"X\",\"\"))","v":"X"},{"$f":"IF($G7=0,\"\",IF(INDEX(itineraryPrograms,numericItinerary(O$3),$J7)=\"y\",\"X\",\"\"))","v":"X"},{"$f":"IF($G7=0,\"\",IF(INDEX(itineraryPrograms,numericItinerary(P$3),$J7)=\"y\",\"X\",\"\"))","v":"X"},4]
["9-8","Rugged",46,8963.4,"#5",null,"Archaeology",152,1,1,{"$f":"IF($G8=0,\"\",IF(INDEX(itineraryPrograms,numericItinerary(K$3),$J8)=\"y\",\"X\",\"\"))","v":""},{"$f":"IF($G8=0,\"\",IF(INDEX(itineraryPrograms,numericItinerary(L$3),$J8)=\"y\",\"X\",\"\"))","v":""},{"$f":"IF($G8=0,\"\",IF(INDEX(itineraryPrograms,numericItinerary(M$3),$J8)=\"y\",\"X\",\"\"))","v":""},{"$f":"IF($G8=0,\"\",IF(INDEX(itineraryPrograms,numericItinerary(N$3),$J8)=\"y\",\"X\",\"\"))","v":"X"},{"$f":"IF($G8=0,\"\",IF(INDEX(itineraryPrograms,numericItinerary(O$3),$J8)=\"y\",\"X\",\"\"))","v":""},{"$f":"IF($G8=0,\"\",IF(INDEX(itineraryPrograms,numericItinerary(P$3),$J8)=\"y\",\"X\",\"\"))","v":""},5]
["9-7","Rugged",46,8950.7000000000007,"#6",null,"Shotgun Shooting/Reloading - 12 Gauge",147,0,34,{"$f":"IF($G9=0,\"\",IF(INDEX(itineraryPrograms,numericItinerary(K$3),$J9)=\"y\",\"X\",\"\"))","v":""},{"$f":"IF($G9=0,\"\",IF(INDEX(itineraryPrograms,numericItinerary(L$3),$J9)=\"y\",\"X\",\"\"))","v":""},{"$f":"IF($G9=0,\"\",IF(INDEX(itineraryPrograms,numericItinerary(M$3),$J9)=\"y\",\"X\",\"\"))","v":""},{"$f":"IF($G9=0,\"\",IF(INDEX(itineraryPrograms,numericItinerary(N$3),$J9)=\"y\",\"X\",\"\"))","v":""},{"$f":"IF($G9=0,\"\",IF(INDEX(itineraryPrograms,numericItinerary(O$3),$J9)=\"y\",\"X\",\"\"))","v":""},{"$f":"IF($G9=0,\"\",IF(INDEX(itineraryPrograms,numericItinerary(P$3),$J9)=\"y\",\"X\",\"\"))","v":""},6]
["9-5","Rugged",46,8871.7000000000007,null,null,"Spar Pole Climbing",140,3,35,{"$f":"IF($G10=0,\"\",IF(INDEX(itineraryPrograms,numericItinerary(K$3),$J10)=\"y\",\"X\",\"\"))","v":""},{"$f":"IF($G10=0,\"\",IF(INDEX(itineraryPrograms,numericItinerary(L$3),$J10)=\"y\",\"X\",\"\"))","v":"X"},{"$f":"IF($G10=0,\"\",IF(INDEX(itineraryPrograms,numericItinerary(M$3),$J10)=\"y\",\"X\",\"\"))","v":""},{"$f":"IF($G10=0,\"\",IF(INDEX(itineraryPrograms,numericItinerary(N$3),$J10)=\"y\",\"X\",\"\"))","v":"X"},{"$f":"IF($G10=0,\"\",IF(INDEX(itineraryPrograms,numericItinerary(O$3),$J10)=\"y\",\"X\",\"\"))","v":""},{"$f":"IF($G10=0,\"\",IF(INDEX(itineraryPrograms,numericItinerary(P$3),$J10)=\"y\",\"X\",\"\"))","v":"X"},7]
["9-1","Challenging",37,8776,null,null,"Rock Climbing & Rappelling",135,3,31,{"$f":"IF($G11=0,\"\",IF(INDEX(itineraryPrograms,numericItinerary(K$3),$J11)=\"y\",\"X\",\"\"))","v":"X"},{"$f":"IF($G11=0,\"\",IF(INDEX(itineraryPrograms,numericItinerary(L$3),$J11)=\"y\",\"X\",\"\"))","v":""},{"$f":"IF($G11=0,\"\",IF(INDEX(itineraryPrograms,numericItinerary(M$3),$J11)=\"y\",\"X\",\"\"))","v":"X"},{"$f":"IF($G11=0,\"\",IF(INDEX(itineraryPrograms,numericItinerary(N$3),$J11)=\"y\",\"X\",\"\"))","v":""},{"$f":"IF($G11=0,\"\",IF(INDEX(itineraryPrograms,numericItinerary(O$3),$J11)=\"y\",\"X\",\"\"))","v":"X"},{"$f":"IF($G11=0,\"\",IF(INDEX(itineraryPrograms,numericItinerary(P$3),$J11)=\"y\",\"X\",\"\"))","v":""},8]
["9-11","Strenuous",51,8719.7999999999993,null,null,"Mountaineering",134,0,25,{"$f":"IF($G12=0,\"\",IF(INDEX(itineraryPrograms,numericItinerary(K$3),$J12)=\"y\",\"X\",\"\"))","v":""},{"$f":"IF($G12=0,\"\",IF(INDEX(itineraryPrograms,numericItinerary(L$3),$J12)=\"y\",\"X\",\"\"))","v":""},{"$f":"IF($G12=0,\"\",IF(INDEX(itineraryPrograms,numericItinerary(M$3),$J12)=\"y\",\"X\",\"\"))","v":""},{"$f":"IF($G12=0,\"\",IF(INDEX(itineraryPrograms,numericItinerary(N$3),$J12)=\"y\",\"X\",\"\"))","v":""},{"$f":"IF($G12=0,\"\",IF(INDEX(itineraryPrograms,numericItinerary(O$3),$J12)=\"y\",\"X\",\"\"))","v":""},{"$f":"IF($G12=0,\"\",IF(INDEX(itineraryPrograms,numericItinerary(P$3),$J12)=\"y\",\"X\",\"\"))","v":""},9]
["9-6","Rugged",46,8688.7000000000007,null,null,"Tooth of Time",129,1,38,{"$f":"IF($G13=0,\"\",IF(INDEX(itineraryPrograms,numericItinerary(K$3),$J13)=\"y\",\"X\",\"\"))","v":""},{"$f":"IF($G13=0,\"\",IF(INDEX(itineraryPrograms,numericItinerary(L$3),$J13)=\"y\",\"X\",\"\"))","v":"X"},{"$f":"IF($G13=0,\"\",IF(INDEX(itineraryPrograms,numericItinerary(M$3),$J13)=\"y\",\"X\",\"\"))","v":""},{"$f":"IF($G13=0,\"\",IF(INDEX(itineraryPrograms,numericItinerary(N$3),$J13)=\"y\",\"X\",\"\"))","v":""},{"$f":"IF($G13=0,\"\",IF(INDEX(itineraryPrograms,numericItinerary(O$3),$J13)=\"y\",\"X\",\"\"))","v":""},{"$f":"IF($G13=0,\"\",IF(INDEX(itineraryPrograms,numericItinerary(P$3),$J13)=\"y\",\"X\",\"\"))","v":""},10]
["9-12","Strenuous",52,8633.7999999999993,null,null,"Railroading",126,null,30,null,null,null,null,null,null,11]
["9-10","Strenuous",50,8298.6,null,null,"Shooting/Reloading - .30-06",121,null,33,null,null,null,null,null,null,12]
["9-14","Super Strenuous",56,8096,null,null,"Petroglyph Tour",117,2,28,{"$f":"IF($G16=0,\"\",IF(INDEX(itineraryPrograms,numericItinerary(K$3),$J16)=\"y\",\"X\",\"\"))","v":""},{"$f":"IF($G16=0,\"\",IF(INDEX(itineraryPrograms,numericItinerary(L$3),$J16)=\"y\",\"X\",\"\"))","v":""},{"$f":"IF($G16=0,\"\",IF(INDEX(itineraryPrograms,numericItinerary(M$3),$J16)=\"y\",\"X\",\"\"))","v":""},{"$f":"IF($G16=0,\"\",IF(INDEX(itineraryPrograms,numericItinerary(N$3),$J16)=\"y\",\"X\",\"\"))","v":"X"},{"$f":"IF($G16=0,\"\",IF(INDEX(itineraryPrograms,numericItinerary(O$3),$J16)=\"y\",\"X\",\"\"))","v":""},{"$f":"IF($G16=0,\"\",IF(INDEX(itineraryPrograms,numericItinerary(P$3),$J16)=\"y\",\"X\",\"\"))","v":"X"},13]
["9-9","Strenuous",49,8055.3,{"$f":"meanMedian & \" Score Selected\"","v":"Median Score Selected"},null,"Campfire (evening)",111,6,6,{"$f":"IF($G17=0,\"\",IF(INDEX(itineraryPrograms,numericItinerary(K$3),$J17)=\"y\",\"X\",\"\"))","v":"X"},{"$f":"IF($G17=0,\"\",IF(INDEX(itineraryPrograms,numericItinerary(L$3),$J17)=\"y\",\"X\",\"\"))","v":"X"},{"$f":"IF($G17=0,\"\",IF(INDEX(itineraryPrograms,numericItinerary(M$3),$J17)=\"y\",\"X\",\"\"))","v":"X"},{"$f":"IF($G17=0,\"\",IF(INDEX(itineraryPrograms,numericItinerary(N$3),$J17)=\"y\",\"X\",\"\"))","v":"X"},{"$f":"IF($G17=0,\"\",IF(INDEX(itineraryPrograms,numericItinerary(O$3),$J17)=\"y\",\"X\",\"\"))","v":"X"},{"$f":"IF($G17=0,\"\",IF(INDEX(itineraryPrograms,numericItinerary(P$3),$J17)=\"y\",\"X\",\"\"))","v":"X"},14]
["9-13","Super Strenuous",50,7394.3,null,null,"Cantina",111,3,7,{"$f":"IF($G18=0,\"\",IF(INDEX(itineraryPrograms,numericItinerary(K$3),$J18)=\"y\",\"X\",\"\"))","v":""},{"$f":"IF($G18=0,\"\",IF(INDEX(itineraryPrograms,numericItinerary(L$3),$J18)=\"y\",\"X\",\"\"))","v":"X"},{"$f":"IF($G18=0,\"\",IF(INDEX(itineraryPrograms,numericItinerary(M$3),$J18)=\"y\",\"X\",\"\"))","v":""},{"$f":"IF($G18=0,\"\",IF(INDEX(itineraryPrograms,numericItinerary(N$3),$J18)=\"y\",\"X\",\"\"))","v":"X"},{"$f":"IF($G18=0,\"\",IF(INDEX(itineraryPrograms,numericItinerary(O$3),$J18)=\"y\",\"X\",\"\"))","v":""},{"$f":"IF($G18=0,\"\",IF(INDEX(itineraryPrograms,numericItinerary(P$3),$J18)=\"y\",\"X\",\"\"))","v":"X"},15]
["PREFERENCES:",null,null,null,null,null,"Blacksmithing",108,5,5,{"$f":"IF($G19=0,\"\",IF(INDEX(itineraryPrograms,numericItinerary(K$3),$J19)=\"y\",\"X\",\"\"))","v":""},{"$f":"IF($G19=0,\"\",IF(INDEX(itineraryPrograms,numericItinerary(L$3),$J19)=\"y\",\"X\",\"\"))","v":"X"},{"$f":"IF($G19=0,\"\",IF(INDEX(itineraryPrograms,numericItinerary(M$3),$J19)=\"y\",\"X\",\"\"))","v":"X"},{"$f":"IF($G19=0,\"\",IF(INDEX(itineraryPrograms,numericItinerary(N$3),$J19)=\"y\",\"X\",\"\"))","v":"X"},{"$f":"IF($G19=0,\"\",IF(INDEX(itineraryPrograms,numericItinerary(O$3),$J19)=\"y\",\"X\",\"\"))","v":"X"},{"$f":"IF($G19=0,\"\",IF(INDEX(itineraryPrograms,numericItinerary(P$3),$J19)=\"y\",\"X\",\"\"))","v":"X"},16]
["Area Important?",{"$f":"UPPER(areaImportant)","v":"N"},null,null,null,null,"Mount Phillips",108,0,24,{"$f":"IF($G20=0,\"\",IF(INDEX(itineraryPrograms,numericItinerary(K$3),$J20)=\"y\",\"X\",\"\"))","v":""},{"$f":"IF($G20=0,\"\",IF(INDEX(itineraryPrograms,numericItinerary(L$3),$J20)=\"y\",\"X\",\"\"))","v":""},{"$f":"IF($G20=0,\"\",IF(INDEX(itineraryPrograms,numericItinerary(M$3),$J20)=\"y\",\"X\",\"\"))","v":""},{"$f":"IF($G20=0,\"\",IF(INDEX(itineraryPrograms,numericItinerary(N$3),$J20)=\"y\",\"X\",\"\"))","v":""},{"$f":"IF($G20=0,\"\",IF(INDEX(itineraryPrograms,numericItinerary(O$3),$J20)=\"y\",\"X\",\"\"))","v":""},{"$f":"IF($G20=0,\"\",IF(INDEX(itineraryPrograms,numericItinerary(P$3),$J20)=\"y\",\"X\",\"\"))","v":""},17]
["      South:",{"$f":"IF(UPPER(areaImportant)=\"Y\",Preferences!B7,\"\")","v":""},null,null,null,null,"Laser Shot Shooting Range",104,2,20,{"$f":"IF($G21=0,\"\",IF(INDEX(itineraryPrograms,numericItinerary(K$3),$J21)=\"y\",\"X\",\"\"))","v":""},{"$f":"IF($G21=0,\"\",IF(INDEX(itineraryPrograms,numericItinerary(L$3),$J21)=\"y\",\"X\",\"\"))","v":"X"},{"$f":"IF($G21=0,\"\",IF(INDEX(itineraryPrograms,numericItinerary(M$3),$J21)=\"y\",\"X\",\"\"))","v":""},{"$f":"IF($G21=0,\"\",IF(INDEX(itineraryPrograms,numericItinerary(N$3),$J21)=\"y\",\"X\",\"\"))","v":""},{"$f":"IF($G21=0,\"\",IF(INDEX(itineraryPrograms,numericItinerary(O$3),$J21)=\"y\",\"X\",\"\"))","v":"X"},{"$f":"IF($G21=0,\"\",IF(INDEX(itineraryPrograms,numericItinerary(P$3),$J21)=\"y\",\"X\",\"\"))","v":""},18]
["      Central:",{"$f":"IF(UPPER(areaImportant)=\"Y\",Preferences!B8,\"\")","v":""},null,null,null,null,"Post Civil War Encampment",103,1,29,{"$f":"IF($G22=0,\"\",IF(INDEX(itineraryPrograms,numericItinerary(K$3),$J22)=\"y\",\"X\",\"\"))","v":""},{"$f":"IF($G22=0,\"\",IF(INDEX(itineraryPrograms,numericItinerary(L$3),$J22)=\"y\",\"X\",\"\"))","v":""},{"$f":"IF($G22=0,\"\",IF(INDEX(itineraryPrograms,numericItinerary(M$3),$J22)=\"y\",\"X\",\"\"))","v":"X"},{"$f":"IF($G22=0,\"\",IF(INDEX(itineraryPrograms,numericItinerary(N$3),$J22)=\"y\",\"X\",\"\"))","v":""},{"$f":"IF($G22=0,\"\",IF(INDEX(itineraryPrograms,numericItinerary(O$3),$J22)=\"y\",\"X\",\"\"))","v":""},{"$f":"IF($G22=0,\"\",IF(INDEX(itineraryPrograms,numericItinerary(P$3),$J22)=\"y\",\"X\",\"\"))","v":""},19]
["      North:",{"$f":"IF(UPPER(areaImportant)=\"Y\",Preferences!B9,\"\")","v":""},null,null,null,null,"Trail Peak",101,0,39,{"$f":"IF($G23=0,\"\",IF(INDEX(itineraryPrograms,numericItinerary(K$3),$J23)=\"y\",\"X\",\"\"))","v":""},{"$f":"IF($G23=0,\"\",IF(INDEX(itineraryPrograms,numericItinerary(L$3),$J23)=\"y\",\"X\",\"\"))","v":""},{"$f":"IF($G23=0,\"\",IF(INDEX(itineraryPrograms,numericItinerary(M$3),$J23)=\"y\",\"X\",\"\"))","v":""},{"$f":"IF($G23=0,\"\",IF(INDEX(itineraryPrograms,numericItinerary(N$3),$J23)=\"y\",\"X\",\"\"))","v":""},{"$f":"IF($G23=0,\"\",IF(INDEX(itineraryPrograms,numericItinerary(O$3),$J23)=\"y\",\"X\",\"\"))","v":""},{"$f":"IF($G23=0,\"\",IF(INDEX(itineraryPrograms,numericItinerary(P$3),$J23)=\"y\",\"X\",\"\"))","v":""},20]
["      Valle Vidal:",{"$f":"IF(UPPER(areaImportant)=\"Y\",Preferences!B10,\"\")","v":""},null,null,null,null,"New Mexico Homestead",100,0,27,{"$f":"IF($G24=0,\"\",IF(INDEX(itineraryPrograms,numericItinerary(K$3),$J24)=\"y\",\"X\",\"\"))","v":""},{"$f":"IF($G24=0,\"\",IF(INDEX(itineraryPrograms,numericItinerary(L$3),$J24)=\"y\",\"X\",\"\"))","v":""},{"$f":"IF($G24=0,\"\",IF(INDEX(itineraryPrograms,numericItinerary(M$3),$J24)=\"y\",\"X\",\"\"))","v":""},{"$f":"IF($G24=0,\"\",IF(INDEX(itineraryPrograms,numericItinerary(N$3),$J24)=\"y\",\"X\",\"\"))","v":""},{"$f":"IF($G24=0,\"\",IF(INDEX(itineraryPrograms,numericItinerary(O$3),$J24)=\"y\",\"X\",\"\"))","v":""},{"$f":"IF($G24=0,\"\",IF(INDEX(itineraryPrograms,numericItinerary(P$3),$J24)=\"y\",\"X\",\"\"))","v":""},21]
["Capability:",{"$f":"skillLevel","v":3},null,null,null,null,"Inspiration Point Hike",97,0,18,{"$f":"IF($G25=0,\"\",IF(INDEX(itineraryPrograms,numericItinerary(K$3),$J25)=\"y\",\"X\",\"\"))","v":""},{"$f":"IF($G25=0,\"\",IF(INDEX(itineraryPrograms,numericItinerary(L$3),$J25)=\"y\",\"X\",\"\"))","v":""},{"$f":"IF($G25=0,\"\",IF(INDEX(itineraryPrograms,numericItinerary(M$3),$J25)=\"y\",\"X\",\"\"))","v":""},{"$f":"IF($G25=0,\"\",IF(INDEX(itineraryPrograms,numericItinerary(N$3),$J25)=\"y\",\"X\",\"\"))","v":""},{"$f":"IF($G25=0,\"\",IF(INDEX(itineraryPrograms,numericItinerary(O$3),$J25)=\"y\",\"X\",\"\"))","v":""},{"$f":"IF($G25=0,\"\",IF(INDEX(itineraryPrograms,numericItinerary(P$3),$J25)=\"y\",\"X\",\"\"))","v":""},22]
["Hike Out?",{"$f":"UPPER(hikeOut)","v":"N"},null,null,null,null,"Muzzle Loading Rifle",97,5,26,{"$f":"IF($G26=0,\"\",IF(INDEX(itineraryPrograms,numericItinerary(K$3),$J26)=\"y\",\"X\",\"\"))","v":"X"},{"$f":"IF($G26=0,\"\",IF(INDEX(itineraryPrograms,numericItinerary(L$3),$J26)=\"y\",\"X\",\"\"))","v":""},{"$f":"IF($G26=0,\"\",IF(INDEX(itineraryPrograms,numericItinerary(M$3),$J26)=\"y\",\"X\",\"\"))","v":"X"},{"$f":"IF($G26=0,\"\",IF(INDEX(itineraryPrograms,numericItinerary(N$3),$J26)=\"y\",\"X\",\"\"))","v":"X"},{"$f":"IF($G26=0,\"\",IF(INDEX(itineraryPrograms,numericItinerary(O$3),$J26)=\"y\",\"X\",\"\"))","v":"X"},{"$f":"IF($G26=0,\"\",IF(INDEX(itineraryPrograms,numericItinerary(P$3),$J26)=\"y\",\"X\",\"\"))","v":"X"},23]
["Hike In/Tooth?",{"$f":"UPPER(hikeIn)","v":"N"},null,null,null,null,"Western Lore/Branding",93,6,40,{"$f":"IF($G27=0,\"\",IF(INDEX(itineraryPrograms,numericItinerary(K$3),$J27)=\"y\",\"X\",\"\"))","v":"X"},{"$f":"IF($G27=0,\"\",IF(INDEX(itineraryPrograms,numericItinerary(L$3),$J27)=\"y\",\"X\",\"\"))","v":"X"},{"$f":"IF($G27=0,\"\",IF(INDEX(itineraryPrograms,numericItinerary(M$3),$J27)=\"y\",\"X\",\"\"))","v":"X"},{"$f":"IF($G27=0,\"\",IF(INDEX(itineraryPrograms,numericItinerary(N$3),$J27)=\"y\",\"X\",\"\"))","v":"X"},{"$f":"IF($G27=0,\"\",IF(INDEX(itineraryPrograms,numericItinerary(O$3),$J27)=\"y\",\"X\",\"\"))","v":"X"},{"$f":"IF($G27=0,\"\",IF(INDEX(itineraryPrograms,numericItinerary(P$3),$J27)=\"y\",\"X\",\"\"))","v":"X"},24]
["Max Altitude?",{"$f":"UPPER(altitudeMax)","v":"N"},null,null,null,null,"Chuckwagon Dinner",87,5,9,{"$f":"IF($G28=0,\"\",IF(INDEX(itineraryPrograms,numericItinerary(K$3),$J28)=\"y\",\"X\",\"\"))","v":"X"},{"$f":"IF($G28=0,\"\",IF(INDEX(itineraryPrograms,numericItinerary(L$3),$J28)=\"y\",\"X\",\"\"))","v":"X"},{"$f":"IF($G28=0,\"\",IF(INDEX(itineraryPrograms,numericItinerary(M$3),$J28)=\"y\",\"X\",\"\"))","v":"X"},{"$f":"IF($G28=0,\"\",IF(INDEX(itineraryPrograms,numericItinerary(N$3),$J28)=\"y\",\"X\",\"\"))","v":""},{"$f":"IF($G28=0,\"\",IF(INDEX(itineraryPrograms,numericItinerary(O$3),$J28)=\"y\",\"X\",\"\"))","v":"X"},{"$f":"IF($G28=0,\"\",IF(INDEX(itineraryPrograms,numericItinerary(P$3),$J28)=\"y\",\"X\",\"\"))","v":"X"},25]
["Total elevation?",{"$f":"UPPER(altitudeChange)","v":"N"},null,null,null,null,"Low Impact Camping",86,1,22,{"$f":"IF($G29=0,\"\",IF(INDEX(itineraryPrograms,numericItinerary(K$3),$J29)=\"y\",\"X\",\"\"))","v":""},{"$f":"IF($G29=0,\"\",IF(INDEX(itineraryPrograms,numericItinerary(L$3),$J29)=\"y\",\"X\",\"\"))","v":""},{"$f":"IF($G29=0,\"\",IF(INDEX(itineraryPrograms,numericItinerary(M$3),$J29)=\"y\",\"X\",\"\"))","v":""},{"$f":"IF($G29=0,\"\",IF(INDEX(itineraryPrograms,numericItinerary(N$3),$J29)=\"y\",\"X\",\"\"))","v":""},{"$f":"IF($G29=0,\"\",IF(INDEX(itineraryPrograms,numericItinerary(O$3),$J29)=\"y\",\"X\",\"\"))","v":"X"},{"$f":"IF($G29=0,\"\",IF(INDEX(itineraryPrograms,numericItinerary(P$3),$J29)=\"y\",\"X\",\"\"))","v":""},26]
["Daily change?",{"$f":"UPPER(altitudeDaily)","v":"Y"},null,null,null,null,"Horse Rides",84,3,16,{"$f":"IF($G30=0,\"\",IF(INDEX(itineraryPrograms,numericItinerary(K$3),$J30)=\"y\",\"X\",\"\"))","v":"X"},{"$f":"IF($G30=0,\"\",IF(INDEX(itineraryPrograms,numericItinerary(L$3),$J30)=\"y\",\"X\",\"\"))","v":""},{"$f":"IF($G30=0,\"\",IF(INDEX(itineraryPrograms,numericItinerary(M$3),$J30)=\"y\",\"X\",\"\"))","v":"X"},{"$f":"IF($G30=0,\"\",IF(INDEX(itineraryPrograms,numericItinerary(N$3),$J30)=\"y\",\"X\",\"\"))","v":""},{"$f":"IF($G30=0,\"\",IF(INDEX(itineraryPrograms,numericItinerary(O$3),$J30)=\"y\",\"X\",\"\"))","v":""},{"$f":"IF($G30=0,\"\",IF(INDEX(itineraryPrograms,numericItinerary(P$3),$J30)=\"y\",\"X\",\"\"))","v":"X"},27]
["Programs?",{"$f":"UPPER(programsImportant)","v":"Y"},null,null,null,null,"Challenge Events",84,1,8,{"$f":"IF($G31=0,\"\",IF(INDEX(itineraryPrograms,numericItinerary(K$3),$J31)=\"y\",\"X\",\"\"))","v":""},{"$f":"IF($G31=0,\"\",IF(INDEX(itineraryPrograms,numericItinerary(L$3),$J31)=\"y\",\"X\",\"\"))","v":"X"},{"$f":"IF($G31=0,\"\",IF(INDEX(itineraryPrograms,numericItinerary(M$3),$J31)=\"y\",\"X\",\"\"))","v":""},{"$f":"IF($G31=0,\"\",IF(INDEX(itineraryPrograms,numericItinerary(N$3),$J31)=\"y\",\"X\",\"\"))","v":""},{"$f":"IF($G31=0,\"\",IF(INDEX(itineraryPrograms,numericItinerary(O$3),$J31)=\"y\",\"X\",\"\"))","v":""},{"$f":"IF($G31=0,\"\",IF(INDEX(itineraryPrograms,numericItinerary(P$3),$J31)=\"y\",\"X\",\"\"))","v":""},28]
[null,null,null,null,null,null,"Homesteading",82,1,15,{"$f":"IF($G32=0,\"\",IF(INDEX(itineraryPrograms,numericItinerary(K$3),$J32)=\"y\",\"X\",\"\"))","v":""},{"$f":"IF($G32=0,\"\",IF(INDEX(itineraryPrograms,numericItinerary(L$3),$J32)=\"y\",\"X\",\"\"))","v":""},{"$f":"IF($G32=0,\"\",IF(INDEX(itineraryPrograms,numericItinerary(M$3),$J32)=\"y\",\"X\",\"\"))","v":"X"},{"$f":"IF($G32=0,\"\",IF(INDEX(itineraryPrograms,numericItinerary(N$3),$J32)=\"y\",\"X\",\"\"))","v":""},{"$f":"IF($G32=0,\"\",IF(INDEX(itineraryPrograms,numericItinerary(O$3),$J32)=\"y\",\"X\",\"\"))","v":""},{"$f":"IF($G32=0,\"\",IF(INDEX(itineraryPrograms,numericItinerary(P$3),$J32)=\"y\",\"X\",\"\"))","v":""},29]
[null,null,null,null,null,null,"Lodge/Cabin Tours",76,1,21,{"$f":"IF($G33=0,\"\",IF(INDEX(itineraryPrograms,numericItinerary(K$3),$J33)=\"y\",\"X\",\"\"))","v":""},{"$f":"IF($G33=0,\"\",IF(INDEX(itineraryPrograms,numericItinerary(L$3),$J33)=\"y\",\"X\",\"\"))","v":""},{"$f":"IF($G33=0,\"\",IF(INDEX(itineraryPrograms,numericItinerary(M$3),$J33)=\"y\",\"X\",\"\"))","v":"X"},{"$f":"IF($G33=0,\"\",IF(INDEX(itineraryPrograms,numericItinerary(N$3),$J33)=\"y\",\"X\",\"\"))","v":""},{"$f":"IF($G33=0,\"\",IF(INDEX(itineraryPrograms,numericItinerary(O$3),$J33)=\"y\",\"X\",\"\"))","v":""},{"$f":"IF($G33=0,\"\",IF(INDEX(itineraryPrograms,numericItinerary(P$3),$J33)=\"y\",\"X\",\"\"))","v":""},30]
[null,null,null,{"$f":"MIN(rankedScore)","v":7394.3},null,null,"Atlatl (Dart-throwing)",76,1,3,{"$f":"IF($G34=0,\"\",IF(INDEX(itineraryPrograms,numericItinerary(K$3),$J34)=\"y\",\"X\",\"\"))","v":""},{"$f":"IF($G34=0,\"\",IF(INDEX(itineraryPrograms,numericItinerary(L$3),$J34)=\"y\",\"X\",\"\"))","v":""},{"$f":"IF($G34=0,\"\",IF(INDEX(itineraryPrograms,numericItinerary(M$3),$J34)=\"y\",\"X\",\"\"))","v":""},{"$f":"IF($G34=0,\"\",IF(INDEX(itineraryPrograms,numericItinerary(N$3),$J34)=\"y\",\"X\",\"\"))","v":"X"},{"$f":"IF($G34=0,\"\",IF(INDEX(itineraryPrograms,numericItinerary(O$3),$J34)=\"y\",\"X\",\"\"))","v":""},{"$f":"IF($G34=0,\"\",IF(INDEX(itineraryPrograms,numericItinerary(P$3),$J34)=\"y\",\"X\",\"\"))","v":""},31]
[null,null,null,{"$f":"MAX(rankedScore)","v":10417.5},null,null,"Gold Mining & Panning",76,5,14,{"$f":"IF($G35=0,\"\",IF(INDEX(itineraryPrograms,numericItinerary(K$3),$J35)=\"y\",\"X\",\"\"))","v":"X"},{"$f":"IF($G35=0,\"\",IF(INDEX(itineraryPrograms,numericItinerary(L$3),$J35)=\"y\",\"X\",\"\"))","v":"X"},{"$f":"IF($G35=0,\"\",IF(INDEX(itineraryPrograms,numericItinerary(M$3),$J35)=\"y\",\"X\",\"\"))","v":""},{"$f":"IF($G35=0,\"\",IF(INDEX(itineraryPrograms,numericItinerary(N$3),$J35)=\"y\",\"X\",\"\"))","v":"X"},{"$f":"IF($G35=0,\"\",IF(INDEX(itineraryPrograms,numericItinerary(O$3),$J35)=\"y\",\"X\",\"\"))","v":"X"},{"$f":"IF($G35=0,\"\",IF(INDEX(itineraryPrograms,numericItinerary(P$3),$J35)=\"y\",\"X\",\"\"))","v":"X"},32]
[null,null,null,null,null,null,"Fur Trapper Rendezvous",74,null,13,{"$f":"IF($G36=0,\"\",IF(INDEX(itineraryPrograms,numericItinerary(K$3),$J36)=\"y\",\"X\",\"\"))","v":""},{"$f":"IF($G36=0,\"\",IF(INDEX(itineraryPrograms,numericItinerary(L$3),$J36)=\"y\",\"X\",\"\"))","v":""},{"$f":"IF($G36=0,\"\",IF(INDEX(itineraryPrograms,numericItinerary(M$3),$J36)=\"y\",\"X\",\"\"))","v":""},{"$f":"IF($G36=0,\"\",IF(INDEX(itineraryPrograms,numericItinerary(N$3),$J36)=\"y\",\"X\",\"\"))","v":"X"},{"$f":"IF($G36=0,\"\",IF(INDEX(itineraryPrograms,numericItinerary(O$3),$J36)=\"y\",\"X\",\"\"))","v":""},{"$f":"IF($G36=0,\"\",IF(INDEX(itineraryPrograms,numericItinerary(P$3),$J36)=\"y\",\"X\",\"\"))","v":"X"},33]
[null,null,null,null,null,null,"Fishing",73,null,11,{"$f":"IF($G37=0,\"\",IF(INDEX(itineraryPrograms,numericItinerary(K$3),$J37)=\"y\",\"X\",\"\"))","v":""},{"$f":"IF($G37=0,\"\",IF(INDEX(itineraryPrograms,numericItinerary(L$3),$J37)=\"y\",\"X\",\"\"))","v":""},{"$f":"IF($G37=0,\"\",IF(INDEX(itineraryPrograms,numericItinerary(M$3),$J37)=\"y\",\"X\",\"\"))","v":""},{"$f":"IF($G37=0,\"\",IF(INDEX(itineraryPrograms,numericItinerary(N$3),$J37)=\"y\",\"X\",\"\"))","v":""},{"$f":"IF($G37=0,\"\",IF(INDEX(itineraryPrograms,numericItinerary(O$3),$J37)=\"y\",\"X\",\"\"))","v":""},{"$f":"IF($G37=0,\"\",IF(INDEX(itineraryPrograms,numericItinerary(P$3),$J37)=\"y\",\"X\",\"\"))","v":""},34]
[null,null,null,null,null,null,"Fly Tying",73,null,12,{"$f":"IF($G38=0,\"\",IF(INDEX(itineraryPrograms,numericItinerary(K$3),$J38)=\"y\",\"X\",\"\"))","v":""},{"$f":"IF($G38=0,\"\",IF(INDEX(itineraryPrograms,numericItinerary(L$3),$J38)=\"y\",\"X\",\"\"))","v":""},{"$f":"IF($G38=0,\"\",IF(INDEX(itineraryPrograms,numericItinerary(M$3),$J38)=\"y\",\"X\",\"\"))","v":""},{"$f":"IF($G38=0,\"\",IF(INDEX(itineraryPrograms,numericItinerary(N$3),$J38)=\"y\",\"X\",\"\"))","v":""},{"$f":"IF($G38=0,\"\",IF(INDEX(itineraryPrograms,numericItinerary(O$3),$J38)=\"y\",\"X\",\"\"))","v":""},{"$f":"IF($G38=0,\"\",IF(INDEX(itineraryPrograms,numericItinerary(P$3),$J38)=\"y\",\"X\",\"\"))","v":""},35]
[null,null,null,null,null,null,"Hunter Safety",71,null,17,{"$f":"IF($G39=0,\"\",IF(INDEX(itineraryPrograms,numericItinerary(K$3),$J39)=\"y\",\"X\",\"\"))","v":""},{"$f":"IF($G39=0,\"\",IF(INDEX(itineraryPrograms,numericItinerary(L$3),$J39)=\"y\",\"X\",\"\"))","v":""},{"$f":"IF($G39=0,\"\",IF(INDEX(itineraryPrograms,numericItinerary(M$3),$J39)=\"y\",\"X\",\"\"))","v":""},{"$f":"IF($G39=0,\"\",IF(INDEX(itineraryPrograms,numericItinerary(N$3),$J39)=\"y\",\"X\",\"\"))","v":""},{"$f":"IF($G39=0,\"\",IF(INDEX(itineraryPrograms,numericItinerary(O$3),$J39)=\"y\",\"X\",\"\"))","v":""},{"$f":"IF($G39=0,\"\",IF(INDEX(itineraryPrograms,numericItinerary(P$3),$J39)=\"y\",\"X\",\"\"))","v":""},36]
[null,null,null,null,null,null,"Mine Tour",69,null,23,{"$f":"IF($G40=0,\"\",IF(INDEX(itineraryPrograms,numericItinerary(K$3),$J40)=\"y\",\"X\",\"\"))","v":""},{"$f":"IF($G40=0,\"\",IF(INDEX(itineraryPrograms,numericItinerary(L$3),$J40)=\"y\",\"X\",\"\"))","v":"X"},{"$f":"IF($G40=0,\"\",IF(INDEX(itineraryPrograms,numericItinerary(M$3),$J40)=\"y\",\"X\",\"\"))","v":""},{"$f":"IF($G40=0,\"\",IF(INDEX(itineraryPrograms,numericItinerary(N$3),$J40)=\"y\",\"X\",\"\"))","v":""},{"$f":"IF($G40=0,\"\",IF(INDEX(itineraryPrograms,numericItinerary(O$3),$J40)=\"y\",\"X\",\"\"))","v":"X"},{"$f":"IF($G40=0,\"\",IF(INDEX(itineraryPrograms,numericItinerary(P$3),$J40)=\"y\",\"X\",\"\"))","v":"X"},37]
[null,null,null,null,null,null,"Jicarilla Apache Life",62,null,19,{"$f":"IF($G41=0,\"\",IF(INDEX(itineraryPrograms,numericItinerary(K$3),$J41)=\"y\",\"X\",\"\"))","v":""},{"$f":"IF($G41=0,\"\",IF(INDEX(itineraryPrograms,numericItinerary(L$3),$J41)=\"y\",\"X\",\"\"))","v":""},{"$f":"IF($G41=0,\"\",IF(INDEX(itineraryPrograms,numericItinerary(M$3),$J41)=\"y\",\"X\",\"\"))","v":""},{"$f":"IF($G41=0,\"\",IF(INDEX(itineraryPrograms,numericItinerary(N$3),$J41)=\"y\",\"X\",\"\"))","v":""},{"$f":"IF($G41=0,\"\",IF(INDEX(itineraryPrograms,numericItinerary(O$3),$J41)=\"y\",\"X\",\"\"))","v":""},{"$f":"IF($G41=0,\"\",IF(INDEX(itineraryPrograms,numericItinerary(P$3),$J41)=\"y\",\"X\",\"\"))","v":""},38]
[null,null,null,null,null,null,"Demonstration Forest",61,{"$f":"COUNTIF(K42:P42,\"X\")","v":3},10,{"$f":"IF($G42=0,\"\",IF(INDEX(itineraryPrograms,numericItinerary(K$3),$J42)=\"y\",\"X\",\"\"))","v":"X"},{"$f":"IF($G42=0,\"\",IF(INDEX(itineraryPrograms,numericItinerary(L$3),$J42)=\"y\",\"X\",\"\"))","v":"X"},{"$f":"IF($G42=0,\"\",IF(INDEX(itineraryPrograms,numericItinerary(M$3),$J42)=\"y\",\"X\",\"\"))","v":""},{"$f":"IF($G42=0,\"\",IF(INDEX(itineraryPrograms,numericItinerary(N$3),$J42)=\"y\",\"X\",\"\"))","v":""},{"$f":"IF($G42=0,\"\",IF(INDEX(itineraryPrograms,numericItinerary(O$3),$J42)=\"y\",\"X\",\"\"))","v":"X"},{"$f":"IF($G42=0,\"\",IF(INDEX(itineraryPrograms,numericItinerary(P$3),$J42)=\"y\",\"X\",\"\"))","v":""},39]
[null,null,null,null,null,null,"Rocky Mountain Fur Co.",61,{"$f":"COUNTIF(K43:P43,\"X\")","v":3},32,{"$f":"IF($G43=0,\"\",IF(INDEX(itineraryPrograms,numericItinerary(K$3),$J43)=\"y\",\"X\",\"\"))","v":"X"},{"$f":"IF($G43=0,\"\",IF(INDEX(itineraryPrograms,numericItinerary(L$3),$J43)=\"y\",\"X\",\"\"))","v":""},{"$f":"IF($G43=0,\"\",IF(INDEX(itineraryPrograms,numericItinerary(M$3),$J43)=\"y\",\"X\",\"\"))","v":"X"},{"$f":"IF($G43=0,\"\",IF(INDEX(itineraryPrograms,numericItinerary(N$3),$J43)=\"y\",\"X\",\"\"))","v":""},{"$f":"IF($G43=0,\"\",IF(INDEX(itineraryPrograms,numericItinerary(O$3),$J43)=\"y\",\"X\",\"\"))","v":"X"},{"$f":"IF($G43=0,\"\",IF(INDEX(itineraryPrograms,numericItinerary(P$3),$J43)=\"y\",\"X\",\"\"))","v":""},40]
[null,null,null,null,null,null,"Trail Peak",93,null,49,{"$f":"COUNTIF(K3:K42,\"X\")","v":9},15,11,14,14,15]
[null,null,null,null,null,null,"Western Lore/Branding",0,null,50,{"$f":"K3","v":"9-4"},"9-15","9-3","9-2","9-8","9-7"]
[null,null,null,null,null,null,null,{"$f":"MIN(H4:H43)","v":61},"Min"]
[null,null,null,null,null,null,null,{"$f":"MAX(H4:H43)","v":225},"Max"]

{"sheet":"Itinerary Details","index":6,"n_rows":26,"n_cols":34,"rows_kept":26,"cut":false,"hidden":false,"merged":[[20,15,20,17],[21,15,21,17],[22,15,22,17],[23,15,23,17],[15,15,15,17],[16,15,16,17],[19,15,19,17],[17,15,17,17],[5,10,5,11],[4,14,4,16],[5,14,5,16],[14,15,14,17],[11,1,11,18],[12,1,12,18],[7,4,7,5],[8,4,8,5],[14,12,14,13],[13,10,13,13],[7,10,7,14],[19,4,19,9],[20,4,20,9],[15,1,15,2],[16,1,16,2],[16,12,16,13],[19,1,19,2],[20,1,20,2],[15,12,15,13],[17,1,17,2],[17,4,17,9],[17,12,17,13],[0,0,0,18],[15,4,15,9],[16,4,16,9],[5,0,5,1],[6,0,6,1],[7,0,7,1],[8,0,8,1],[9,0,9,1],[10,0,10,1],[4,4,4,5],[5,4,5,5],[14,4,14,8],[1,3,1,18],[6,4,6,5],[9,3,10,6],[4,10,4,11],[18,1,18,2],[18,4,18,9],[18,12,18,13],[18,15,18,17],[24,11,24,13],[21,12,21,13],[22,12,22,13],[23,12,23,13],[23,1,23,2],[23,4,23,9],[21,4,21,9],[22,4,22,9],[21,1,21,2],[22,1,22,2],[19,12,19,13],[20,12,20,13]]}
["Itinerary Information"]
["Itinerary Number:",null,"9-1"]
["Expedition Number:",null,"608-9A"]
[null,null," "]
["Classification:",null,{"$f":"VLOOKUP(INDEX(classification,numericItinerary(itineraryNumber)),difficultyTable,2)","v":"Challenging"},null,"Staffed Camps:",null,{"$f":"getNcamps(\"Staff\",itineraryNumber)","v":"4"},null,null,"Area(s):",{"$f":"getCountry(numericItinerary(itineraryNumber))","v":"Central, North"},null,null,"Starting:",{"$f":"AA25","v":"Turkey Creek Trailhead"}]
["Distance:",null,{"$f":"INDEX(distance,numericItinerary(itineraryNumber))","v":37},null,"Trail Camps:",null,{"$f":"getNcamps(\"Trail\",itineraryNumber)","v":"6"},null,null,"Map(s):",{"$f":"getMaps(numericItinerary(itineraryNumber))","v":"North, South"},null,null,"Ending:",{"$f":"AB25","v":"Hike In"}]
["Initial/Max Days Food:",null,{"$f":"getFoodDays(itineraryNumber)","v":"2/2"},null,"Layovers:",null,{"$f":"getNcamps(\"Layover\",itineraryNumber)","v":"2"}]
["Return via Tooth:",null,{"$f":"IF(INDEX(viaTooth,numericItinerary(itineraryNumber))=\"y\",\"Yes\",\"No\")","v":"No"},null,"Dry Camps",null,{"$f":"getNcamps(\"Dry\",itineraryNumber)","v":"1"},null,null,"Peaks:",{"$f":"getPeakS(numericItinerary(itineraryNumber))","v":"Baldy Mountain"}]
["Min/Max Altitude:",null,{"$f":"getAltitude(\"Min\",itineraryNumber) & \"/\" & getAltitude(\"Max\",itineraryNumber)","v":"6,979/8,515"},null,"Showers",null,{"$f":"COUNTIF(nShowers,\"y\")","v":2}]
["Total Altitude Change:",null,{"$f":"getAltitude(\"Chg\",itineraryNumber)","v":"1,536"},"Elevation information shown here is based on beginning/ending campsite altitudes, not any peaks or side hikes."]
["Daily Altitude Change:",null,{"$f":"getAltitude(\"Avg\",itineraryNumber)","v":"791"}]
["Description:",{"$f":"INDEX(descriptions,numericItinerary(itineraryNumber))","v":"This itinerary will give you a first-hand look at Mother Nature’s recovery efforts after the 2018 Ute Park Fire. Your adventure begins with a short bus ride to the Turkey Creek trailhead. After additional training from your Ranger, you’ll make your way to Harlan along the Vaca Trail - the very first Order of the Arrow Trail Crew project. Take in the Palisades Rock formation that evening as the sun lights it up. Learn to reload 12-gauge shotgun shells and then put them to use at the skeet range the next morning before heading to Devils Wash Basin. Continue through the burn scar to your next destination, Cimarroncita for 3-D Archery and the Laser Shooting Range. Black Jacks, deep in Turkey Canyon is your next target. From there head to Elkhorn where you will work on a new trail to complete your Conservation Project. Head over to Ponil the next day for a mountain horseback ride, Western lore, and branding. After your Chuckwagon dinner, enjoy a root beer in the cantina with your crew and take in the Cantina Show. Get a good night’s sleep for an early start the next morning as you conquer Hart Peak, the highest point on Philmont back in 1939 when Ponil was original base camp and headquarters, and then head to Indian Writings. Check out the Atlatl darts and then head back in time for the Petroglyph Tour. On your way to the Six Mile Gate turnaround be sure to go back a little further in time as you check out the first T-Rex track ever discovered. Enjoy your bus ride back to Base Camp as you and your crew reminisce on your exciting adventure!"}]
["Programs:",{"$f":"getPrograms(numericItinerary(itineraryNumber))","v":"Archaeology, Archery - 3 Dimensional, Atlatl (Dart-throwing), Cantina, Chuckwagon Dinner, Horse Rides, Laser Shot Shooting Range, Mountaineering, Petroglyph Tour, Shotgun Shooting/Reloading - 12 Gauge, Western Lore/Branding"}]
[null,null,null,null,null,null,null,null,null,null,"UTM Coordinates"]
[null,"Date:",null,"Day","Campsite",null,null,null,null,null,"Elevation","Easting","Northing",null,"Food Pickup","Cross US-64",null,null,null,null,null,null,null,"Elevation","Change","Date","Day","CAMP","Type","Dry","Showers","Commissary","Trading Post","Map"]
[null,{"$f":"AA16 & \" (\" & TEXT(Z16,\"m/d/yyyy\") & \")\"","v":"Saturday (6/8/2024)"},null,1,"Camping HQ",null,null,null,null,null,{"$f":"TEXT(INDEX(campLocation,MATCH(AB16,camps,0),5),\"##,##0\")","v":"6,696"},{"$f":"INDEX(campInfo,MATCH(AB16,camps),3)","v":503848},{"$f":"INDEX(campInfo,MATCH(AB16,camps),4)","v":4034364},null,null,{"$f":"getUS64crossingdirection(itineraryNumber,D16)","v":""},null,null,null,null,null,null,null,{"$f":"INT(K16)","v":6696},0,{"$f":"expeditionStartDate(itinExpeditionNo)","v":"2024-06-08"},{"$f":"INDEX({\"Sunday\",\"Monday\",\"Tuesday\",\"Wednesday\",\"Thursday\",\"Friday\",\"Saturday\"},WEEKDAY(Z16))","v":"Saturday"},"Camping HQ",null,{"$f":"INDEX(campInfo,MATCH($AB16,camps),10)","v":""},{"$f":"INDEX(campInfo,MATCH($AB16,camps),11)","v":""},{"$f":"INDEX(campInfo,MATCH($AB16,camps),6)","v":""},{"$f":"INDEX(campInfo,MATCH($AB16,camps),7)","v":""},{"$f":"VLOOKUP($AB16,campInfo,12)","v":"South"}]
[null,{"$f":"AA17 & \" (\" & TEXT(Z17,\"m/d/yyyy\") & \")\"","v":"Sunday (6/9/2024)"},null,{"$f":"D16+1","v":2},{"$f":"getCampWithInfo(AB17,AC17,AD17,AE17,AF17,AG17)","v":"HARLAN"},null,null,null,null,null,"7,550",498402,4041184,null,{"$f":"INDEX(foodPickups,numericItinerary(itineraryNumber),D17-1)","v":"Camping HQ"},{"$f":"getUS64crossingdirection(itineraryNumber,D17)","v":""},null,null,null,null,null,null,null,7550,{"$f":"X17-X16","v":854},{"$f":"Z16+1","v":"2024-06-09"},{"$f":"INDEX({\"Sunday\",\"Monday\",\"Tuesday\",\"Wednesday\",\"Thursday\",\"Friday\",\"Saturday\"},WEEKDAY(Z17))","v":"Sunday"},"Harlan",{"$f":"IF(VLOOKUP($AB17,campInfo,8)=\"Y\",\"Staff\",\"Trail\")","v":"Staff"},{"$f":"VLOOKUP($AB17,campInfo,10)","v":""},{"$f":"VLOOKUP($AB17,campInfo,11)","v":""},{"$f":"VLOOKUP($AB17,campInfo,6)","v":""},{"$f":"VLOOKUP($AB17,campInfo,7)","v":""},"South"]
[null,{"$f":"AA18 & \" (\" & TEXT(Z18,\"m/d/yyyy\") & \")\"","v":"Monday (6/10/2024)"},null,{"$f":"D17+1","v":3},{"$f":"getCampWithInfo(AB18,AC18,AD18,AE18,AF18,AG18)","v":"Devil's Wash Basin (Dry)"},null,null,null,null,null,{"$f":"TEXT(INDEX(campLocation,MATCH(AB18,camps,0),5),\"##,##0\")","v":"8,515"},494932,4042281,null,{"$f":"INDEX(foodPickups,numericItinerary(itineraryNumber),D18-1)","v":0},{"$f":"getUS64crossingdirection(itineraryNumber,D18)","v":""},null,null,null,null,null,null,null,{"$f":"INT(K18)","v":8515},{"$f":"X18-X17","v":965},{"$f":"Z17+1","v":"2024-06-10"},{"$f":"INDEX({\"Sunday\",\"Monday\",\"Tuesday\",\"Wednesday\",\"Thursday\",\"Friday\",\"Saturday\"},WEEKDAY(Z18))","v":"Monday"},"Devil's Wash Basin","Trail","Y","","","","South"]
[null,"Tuesday (6/11/2024)",null,4,{"$f":"getCampWithInfo(AB19,AC19,AD19,AE19,AF19,AG19)","v":"CIMARRONCITA"},null,null,null,null,null,{"$f":"TEXT(INDEX(campLocation,MATCH(AB19,camps,0),5),\"##,##0\")","v":"7,373"},492337.15110000002,4045746.6666999999,null,{"$f":"INDEX(foodPickups,numericItinerary(itineraryNumber),D19-1)","v":"Cimarroncita"},{"$f":"getUS64crossingdirection(itineraryNumber,D19)","v":""},null,null,null,null,null,null,null,7373,-1142,"2024-06-11",{"$f":"INDEX({\"Sunday\",\"Monday\",\"Tuesday\",\"Wednesday\",\"Thursday\",\"Friday\",\"Saturday\"},WEEKDAY(Z19))","v":"Tuesday"},"Cimarroncita","Staff","",0,0,0,"North & South"]
[null,"Wednesday (6/12/2024)",null,5,{"$f":"getCampWithInfo(AB20,AC20,AD20,AE20,AF20,AG20)","v":"Black Jacks"},null,null,null,null,null,"8,211",496177,4047265,null,{"$f":"INDEX(foodPickups,numericItinerary(itineraryNumber),D20-1)","v":0},{"$f":"getUS64crossingdirection(itineraryNumber,D20)","v":""},null,null,null,null,null,null,null,8211,838,"2024-06-12",{"$f":"INDEX({\"Sunday\",\"Monday\",\"Tuesday\",\"Wednesday\",\"Thursday\",\"Friday\",\"Saturday\"},WEEKDAY(Z20))","v":"Wednesday"},"Black Jacks","Trail","","","","","North"]
[null,"Thursday (6/13/2024)",null,6,{"$f":"getCampWithInfo(AB21,AC21,AD21,AE21,AF21,AG21)","v":"Elkhorn"},null,null,null,null,null,"8,496",492424,4051874,null,{"$f":"INDEX(foodPickups,numericItinerary(itineraryNumber),D21-1)","v":0},{"$f":"getUS64crossingdirection(itineraryNumber,D21)","v":""},null,null,null,null,null,null,null,8496,285,"2024-06-13",{"$f":"INDEX({\"Sunday\",\"Monday\",\"Tuesday\",\"Wednesday\",\"Thursday\",\"Friday\",\"Saturday\"},WEEKDAY(Z21))","v":"Thursday"},"Elkhorn","Trail","","","","","North"]
[null,"Friday (6/14/2024)",null,7,{"$f":"getCampWithInfo(AB22,AC22,AD22,AE22,AF22,AG22)","v":"PONIL (Showers, Commissary, Trading Post)"},null,null,null,null,null,"7,150",496696.54700000002,4053001.2755,null,{"$f":"INDEX(foodPickups,numericItinerary(itineraryNumber),D22-1)","v":"Ponil"},{"$f":"getUS64crossingdirection(itineraryNumber,D22)","v":""},null,null,null,null,null,null,null,7150,-1346,"2024-06-14",{"$f":"INDEX({\"Sunday\",\"Monday\",\"Tuesday\",\"Wednesday\",\"Thursday\",\"Friday\",\"Saturday\"},WEEKDAY(Z22))","v":"Friday"},"Ponil","Staff","","Y","Y","Y","North"]
[null,"Saturday (6/15/2024)",null,8,{"$f":"getCampWithInfo(AB23,AC23,AD23,AE23,AF23,AG23)","v":"INDIAN WRITINGS (Showers)"},null,null,null,null,null,"6,979",500421,4053139,null,{"$f":"INDEX(foodPickups,numericItinerary(itineraryNumber),D23-1)","v":0},{"$f":"getUS64crossingdirection(itineraryNumber,D23)","v":""},null,null,null,null,null,null,null,6979,-171,"2024-06-15",{"$f":"INDEX({\"Sunday\",\"Monday\",\"Tuesday\",\"Wednesday\",\"Thursday\",\"Friday\",\"Saturday\"},WEEKDAY(Z23))","v":"Saturday"},"Indian Writings","Staff","","Y","","","North"]
[null,"Sunday (6/16/2024)",null,9,"Camping HQ",null,null,null,null,null,"6,696",503848,4034364,null,null,{"$f":"getUS64crossingdirection(itineraryNumber,D24)","v":""},null,null,null,null,null,null,null,6696,-283,"2024-06-16",{"$f":"INDEX({\"Sunday\",\"Monday\",\"Tuesday\",\"Wednesday\",\"Thursday\",\"Friday\",\"Saturday\"},WEEKDAY(Z24))","v":"Sunday"},"Camping HQ",null,{"$f":"INDEX(campInfo,MATCH($AB24,camps),10)","v":""},{"$f":"INDEX(campInfo,MATCH($AB24,camps),11)","v":""},{"$f":"INDEX(campInfo,MATCH($AB24,camps),6)","v":""},{"$f":"INDEX(campInfo,MATCH($AB24,camps),7)","v":""},"South"]
[null,null,null,null,null,null,null,null,null,null,null,"NAD 3/Zone 13\n* Estimated coordinates",null,null,null,null,null,null,null,null,null,null,null,null,null,null,{"$f":"getstartendinfo(\"S\",itineraryNumber)","v":"Turkey Creek Trailhead"},"Hike In"]
[null,null,null,null,null,null,null,null,null,null,null,null,null,null,null,null,null,null,null,null,null,null,null,null,null,null,null,"BASE"]

{"sheet":"Itinerary Xref Chart","index":7,"n_rows":49,"n_cols":19,"rows_kept":49,"cut":false,"hidden":false,"merged":[[0,1,4,1],[45,0,45,1]]}
["ITINERARY NUMBERS:","# times in \nItineraries",{"$f":"INDEX(itineraryNumbers,COLUMN()-2)","v":"9-1"},{"$f":"INDEX(itineraryNumbers,COLUMN()-2)","v":"9-2"},{"$f":"INDEX(itineraryNumbers,COLUMN()-2)","v":"9-3"},{"$f":"INDEX(itineraryNumbers,COLUMN()-2)","v":"9-4"},{"$f":"INDEX(itineraryNumbers,COLUMN()-2)","v":"9-5"},{"$f":"INDEX(itineraryNumbers,COLUMN()-2)","v":"9-6"},{"$f":"INDEX(itineraryNumbers,COLUMN()-2)","v":"9-7"},{"$f":"INDEX(itineraryNumbers,COLUMN()-2)","v":"9-8"},{"$f":"INDEX(itineraryNumbers,COLUMN()-2)","v":"9-9"},{"$f":"INDEX(itineraryNumbers,COLUMN()-2)","v":"9-10"},{"$f":"INDEX(itineraryNumbers,COLUMN()-2)","v":"9-11"},{"$f":"INDEX(itineraryNumbers,COLUMN()-2)","v":"9-12"},{"$f":"INDEX(itineraryNumbers,COLUMN()-2)","v":"9-13"},{"$f":"INDEX(itineraryNumbers,COLUMN()-2)","v":"9-14"},{"$f":"INDEX(itineraryNumbers,COLUMN()-2)","v":"9-15"},null,"Check"]
["Hiking Difficulty",null,{"$f":"INDEX(classification,numericItinerary(C1))","v":"C"},{"$f":"INDEX(classification,numericItinerary(D1))","v":"C"},{"$f":"INDEX(classification,numericItinerary(E1))","v":"C"},{"$f":"INDEX(classification,numericItinerary(F1))","v":"C"},{"$f":"INDEX(classification,numericItinerary(G1))","v":"R"},{"$f":"INDEX(classification,numericItinerary(H1))","v":"R"},{"$f":"INDEX(classification,numericItinerary(I1))","v":"R"},{"$f":"INDEX(classification,numericItinerary(J1))","v":"R"},{"$f":"INDEX(classification,numericItinerary(K1))","v":"S"},{"$f":"INDEX(classification,numericItinerary(L1))","v":"S"},{"$f":"INDEX(classification,numericItinerary(M1))","v":"S"},{"$f":"INDEX(classification,numericItinerary(N1))","v":"S"},{"$f":"INDEX(classification,numericItinerary(O1))","v":"SS"},{"$f":"INDEX(classification,numericItinerary(P1))","v":"SS"},{"$f":"INDEX(classification,numericItinerary(Q1))","v":"SS"}]
["Distance (Approximately)",null,{"$f":"INDEX(distance,numericItinerary(C1))","v":37},{"$f":"INDEX(distance,numericItinerary(D1))","v":39},{"$f":"INDEX(distance,numericItinerary(E1))","v":41},{"$f":"INDEX(distance,numericItinerary(F1))","v":44},{"$f":"INDEX(distance,numericItinerary(G1))","v":46},{"$f":"INDEX(distance,numericItinerary(H1))","v":46},{"$f":"INDEX(distance,numericItinerary(I1))","v":46},{"$f":"INDEX(distance,numericItinerary(J1))","v":46},{"$f":"INDEX(distance,numericItinerary(K1))","v":49},{"$f":"INDEX(distance,numericItinerary(L1))","v":50},{"$f":"INDEX(distance,numericItinerary(M1))","v":51},{"$f":"INDEX(distance,numericItinerary(N1))","v":52},{"$f":"INDEX(distance,numericItinerary(O1))","v":50},{"$f":"INDEX(distance,numericItinerary(P1))","v":56},{"$f":"INDEX(distance,numericItinerary(Q1))","v":70},null,{"$f":"SUM(C3:Q3)","v":723}]
["Trail Camps",null,{"$f":"countcamps(itineraryTrail,numericItinerary(C$1))","v":6},{"$f":"countcamps(itineraryTrail,numericItinerary(D$1))","v":7},{"$f":"countcamps(itineraryTrail,numericItinerary(E$1))","v":5},{"$f":"countcamps(itineraryTrail,numericItinerary(F$1))","v":7},{"$f":"countcamps(itineraryTrail,numericItinerary(G$1))","v":7},{"$f":"countcamps(itineraryTrail,numericItinerary(H$1))","v":8},{"$f":"countcamps(itineraryTrail,numericItinerary(I$1))","v":6},{"$f":"countcamps(itineraryTrail,numericItinerary(J$1))","v":7},{"$f":"countcamps(itineraryTrail,numericItinerary(K$1))","v":8},{"$f":"countcamps(itineraryTrail,numericItinerary(L$1))","v":6},{"$f":"countcamps(itineraryTrail,numericItinerary(M$1))","v":6},{"$f":"countcamps(itineraryTrail,numericItinerary(N$1))","v":7},{"$f":"countcamps(itineraryTrail,numericItinerary(O$1))","v":7},{"$f":"countcamps(itineraryTrail,numericItinerary(P$1))","v":7},{"$f":"countcamps(itineraryTrail,numericItinerary(Q$1))","v":6},null,{"$f":"SUM(C4:Q4)","v":100}]
["Dry Camps",null,{"$f":"countcamps(itineraryStaff,numericItinerary(C$1))","v":4},{"$f":"countcamps(itineraryStaff,numericItinerary(D$1))","v":3},{"$f":"countcamps(itineraryStaff,numericItinerary(E$1))","v":5},{"$f":"countcamps(itineraryStaff,numericItinerary(F$1))","v":3},{"$f":"countcamps(itineraryStaff,numericItinerary(G$1))","v":3},{"$f":"countcamps(itineraryStaff,numericItinerary(H$1))","v":2},{"$f":"countcamps(itineraryStaff,numericItinerary(I$1))","v":4},{"$f":"countcamps(itineraryStaff,numericItinerary(J$1))","v":3},{"$f":"countcamps(itineraryStaff,numericItinerary(K$1))","v":2},{"$f":"countcamps(itineraryStaff,numericItinerary(L$1))","v":4},{"$f":"countcamps(itineraryStaff,numericItinerary(M$1))","v":4},{"$f":"countcamps(itineraryStaff,numericItinerary(N$1))","v":3},{"$f":"countcamps(itineraryStaff,numericItinerary(O$1))","v":3},{"$f":"countcamps(itineraryStaff,numericItinerary(P$1))","v":3},{"$f":"countcamps(itineraryStaff,numericItinerary(Q$1))","v":4},null,{"$f":"SUM(C5:Q5)","v":50}]
[{"$f":"INDEX(program_table,ROW()-5)","v":"Archaeology"},{"$f":"COUNTIF(C6:Q6,\"X\")","v":2},{"$f":"getProgramXref($A6,numericItinerary(C$1))","v":"x"},{"$f":"getProgramXref($A6,numericItinerary(D$1))","v":"x"},{"$f":"getProgramXref($A6,numericItinerary(E$1))","v":""},{"$f":"getProgramXref($A6,numericItinerary(F$1))","v":""},{"$f":"getProgramXref($A6,numericItinerary(G$1))","v":""},{"$f":"getProgramXref($A6,numericItinerary(H$1))","v":""},{"$f":"getProgramXref($A6,numericItinerary(I$1))","v":""},{"$f":"getProgramXref($A6,numericItinerary(J$1))","v":""},{"$f":"getProgramXref($A6,numericItinerary(K$1))","v":""},{"$f":"getProgramXref($A6,numericItinerary(L$1))","v":""},{"$f":"getProgramXref($A6,numericItinerary(M$1))","v":""},{"$f":"getProgramXref($A6,numericItinerary(N$1))","v":""},{"$f":"getProgramXref($A6,numericItinerary(O$1))","v":""},{"$f":"getProgramXref($A6,numericItinerary(P$1))","v":""},{"$f":"getProgramXref($A6,numericItinerary(Q$1))","v":""},null,{"$f":"COUNTIF(C6:Q6,\"X\")","v":2}]
[{"$f":"INDEX(program_table,ROW()-5)","v":"Archery - 3 Dimensional"},7,{"$f":"getProgramXref($A7,numericItinerary(C$1))","v":"x"},{"$f":"getProgramXref($A7,numericItinerary(D$1))","v":""},{"$f":"getProgramXref($A7,numericItinerary(E$1))","v":""},{"$f":"getProgramXref($A7,numericItinerary(F$1))","v":""},{"$f":"getProgramXref($A7,numericItinerary(G$1))","v":""},{"$f":"getProgramXref($A7,numericItinerary(H$1))","v":""},{"$f":"getProgramXref($A7,numericItinerary(I$1))","v":""},{"$f":"getProgramXref($A7,numericItinerary(J$1))","v":"x"},{"$f":"getProgramXref($A7,numericItinerary(K$1))","v":"x"},{"$f":"getProgramXref($A7,numericItinerary(L$1))","v":"x"},{"$f":"getProgramXref($A7,numericItinerary(M$1))","v":""},{"$f":"getProgramXref($A7,numericItinerary(N$1))","v":"x"},{"$f":"getProgramXref($A7,numericItinerary(O$1))","v":""},{"$f":"getProgramXref($A7,numericItinerary(P$1))","v":"x"},{"$f":"getProgramXref($A7,numericItinerary(Q$1))","v":"x"},null,7]
[{"$f":"INDEX(program_table,ROW()-5)","v":"Atlatl (Dart-throwing)"},2,{"$f":"getProgramXref($A8,numericItinerary(C$1))","v":"x"},{"$f":"getProgramXref($A8,numericItinerary(D$1))","v":"x"},{"$f":"getProgramXref($A8,numericItinerary(E$1))","v":""},{"$f":"getProgramXref($A8,numericItinerary(F$1))","v":""},{"$f":"getProgramXref($A8,numericItinerary(G$1))","v":""},{"$f":"getProgramXref($A8,numericItinerary(H$1))","v":""},{"$f":"getProgramXref($A8,numericItinerary(I$1))","v":""},{"$f":"getProgramXref($A8,numericItinerary(J$1))","v":""},{"$f":"getProgramXref($A8,numericItinerary(K$1))","v":""},{"$f":"getProgramXref($A8,numericItinerary(L$1))","v":""},{"$f":"getProgramXref($A8,numericItinerary(M$1))","v":""},{"$f":"getProgramXref($A8,numericItinerary(N$1))","v":""},{"$f":"getProgramXref($A8,numericItinerary(O$1))","v":""},{"$f":"getProgramXref($A8,numericItinerary(P$1))","v":""},{"$f":"getProgramXref($A8,numericItinerary(Q$1))","v":""},null,2]
[{"$f":"INDEX(program_table,ROW()-5)","v":"Baldy Mountain"},7,{"$f":"getProgramXref($A9,numericItinerary(C$1))","v":""},{"$f":"getProgramXref($A9,numericItinerary(D$1))","v":"x"},{"$f":"getProgramXref($A9,numericItinerary(E$1))","v":""},{"$f":"getProgramXref($A9,numericItinerary(F$1))","v":""},{"$f":"getProgramXref($A9,numericItinerary(G$1))","v":"x"},{"$f":"getProgramXref($A9,numericItinerary(H$1))","v":"x"},{"$f":"getProgramXref($A9,numericItinerary(I$1))","v":"x"},{"$f":"getProgramXref($A9,numericItinerary(J$1))","v":""},{"$f":"getProgramXref($A9,numericItinerary(K$1))","v":"x"},{"$f":"getProgramXref($A9,numericItinerary(L$1))","v":""},{"$f":"getProgramXref($A9,numericItinerary(M$1))","v":""},{"$f":"getProgramXref($A9,numericItinerary(N$1))","v":""},{"$f":"getProgramXref($A9,numericItinerary(O$1))","v":""},{"$f":"getProgramXref($A9,numericItinerary(P$1))","v":"x"},{"$f":"getProgramXref($A9,numericItinerary(Q$1))","v":"x"},null,7]
[{"$f":"INDEX(program_table,ROW()-5)","v":"Blacksmithing"},10,{"$f":"getProgramXref($A10,numericItinerary(C$1))","v":""},{"$f":"getProgramXref($A10,numericItinerary(D$1))","v":"x"},{"$f":"getProgramXref($A10,numericItinerary(E$1))","v":"x"},{"$f":"getProgramXref($A10,numericItinerary(F$1))","v":""},{"$f":"getProgramXref($A10,numericItinerary(G$1))","v":"x"},{"$f":"getProgramXref($A10,numericItinerary(H$1))","v":"x"},{"$f":"getProgramXref($A10,numericItinerary(I$1))","v":"x"},{"$f":"getProgramXref($A10,numericItinerary(J$1))","v":"x"},{"$f":"getProgramXref($A10,numericItinerary(K$1))","v":""},{"$f":"getProgramXref($A10,numericItinerary(L$1))","v":""},{"$f":"getProgramXref($A10,numericItinerary(M$1))","v":"x"},{"$f":"getProgramXref($A10,numericItinerary(N$1))","v":""},{"$f":"getProgramXref($A10,numericItinerary(O$1))","v":"x"},{"$f":"getProgramXref($A10,numericItinerary(P$1))","v":"x"},{"$f":"getProgramXref($A10,numericItinerary(Q$1))","v":"x"},null,10]
[{"$f":"INDEX(program_table,ROW()-5)","v":"Campfire (evening)"},13,{"$f":"getProgramXref($A11,numericItinerary(C$1))","v":""},{"$f":"getProgramXref($A11,numericItinerary(D$1))","v":"x"},{"$f":"getProgramXref($A11,numericItinerary(E$1))","v":"x"},{"$f":"getProgramXref($A11,numericItinerary(F$1))","v":"x"},{"$f":"getProgramXref($A11,numericItinerary(G$1))","v":"x"},{"$f":"getProgramXref($A11,numericItinerary(H$1))","v":"x"},{"$f":"getProgramXref($A11,numericItinerary(I$1))","v":"x"},{"$f":"getProgramXref($A11,numericItinerary(J$1))","v":"x"},{"$f":"getProgramXref($A11,numericItinerary(K$1))","v":""},{"$f":"getProgramXref($A11,numericItinerary(L$1))","v":"x"},{"$f":"getProgramXref($A11,numericItinerary(M$1))","v":"x"},{"$f":"getProgramXref($A11,numericItinerary(N$1))","v":"x"},{"$f":"getProgramXref($A11,numericItinerary(O$1))","v":"x"},{"$f":"getProgramXref($A11,numericItinerary(P$1))","v":"x"},{"$f":"getProgramXref($A11,numericItinerary(Q$1))","v":"x"},null,13]
[{"$f":"INDEX(program_table,ROW()-5)","v":"Cantina"},9,{"$f":"getProgramXref($A12,numericItinerary(C$1))","v":"x"},{"$f":"getProgramXref($A12,numericItinerary(D$1))","v":"x"},{"$f":"getProgramXref($A12,numericItinerary(E$1))","v":""},{"$f":"getProgramXref($A12,numericItinerary(F$1))","v":""},{"$f":"getProgramXref($A12,numericItinerary(G$1))","v":"x"},{"$f":"getProgramXref($A12,numericItinerary(H$1))","v":"x"},{"$f":"getProgramXref($A12,numericItinerary(I$1))","v":"x"},{"$f":"getProgramXref($A12,numericItinerary(J$1))","v":""},{"$f":"getProgramXref($A12,numericItinerary(K$1))","v":""},{"$f":"getProgramXref($A12,numericItinerary(L$1))","v":""},{"$f":"getProgramXref($A12,numericItinerary(M$1))","v":"x"},{"$f":"getProgramXref($A12,numericItinerary(N$1))","v":"x"},{"$f":"getProgramXref($A12,numericItinerary(O$1))","v":""},{"$f":"getProgramXref($A12,numericItinerary(P$1))","v":"x"},{"$f":"getProgramXref($A12,numericItinerary(Q$1))","v":"x"},null,9]
[{"$f":"INDEX(program_table,ROW()-5)","v":"Challenge Events"},6,{"$f":"getProgramXref($A13,numericItinerary(C$1))","v":""},{"$f":"getProgramXref($A13,numericItinerary(D$1))","v":""},{"$f":"getProgramXref($A13,numericItinerary(E$1))","v":""},{"$f":"getProgramXref($A13,numericItinerary(F$1))","v":""},{"$f":"getProgramXref($A13,numericItinerary(G$1))","v":"x"},{"$f":"getProgramXref($A13,numericItinerary(H$1))","v":"x"},{"$f":"getProgramXref($A13,numericItinerary(I$1))","v":""},{"$f":"getProgramXref($A13,numericItinerary(J$1))","v":""},{"$f":"getProgramXref($A13,numericItinerary(K$1))","v":"x"},{"$f":"getProgramXref($A13,numericItinerary(L$1))","v":"x"},{"$f":"getProgramXref($A13,numericItinerary(M$1))","v":""},{"$f":"getProgramXref($A13,numericItinerary(N$1))","v":""},{"$f":"getProgramXref($A13,numericItinerary(O$1))","v":""},{"$f":"getProgramXref($A13,numericItinerary(P$1))","v":"x"},{"$f":"getProgramXref($A13,numericItinerary(Q$1))","v":"x"},null,6]
[{"$f":"INDEX(program_table,ROW()-5)","v":"Chuckwagon Dinner"},10,{"$f":"getProgramXref($A14,numericItinerary(C$1))","v":"x"},{"$f":"getProgramXref($A14,numericItinerary(D$1))","v":""},{"$f":"getProgramXref($A14,numericItinerary(E$1))","v":"x"},{"$f":"getProgramXref($A14,numericItinerary(F$1))","v":"x"},{"$f":"getProgramXref($A14,numericItinerary(G$1))","v":"x"},{"$f":"getProgramXref($A14,numericItinerary(H$1))","v":""},{"$f":"getProgramXref($A14,numericItinerary(I$1))","v":"x"},{"$f":"getProgramXref($A14,numericItinerary(J$1))","v":"x"},{"$f":"getProgramXref($A14,numericItinerary(K$1))","v":""},{"$f":"getProgramXref($A14,numericItinerary(L$1))","v":""},{"$f":"getProgramXref($A14,numericItinerary(M$1))","v":"x"},{"$f":"getProgramXref($A14,numericItinerary(N$1))","v":"x"},{"$f":"getProgramXref($A14,numericItinerary(O$1))","v":"x"},{"$f":"getProgramXref($A14,numericItinerary(P$1))","v":""},{"$f":"getProgramXref($A14,numericItinerary(Q$1))","v":"x"},null,10]
[{"$f":"INDEX(program_table,ROW()-5)","v":"Demonstration Forest"},4,{"$f":"getProgramXref($A15,numericItinerary(C$1))","v":""},{"$f":"getProgramXref($A15,numericItinerary(D$1))","v":""},{"$f":"getProgramXref($A15,numericItinerary(E$1))","v":""},{"$f":"getProgramXref($A15,numericItinerary(F$1))","v":"x"},{"$f":"getProgramXref($A15,numericItinerary(G$1))","v":""},{"$f":"getProgramXref($A15,numericItinerary(H$1))","v":""},{"$f":"getProgramXref($A15,numericItinerary(I$1))","v":""},{"$f":"getProgramXref($A15,numericItinerary(J$1))","v":"x"},{"$f":"getProgramXref($A15,numericItinerary(K$1))","v":"x"},{"$f":"getProgramXref($A15,numericItinerary(L$1))","v":""},{"$f":"getProgramXref($A15,numericItinerary(M$1))","v":""},{"$f":"getProgramXref($A15,numericItinerary(N$1))","v":""},{"$f":"getProgramXref($A15,numericItinerary(O$1))","v":""},{"$f":"getProgramXref($A15,numericItinerary(P$1))","v":""},{"$f":"getProgramXref($A15,numericItinerary(Q$1))","v":"x"},null,4]
[{"$f":"INDEX(program_table,ROW()-5)","v":"Fishing"},1,{"$f":"getProgramXref($A16,numericItinerary(C$1))","v":""},{"$f":"getProgramXref($A16,numericItinerary(D$1))","v":""},{"$f":"getProgramXref($A16,numericItinerary(E$1))","v":""},{"$f":"getProgramXref($A16,numericItinerary(F$1))","v":""},{"$f":"getProgramXref($A16,numericItinerary(G$1))","v":""},{"$f":"getProgramXref($A16,numericItinerary(H$1))","v":""},{"$f":"getProgramXref($A16,numericItinerary(I$1))","v":""},{"$f":"getProgramXref($A16,numericItinerary(J$1))","v":""},{"$f":"getProgramXref($A16,numericItinerary(K$1))","v":""},{"$f":"getProgramXref($A16,numericItinerary(L$1))","v":"x"},{"$f":"getProgramXref($A16,numericItinerary(M$1))","v":""},{"$f":"getProgramXref($A16,numericItinerary(N$1))","v":""},{"$f":"getProgramXref($A16,numericItinerary(O$1))","v":""},{"$f":"getProgramXref($A16,numericItinerary(P$1))","v":""},{"$f":"getProgramXref($A16,numericItinerary(Q$1))","v":""},null,1]
[{"$f":"INDEX(program_table,ROW()-5)","v":"Fly Tying"},1,{"$f":"getProgramXref($A17,numericItinerary(C$1))","v":""},{"$f":"getProgramXref($A17,numericItinerary(D$1))","v":""},{"$f":"getProgramXref($A17,numericItinerary(E$1))","v":""},{"$f":"getProgramXref($A17,numericItinerary(F$1))","v":""},{"$f":"getProgramXref($A17,numericItinerary(G$1))","v":""},{"$f":"getProgramXref($A17,numericItinerary(H$1))","v":""},{"$f":"getProgramXref($A17,numericItinerary(I$1))","v":""},{"$f":"getProgramXref($A17,numericItinerary(J$1))","v":""},{"$f":"getProgramXref($A17,numericItinerary(K$1))","v":""},{"$f":"getProgramXref($A17,numericItinerary(L$1))","v":"x"},{"$f":"getProgramXref($A17,numericItinerary(M$1))","v":""},{"$f":"getProgramXref($A17,numericItinerary(N$1))","v":""},{"$f":"getProgramXref($A17,numericItinerary(O$1))","v":""},{"$f":"getProgramXref($A17,numericItinerary(P$1))","v":""},{"$f":"getProgramXref($A17,numericItinerary(Q$1))","v":""},null,1]
[{"$f":"INDEX(program_table,ROW()-5)","v":"Fur Trapper Rendezvous"},3,{"$f":"getProgramXref($A18,numericItinerary(C$1))","v":""},{"$f":"getProgramXref($A18,numericItinerary(D$1))","v":"x"},{"$f":"getProgramXref($A18,numericItinerary(E$1))","v":""},{"$f":"getProgramXref($A18,numericItinerary(F$1))","v":""},{"$f":"getProgramXref($A18,numericItinerary(G$1))","v":""},{"$f":"getProgramXref($A18,numericItinerary(H$1))","v":"x"},{"$f":"getProgramXref($A18,numericItinerary(I$1))","v":"x"},{"$f":"getProgramXref($A18,numericItinerary(J$1))","v":""},{"$f":"getProgramXref($A18,numericItinerary(K$1))","v":""},{"$f":"getProgramXref($A18,numericItinerary(L$1))","v":""},{"$f":"getProgramXref($A18,numericItinerary(M$1))","v":""},{"$f":"getProgramXref($A18,numericItinerary(N$1))","v":""},{"$f":"getProgramXref($A18,numericItinerary(O$1))","v":""},{"$f":"getProgramXref($A18,numericItinerary(P$1))","v":""},{"$f":"getProgramXref($A18,numericItinerary(Q$1))","v":""},null,3]
[{"$f":"INDEX(program_table,ROW()-5)","v":"Gold Mining & Panning"},9,{"$f":"getProgramXref($A19,numericItinerary(C$1))","v":""},{"$f":"getProgramXref($A19,numericItinerary(D$1))","v":"x"},{"$f":"getProgramXref($A19,numericItinerary(E$1))","v":""},{"$f":"getProgramXref($A19,numericItinerary(F$1))","v":"x"},{"$f":"getProgramXref($A19,numericItinerary(G$1))","v":"x"},{"$f":"getProgramXref($A19,numericItinerary(H$1))","v":"x"},{"$f":"getProgramXref($A19,numericItinerary(I$1))","v":"x"},{"$f":"getProgramXref($A19,numericItinerary(J$1))","v":"x"},{"$f":"getProgramXref($A19,numericItinerary(K$1))","v":"x"},{"$f":"getProgramXref($A19,numericItinerary(L$1))","v":""},{"$f":"getProgramXref($A19,numericItinerary(M$1))","v":""},{"$f":"getProgramXref($A19,numericItinerary(N$1))","v":""},{"$f":"getProgramXref($A19,numericItinerary(O$1))","v":""},{"$f":"getProgramXref($A19,numericItinerary(P$1))","v":"x"},{"$f":"getProgramXref($A19,numericItinerary(Q$1))","v":"x"},null,9]
[{"$f":"INDEX(program_table,ROW()-5)","v":"Homesteading"},6,{"$f":"getProgramXref($A20,numericItinerary(C$1))","v":""},{"$f":"getProgramXref($A20,numericItinerary(D$1))","v":""},{"$f":"getProgramXref($A20,numericItinerary(E$1))","v":"x"},{"$f":"getProgramXref($A20,numericItinerary(F$1))","v":""},{"$f":"getProgramXref($A20,numericItinerary(G$1))","v":"x"},{"$f":"getProgramXref($A20,numericItinerary(H$1))","v":""},{"$f":"getProgramXref($A20,numericItinerary(I$1))","v":""},{"$f":"getProgramXref($A20,numericItinerary(J$1))","v":""},{"$f":"getProgramXref($A20,numericItinerary(K$1))","v":""},{"$f":"getProgramXref($A20,numericItinerary(L$1))","v":"x"},{"$f":"getProgramXref($A20,numericItinerary(M$1))","v":"x"},{"$f":"getProgramXref($A20,numericItinerary(N$1))","v":"x"},{"$f":"getProgramXref($A20,numericItinerary(O$1))","v":"x"},{"$f":"getProgramXref($A20,numericItinerary(P$1))","v":""},{"$f":"getProgramXref($A20,numericItinerary(Q$1))","v":""},null,6]
[{"$f":"INDEX(program_table,ROW()-5)","v":"Horse Rides"},7,{"$f":"getProgramXref($A21,numericItinerary(C$1))","v":"x"},{"$f":"getProgramXref($A21,numericItinerary(D$1))","v":""},{"$f":"getProgramXref($A21,numericItinerary(E$1))","v":"x"},{"$f":"getProgramXref($A21,numericItinerary(F$1))","v":"x"},{"$f":"getProgramXref($A21,numericItinerary(G$1))","v":"x"},{"$f":"getProgramXref($A21,numericItinerary(H$1))","v":""},{"$f":"getProgramXref($A21,numericItinerary(I$1))","v":"x"},{"$f":"getProgramXref($A21,numericItinerary(J$1))","v":""},{"$f":"getProgramXref($A21,numericItinerary(K$1))","v":""},{"$f":"getProgramXref($A21,numericItinerary(L$1))","v":""},{"$f":"getProgramXref($A21,numericItinerary(M$1))","v":"x"},{"$f":"getProgramXref($A21,numericItinerary(N$1))","v":""},{"$f":"getProgramXref($A21,numericItinerary(O$1))","v":"x"},{"$f":"getProgramXref($A21,numericItinerary(P$1))","v":""},{"$f":"getProgramXref($A21,numericItinerary(Q$1))","v":""},null,7]
[{"$f":"INDEX(program_table,ROW()-5)","v":"Hunter Safety"},0,{"$f":"getProgramXref($A22,numericItinerary(C$1))","v":""},{"$f":"getProgramXref($A22,numericItinerary(D$1))","v":""},{"$f":"getProgramXref($A22,numericItinerary(E$1))","v":""},{"$f":"getProgramXref($A22,numericItinerary(F$1))","v":""},{"$f":"getProgramXref($A22,numericItinerary(G$1))","v":""},{"$f":"getProgramXref($A22,numericItinerary(H$1))","v":""},{"$f":"getProgramXref($A22,numericItinerary(I$1))","v":""},{"$f":"getProgramXref($A22,numericItinerary(J$1))","v":""},{"$f":"getProgramXref($A22,numericItinerary(K$1))","v":""},{"$f":"getProgramXref($A22,numericItinerary(L$1))","v":""},{"$f":"getProgramXref($A22,numericItinerary(M$1))","v":""},{"$f":"getProgramXref($A22,numericItinerary(N$1))","v":""},{"$f":"getProgramXref($A22,numericItinerary(O$1))","v":""},{"$f":"getProgramXref($A22,numericItinerary(P$1))","v":""},{"$f":"getProgramXref($A22,numericItinerary(Q$1))","v":""},null,0]
[{"$f":"INDEX(program_table,ROW()-5)","v":"Inspiration Point Hike"},1,{"$f":"getProgramXref($A23,numericItinerary(C$1))","v":""},{"$f":"getProgramXref($A23,numericItinerary(D$1))","v":""},{"$f":"getProgramXref($A23,numericItinerary(E$1))","v":""},{"$f":"getProgramXref($A23,numericItinerary(F$1))","v":""},{"$f":"getProgramXref($A23,numericItinerary(G$1))","v":""},{"$f":"getProgramXref($A23,numericItinerary(H$1))","v":""},{"$f":"getProgramXref($A23,numericItinerary(I$1))","v":""},{"$f":"getProgramXref($A23,numericItinerary(J$1))","v":""},{"$f":"getProgramXref($A23,numericItinerary(K$1))","v":""},{"$f":"getProgramXref($A23,numericItinerary(L$1))","v":"x"},{"$f":"getProgramXref($A23,numericItinerary(M$1))","v":""},{"$f":"getProgramXref($A23,numericItinerary(N$1))","v":""},{"$f":"getProgramXref($A23,numericItinerary(O$1))","v":""},{"$f":"getProgramXref($A23,numericItinerary(P$1))","v":""},{"$f":"getProgramXref($A23,numericItinerary(Q$1))","v":""},null,1]
[{"$f":"INDEX(program_table,ROW()-5)","v":"Jicarilla Apache Life"},2,{"$f":"getProgramXref($A24,numericItinerary(C$1))","v":""},{"$f":"getProgramXref($A24,numericItinerary(D$1))","v":""},{"$f":"getProgramXref($A24,numericItinerary(E$1))","v":""},{"$f":"getProgramXref($A24,numericItinerary(F$1))","v":""},{"$f":"getProgramXref($A24,numericItinerary(G$1))","v":""},{"$f":"getProgramXref($A24,numericItinerary(H$1))","v":""},{"$f":"getProgramXref($A24,numericItinerary(I$1))","v":""},{"$f":"getProgramXref($A24,numericItinerary(J$1))","v":""},{"$f":"getProgramXref($A24,numericItinerary(K$1))","v":""},{"$f":"getProgramXref($A24,numericItinerary(L$1))","v":"x"},{"$f":"getProgramXref($A24,numericItinerary(M$1))","v":""},{"$f":"getProgramXref($A24,numericItinerary(N$1))","v":"x"},{"$f":"getProgramXref($A24,numericItinerary(O$1))","v":""},{"$f":"getProgramXref($A24,numericItinerary(P$1))","v":""},{"$f":"getProgramXref($A24,numericItinerary(Q$1))","v":""},null,2]
[{"$f":"INDEX(program_table,ROW()-5)","v":"Laser Shot Shooting Range"},5,{"$f":"getProgramXref($A25,numericItinerary(C$1))","v":"x"},{"$f":"getProgramXref($A25,numericItinerary(D$1))","v":""},{"$f":"getProgramXref($A25,numericItinerary(E$1))","v":""},{"$f":"getProgramXref($A25,numericItinerary(F$1))","v":""},{"$f":"getProgramXref($A25,numericItinerary(G$1))","v":""},{"$f":"getProgramXref($A25,numericItinerary(H$1))","v":""},{"$f":"getProgramXref($A25,numericItinerary(I$1))","v":""},{"$f":"getProgramXref($A25,numericItinerary(J$1))","v":"x"},{"$f":"getProgramXref($A25,numericItinerary(K$1))","v":"x"},{"$f":"getProgramXref($A25,numericItinerary(L$1))","v":""},{"$f":"getProgramXref($A25,numericItinerary(M$1))","v":""},{"$f":"getProgramXref($A25,numericItinerary(N$1))","v":""},{"$f":"getProgramXref($A25,numericItinerary(O$1))","v":""},{"$f":"getProgramXref($A25,numericItinerary(P$1))","v":"x"},{"$f":"getProgramXref($A25,numericItinerary(Q$1))","v":"x"},null,5]
[{"$f":"INDEX(program_table,ROW()-5)","v":"Lodge/Cabin Tours"},6,{"$f":"getProgramXref($A26,numericItinerary(C$1))","v":""},{"$f":"getProgramXref($A26,numericItinerary(D$1))","v":""},{"$f":"getProgramXref($A26,numericItinerary(E$1))","v":"x"},{"$f":"getProgramXref($A26,numericItinerary(F$1))","v":""},{"$f":"getProgramXref($A26,numericItinerary(G$1))","v":"x"},{"$f":"getProgramXref($A26,numericItinerary(H$1))","v":""},{"$f":"getProgramXref($A26,numericItinerary(I$1))","v":""},{"$f":"getProgramXref($A26,numericItinerary(J$1))","v":""},{"$f":"getProgramXref($A26,numericItinerary(K$1))","v":""},{"$f":"getProgramXref($A26,numericItinerary(L$1))","v":"x"},{"$f":"getProgramXref($A26,numericItinerary(M$1))","v":"x"},{"$f":"getProgramXref($A26,numericItinerary(N$1))","v":"x"},{"$f":"getProgramXref($A26,numericItinerary(O$1))","v":"x"},{"$f":"getProgramXref($A26,numericItinerary(P$1))","v":""},{"$f":"getProgramXref($A26,numericItinerary(Q$1))","v":""},null,6]
[{"$f":"INDEX(program_table,ROW()-5)","v":"Low Impact Camping"},1,{"$f":"getProgramXref($A27,numericItinerary(C$1))","v":""},{"$f":"getProgramXref($A27,numericItinerary(D$1))","v":""},{"$f":"getProgramXref($A27,numericItinerary(E$1))","v":""},{"$f":"getProgramXref($A27,numericItinerary(F$1))","v":""},{"$f":"getProgramXref($A27,numericItinerary(G$1))","v":""},{"$f":"getProgramXref($A27,numericItinerary(H$1))","v":""},{"$f":"getProgramXref($A27,numericItinerary(I$1))","v":""},{"$f":"getProgramXref($A27,numericItinerary(J$1))","v":"x"},{"$f":"getProgramXref($A27,numericItinerary(K$1))","v":""},{"$f":"getProgramXref($A27,numericItinerary(L$1))","v":""},{"$f":"getProgramXref($A27,numericItinerary(M$1))","v":""},{"$f":"getProgramXref($A27,numericItinerary(N$1))","v":""},{"$f":"getProgramXref($A27,numericItinerary(O$1))","v":""},{"$f":"getProgramXref($A27,numericItinerary(P$1))","v":""},{"$f":"getProgramXref($A27,numericItinerary(Q$1))","v":""},null,1]
[{"$f":"INDEX(program_table,ROW()-5)","v":"Mine Tour"},6,{"$f":"getProgramXref($A28,numericItinerary(C$1))","v":""},{"$f":"getProgramXref($A28,numericItinerary(D$1))","v":""},{"$f":"getProgramXref($A28,numericItinerary(E$1))","v":""},{"$f":"getProgramXref($A28,numericItinerary(F$1))","v":""},{"$f":"getProgramXref($A28,numericItinerary(G$1))","v":"x"},{"$f":"getProgramXref($A28,numericItinerary(H$1))","v":"x"},{"$f":"getProgramXref($A28,numericItinerary(I$1))","v":"x"},{"$f":"getProgramXref($A28,numericItinerary(J$1))","v":"x"},{"$f":"getProgramXref($A28,numericItinerary(K$1))","v":""},{"$f":"getProgramXref($A28,numericItinerary(L$1))","v":""},{"$f":"getProgramXref($A28,numericItinerary(M$1))","v":""},{"$f":"getProgramXref($A28,numericItinerary(N$1))","v":""},{"$f":"getProgramXref($A28,numericItinerary(O$1))","v":""},{"$f":"getProgramXref($A28,numericItinerary(P$1))","v":"x"},{"$f":"getProgramXref($A28,numericItinerary(Q$1))","v":"x"},null,6]
[{"$f":"INDEX(program_table,ROW()-5)","v":"Mount Phillips"},1,{"$f":"getProgramXref($A29,numericItinerary(C$1))","v":""},{"$f":"getProgramXref($A29,numericItinerary(D$1))","v":""},{"$f":"getProgramXref($A29,numericItinerary(E$1))","v":""},{"$f":"getProgramXref($A29,numericItinerary(F$1))","v":""},{"$f":"getProgramXref($A29,numericItinerary(G$1))","v":""},{"$f":"getProgramXref($A29,numericItinerary(H$1))","v":""},{"$f":"getProgramXref($A29,numericItinerary(I$1))","v":""},{"$f":"getProgramXref($A29,numericItinerary(J$1))","v":""},{"$f":"getProgramXref($A29,numericItinerary(K$1))","v":""},{"$f":"getProgramXref($A29,numericItinerary(L$1))","v":"x"},{"$f":"getProgramXref($A29,numericItinerary(M$1))","v":""},{"$f":"getProgramXref($A29,numericItinerary(N$1))","v":""},{"$f":"getProgramXref($A29,numericItinerary(O$1))","v":""},{"$f":"getProgramXref($A29,numericItinerary(P$1))","v":""},{"$f":"getProgramXref($A29,numericItinerary(Q$1))","v":""},null,1]
[{"$f":"INDEX(program_table,ROW()-5)","v":"Mountaineering"},3,{"$f":"getProgramXref($A30,numericItinerary(C$1))","v":"x"},{"$f":"getProgramXref($A30,numericItinerary(D$1))","v":""},{"$f":"getProgramXref($A30,numericItinerary(E$1))","v":""},{"$f":"getProgramXref($A30,numericItinerary(F$1))","v":""},{"$f":"getProgramXref($A30,numericItinerary(G$1))","v":""},{"$f":"getProgramXref($A30,numericItinerary(H$1))","v":""},{"$f":"getProgramXref($A30,numericItinerary(I$1))","v":""},{"$f":"getProgramXref($A30,numericItinerary(J$1))","v":""},{"$f":"getProgramXref($A30,numericItinerary(K$1))","v":""},{"$f":"getProgramXref($A30,numericItinerary(L$1))","v":"x"},{"$f":"getProgramXref($A30,numericItinerary(M$1))","v":""},{"$f":"getProgramXref($A30,numericItinerary(N$1))","v":"x"},{"$f":"getProgramXref($A30,numericItinerary(O$1))","v":""},{"$f":"getProgramXref($A30,numericItinerary(P$1))","v":""},{"$f":"getProgramXref($A30,numericItinerary(Q$1))","v":""},null,3]
[{"$f":"INDEX(program_table,ROW()-5)","v":"Muzzle Loading Rifle"},7,{"$f":"getProgramXref($A31,numericItinerary(C$1))","v":""},{"$f":"getProgramXref($A31,numericItinerary(D$1))","v":"x"},{"$f":"getProgramXref($A31,numericItinerary(E$1))","v":"x"},{"$f":"getProgramXref($A31,numericItinerary(F$1))","v":"x"},{"$f":"getProgramXref($A31,numericItinerary(G$1))","v":""},{"$f":"getProgramXref($A31,numericItinerary(H$1))","v":""},{"$f":"getProgramXref($A31,numericItinerary(I$1))","v":"x"},{"$f":"getProgramXref($A31,numericItinerary(J$1))","v":"x"},{"$f":"getProgramXref($A31,numericItinerary(K$1))","v":""},{"$f":"getProgramXref($A31,numericItinerary(L$1))","v":""},{"$f":"getProgramXref($A31,numericItinerary(M$1))","v":"x"},{"$f":"getProgramXref($A31,numericItinerary(N$1))","v":""},{"$f":"getProgramXref($A31,numericItinerary(O$1))","v":"x"},{"$f":"getProgramXref($A31,numericItinerary(P$1))","v":""},{"$f":"getProgramXref($A31,numericItinerary(Q$1))","v":""},null,7]
[{"$f":"INDEX(program_table,ROW()-5)","v":"New Mexico Homestead"},2,{"$f":"getProgramXref($A32,numericItinerary(C$1))","v":""},{"$f":"getProgramXref($A32,numericItinerary(D$1))","v":""},{"$f":"getProgramXref($A32,numericItinerary(E$1))","v":""},{"$f":"getProgramXref($A32,numericItinerary(F$1))","v":""},{"$f":"getProgramXref($A32,numericItinerary(G$1))","v":""},{"$f":"getProgramXref($A32,numericItinerary(H$1))","v":""},{"$f":"getProgramXref($A32,numericItinerary(I$1))","v":""},{"$f":"getProgramXref($A32,numericItinerary(J$1))","v":""},{"$f":"getProgramXref($A32,numericItinerary(K$1))","v":""},{"$f":"getProgramXref($A32,numericItinerary(L$1))","v":""},{"$f":"getProgramXref($A32,numericItinerary(M$1))","v":"x"},{"$f":"getProgramXref($A32,numericItinerary(N$1))","v":"x"},{"$f":"getProgramXref($A32,numericItinerary(O$1))","v":""},{"$f":"getProgramXref($A32,numericItinerary(P$1))","v":""},{"$f":"getProgramXref($A32,numericItinerary(Q$1))","v":""},null,2]
[{"$f":"INDEX(program_table,ROW()-5)","v":"Petroglyph Tour"},3,{"$f":"getProgramXref($A33,numericItinerary(C$1))","v":"x"},{"$f":"getProgramXref($A33,numericItinerary(D$1))","v":"x"},{"$f":"getProgramXref($A33,numericItinerary(E$1))","v":""},{"$f":"getProgramXref($A33,numericItinerary(F$1))","v":""},{"$f":"getProgramXref($A33,numericItinerary(G$1))","v":""},{"$f":"getProgramXref($A33,numericItinerary(H$1))","v":""},{"$f":"getProgramXref($A33,numericItinerary(I$1))","v":"x"},{"$f":"getProgramXref($A33,numericItinerary(J$1))","v":""},{"$f":"getProgramXref($A33,numericItinerary(K$1))","v":""},{"$f":"getProgramXref($A33,numericItinerary(L$1))","v":""},{"$f":"getProgramXref($A33,numericItinerary(M$1))","v":""},{"$f":"getProgramXref($A33,numericItinerary(N$1))","v":""},{"$f":"getProgramXref($A33,numericItinerary(O$1))","v":""},{"$f":"getProgramXref($A33,numericItinerary(P$1))","v":""},{"$f":"getProgramXref($A33,numericItinerary(Q$1))","v":""},null,3]
[{"$f":"INDEX(program_table,ROW()-5)","v":"Post Civil War Encampment"},3,{"$f":"getProgramXref($A34,numericItinerary(C$1))","v":""},{"$f":"getProgramXref($A34,numericItinerary(D$1))","v":""},{"$f":"getProgramXref($A34,numericItinerary(E$1))","v":"x"},{"$f":"getProgramXref($A34,numericItinerary(F$1))","v":""},{"$f":"getProgramXref($A34,numericItinerary(G$1))","v":""},{"$f":"getProgramXref($A34,numericItinerary(H$1))","v":""},{"$f":"getProgramXref($A34,numericItinerary(I$1))","v":""},{"$f":"getProgramXref($A34,numericItinerary(J$1))","v":""},{"$f":"getProgramXref($A34,numericItinerary(K$1))","v":""},{"$f":"getProgramXref($A34,numericItinerary(L$1))","v":""},{"$f":"getProgramXref($A34,numericItinerary(M$1))","v":"x"},{"$f":"getProgramXref($A34,numericItinerary(N$1))","v":""},{"$f":"getProgramXref($A34,numericItinerary(O$1))","v":"x"},{"$f":"getProgramXref($A34,numericItinerary(P$1))","v":""},{"$f":"getProgramXref($A34,numericItinerary(Q$1))","v":""},null,3]
[{"$f":"INDEX(program_table,ROW()-5)","v":"Railroading"},2,{"$f":"getProgramXref($A35,numericItinerary(C$1))","v":""},{"$f":"getProgramXref($A35,numericItinerary(D$1))","v":"x"},{"$f":"getProgramXref($A35,numericItinerary(E$1))","v":""},{"$f":"getProgramXref($A35,numericItinerary(F$1))","v":""},{"$f":"getProgramXref($A35,numericItinerary(G$1))","v":""},{"$f":"getProgramXref($A35,numericItinerary(H$1))","v":""},{"$f":"getProgramXref($A35,numericItinerary(I$1))","v":"x"},{"$f":"getProgramXref($A35,numericItinerary(J$1))","v":""},{"$f":"getProgramXref($A35,numericItinerary(K$1))","v":""},{"$f":"getProgramXref($A35,numericItinerary(L$1))","v":""},{"$f":"getProgramXref($A35,numericItinerary(M$1))","v":""},{"$f":"getProgramXref($A35,numericItinerary(N$1))","v":""},{"$f":"getProgramXref($A35,numericItinerary(O$1))","v":""},{"$f":"getProgramXref($A35,numericItinerary(P$1))","v":""},{"$f":"getProgramXref($A35,numericItinerary(Q$1))","v":""},null,2]
[{"$f":"INDEX(program_table,ROW()-5)","v":"Rock Climbing & Rappelling"},4,{"$f":"getProgramXref($A36,numericItinerary(C$1))","v":""},{"$f":"getProgramXref($A36,numericItinerary(D$1))","v":""},{"$f":"getProgramXref($A36,numericItinerary(E$1))","v":"x"},{"$f":"getProgramXref($A36,numericItinerary(F$1))","v":"x"},{"$f":"getProgramXref($A36,numericItinerary(G$1))","v":""},{"$f":"getProgramXref($A36,numericItinerary(H$1))","v":""},{"$f":"getProgramXref($A36,numericItinerary(I$1))","v":""},{"$f":"getProgramXref($A36,numericItinerary(J$1))","v":"x"},{"$f":"getProgramXref($A36,numericItinerary(K$1))","v":""},{"$f":"getProgramXref($A36,numericItinerary(L$1))","v":"x"},{"$f":"getProgramXref($A36,numericItinerary(M$1))","v":""},{"$f":"getProgramXref($A36,numericItinerary(N$1))","v":""},{"$f":"getProgramXref($A36,numericItinerary(O$1))","v":""},{"$f":"getProgramXref($A36,numericItinerary(P$1))","v":""},{"$f":"getProgramXref($A36,numericItinerary(Q$1))","v":""},null,4]
[{"$f":"INDEX(program_table,ROW()-5)","v":"Rocky Mountain Fur Co."},6,{"$f":"getProgramXref($A37,numericItinerary(C$1))","v":""},{"$f":"getProgramXref($A37,numericItinerary(D$1))","v":""},{"$f":"getProgramXref($A37,numericItinerary(E$1))","v":"x"},{"$f":"getProgramXref($A37,numericItinerary(F$1))","v":"x"},{"$f":"getProgramXref($A37,numericItinerary(G$1))","v":""},{"$f":"getProgramXref($A37,numericItinerary(H$1))","v":""},{"$f":"getProgramXref($A37,numericItinerary(I$1))","v":""},{"$f":"getProgramXref($A37,numericItinerary(J$1))","v":"x"},{"$f":"getProgramXref($A37,numericItinerary(K$1))","v":""},{"$f":"getProgramXref($A37,numericItinerary(L$1))","v":""},{"$f":"getProgramXref($A37,numericItinerary(M$1))","v":"x"},{"$f":"getProgramXref($A37,numericItinerary(N$1))","v":"x"},{"$f":"getProgramXref($A37,numericItinerary(O$1))","v":"x"},{"$f":"getProgramXref($A37,numericItinerary(P$1))","v":""},{"$f":"getProgramXref($A37,numericItinerary(Q$1))","v":""},null,6]
[{"$f":"INDEX(program_table,ROW()-5)","v":"Shooting/Reloading - .30-06"},3,{"$f":"getProgramXref($A38,numericItinerary(C$1))","v":""},{"$f":"getProgramXref($A38,numericItinerary(D$1))","v":""},{"$f":"getProgramXref($A38,numericItinerary(E$1))","v":""},{"$f":"getProgramXref($A38,numericItinerary(F$1))","v":"x"},{"$f":"getProgramXref($A38,numericItinerary(G$1))","v":""},{"$f":"getProgramXref($A38,numericItinerary(H$1))","v":""},{"$f":"getProgramXref($A38,numericItinerary(I$1))","v":""},{"$f":"getProgramXref($A38,numericItinerary(J$1))","v":""},{"$f":"getProgramXref($A38,numericItinerary(K$1))","v":"x"},{"$f":"getProgramXref($A38,numericItinerary(L$1))","v":""},{"$f":"getProgramXref($A38,numericItinerary(M$1))","v":""},{"$f":"getProgramXref($A38,numericItinerary(N$1))","v":""},{"$f":"getProgramXref($A38,numericItinerary(O$1))","v":""},{"$f":"getProgramXref($A38,numericItinerary(P$1))","v":""},{"$f":"getProgramXref($A38,numericItinerary(Q$1))","v":"x"},null,3]
[{"$f":"INDEX(program_table,ROW()-5)","v":"Shotgun Shooting/Reloading - 12 Gauge"},3,{"$f":"getProgramXref($A39,numericItinerary(C$1))","v":"x"},{"$f":"getProgramXref($A39,numericItinerary(D$1))","v":""},{"$f":"getProgramXref($A39,numericItinerary(E$1))","v":""},{"$f":"getProgramXref($A39,numericItinerary(F$1))","v":""},{"$f":"getProgramXref($A39,numericItinerary(G$1))","v":""},{"$f":"getProgramXref($A39,numericItinerary(H$1))","v":""},{"$f":"getProgramXref($A39,numericItinerary(I$1))","v":""},{"$f":"getProgramXref($A39,numericItinerary(J$1))","v":""},{"$f":"getProgramXref($A39,numericItinerary(K$1))","v":""},{"$f":"getProgramXref($A39,numericItinerary(L$1))","v":""},{"$f":"getProgramXref($A39,numericItinerary(M$1))","v":""},{"$f":"getProgramXref($A39,numericItinerary(N$1))","v":""},{"$f":"getProgramXref($A39,numericItinerary(O$1))","v":"x"},{"$f":"getProgramXref($A39,numericItinerary(P$1))","v":"x"},{"$f":"getProgramXref($A39,numericItinerary(Q$1))","v":""},null,3]
[{"$f":"INDEX(program_table,ROW()-5)","v":"Spar Pole Climbing"},6,{"$f":"getProgramXref($A40,numericItinerary(C$1))","v":""},{"$f":"getProgramXref($A40,numericItinerary(D$1))","v":"x"},{"$f":"getProgramXref($A40,numericItinerary(E$1))","v":""},{"$f":"getProgramXref($A40,numericItinerary(F$1))","v":""},{"$f":"getProgramXref($A40,numericItinerary(G$1))","v":"x"},{"$f":"getProgramXref($A40,numericItinerary(H$1))","v":""},{"$f":"getProgramXref($A40,numericItinerary(I$1))","v":"x"},{"$f":"getProgramXref($A40,numericItinerary(J$1))","v":""},{"$f":"getProgramXref($A40,numericItinerary(K$1))","v":""},{"$f":"getProgramXref($A40,numericItinerary(L$1))","v":""},{"$f":"getProgramXref($A40,numericItinerary(M$1))","v":"x"},{"$f":"getProgramXref($A40,numericItinerary(N$1))","v":""},{"$f":"getProgramXref($A40,numericItinerary(O$1))","v":""},{"$f":"getProgramXref($A40,numericItinerary(P$1))","v":"x"},{"$f":"getProgramXref($A40,numericItinerary(Q$1))","v":"x"},null,6]
[{"$f":"INDEX(program_table,ROW()-5)","v":"Tie Making & Crosscut Saws"},7,{"$f":"getProgramXref($A41,numericItinerary(C$1))","v":""},{"$f":"getProgramXref($A41,numericItinerary(D$1))","v":"x"},{"$f":"getProgramXref($A41,numericItinerary(E$1))","v":""},{"$f":"getProgramXref($A41,numericItinerary(F$1))","v":""},{"$f":"getProgramXref($A41,numericItinerary(G$1))","v":""},{"$f":"getProgramXref($A41,numericItinerary(H$1))","v":"x"},{"$f":"getProgramXref($A41,numericItinerary(I$1))","v":"x"},{"$f":"getProgramXref($A41,numericItinerary(J$1))","v":"x"},{"$f":"getProgramXref($A41,numericItinerary(K$1))","v":""},{"$f":"getProgramXref($A41,numericItinerary(L$1))","v":""},{"$f":"getProgramXref($A41,numericItinerary(M$1))","v":"x"},{"$f":"getProgramXref($A41,numericItinerary(N$1))","v":""},{"$f":"getProgramXref($A41,numericItinerary(O$1))","v":""},{"$f":"getProgramXref($A41,numericItinerary(P$1))","v":"x"},{"$f":"getProgramXref($A41,numericItinerary(Q$1))","v":"x"},null,7]
[{"$f":"INDEX(program_table,ROW()-5)","v":"Tomahawk Throwing"},10,{"$f":"getProgramXref($A42,numericItinerary(C$1))","v":""},{"$f":"getProgramXref($A42,numericItinerary(D$1))","v":"x"},{"$f":"getProgramXref($A42,numericItinerary(E$1))","v":"x"},{"$f":"getProgramXref($A42,numericItinerary(F$1))","v":"x"},{"$f":"getProgramXref($A42,numericItinerary(G$1))","v":""},{"$f":"getProgramXref($A42,numericItinerary(H$1))","v":"x"},{"$f":"getProgramXref($A42,numericItinerary(I$1))","v":"x"},{"$f":"getProgramXref($A42,numericItinerary(J$1))","v":"x"},{"$f":"getProgramXref($A42,numericItinerary(K$1))","v":"x"},{"$f":"getProgramXref($A42,numericItinerary(L$1))","v":""},{"$f":"getProgramXref($A42,numericItinerary(M$1))","v":"x"},{"$f":"getProgramXref($A42,numericItinerary(N$1))","v":"x"},{"$f":"getProgramXref($A42,numericItinerary(O$1))","v":"x"},{"$f":"getProgramXref($A42,numericItinerary(P$1))","v":""},{"$f":"getProgramXref($A42,numericItinerary(Q$1))","v":""},null,10]
[{"$f":"INDEX(program_table,ROW()-5)","v":"Tooth of Time"},4,{"$f":"getProgramXref($A43,numericItinerary(C$1))","v":""},{"$f":"getProgramXref($A43,numericItinerary(D$1))","v":""},{"$f":"getProgramXref($A43,numericItinerary(E$1))","v":""},{"$f":"getProgramXref($A43,numericItinerary(F$1))","v":""},{"$f":"getProgramXref($A43,numericItinerary(G$1))","v":""},{"$f":"getProgramXref($A43,numericItinerary(H$1))","v":""},{"$f":"getProgramXref($A43,numericItinerary(I$1))","v":""},{"$f":"getProgramXref($A43,numericItinerary(J$1))","v":""},{"$f":"getProgramXref($A43,numericItinerary(K$1))","v":""},{"$f":"getProgramXref($A43,numericItinerary(L$1))","v":"x"},{"$f":"getProgramXref($A43,numericItinerary(M$1))","v":"x"},{"$f":"getProgramXref($A43,numericItinerary(N$1))","v":""},{"$f":"getProgramXref($A43,numericItinerary(O$1))","v":"x"},{"$f":"getProgramXref($A43,numericItinerary(P$1))","v":""},{"$f":"getProgramXref($A43,numericItinerary(Q$1))","v":"x"},null,4]
[{"$f":"INDEX(program_table,ROW()-5)","v":"Trail Peak"},2,{"$f":"getProgramXref($A44,numericItinerary(C$1))","v":""},{"$f":"getProgramXref($A44,numericItinerary(D$1))","v":""},{"$f":"getProgramXref($A44,numericItinerary(E$1))","v":""},{"$f":"getProgramXref($A44,numericItinerary(F$1))","v":""},{"$f":"getProgramXref($A44,numericItinerary(G$1))","v":""},{"$f":"getProgramXref($A44,numericItinerary(H$1))","v":""},{"$f":"getProgramXref($A44,numericItinerary(I$1))","v":""},{"$f":"getProgramXref($A44,numericItinerary(J$1))","v":""},{"$f":"getProgramXref($A44,numericItinerary(K$1))","v":""},{"$f":"getProgramXref($A44,numericItinerary(L$1))","v":"x"},{"$f":"getProgramXref($A44,numericItinerary(M$1))","v":"x"},{"$f":"getProgramXref($A44,numericItinerary(N$1))","v":""},{"$f":"getProgramXref($A44,numericItinerary(O$1))","v":""},{"$f":"getProgramXref($A44,numericItinerary(P$1))","v":""},{"$f":"getProgramXref($A44,numericItinerary(Q$1))","v":""},null,2]
[{"$f":"INDEX(program_table,ROW()-5)","v":"Western Lore/Branding"},14,{"$f":"getProgramXref($A45,numericItinerary(C$1))","v":"x"},{"$f":"getProgramXref($A45,numericItinerary(D$1))","v":"x"},{"$f":"getProgramXref($A45,numericItinerary(E$1))","v":"x"},{"$f":"getProgramXref($A45,numericItinerary(F$1))","v":"x"},{"$f":"getProgramXref($A45,numericItinerary(G$1))","v":"x"},{"$f":"getProgramXref($A45,numericItinerary(H$1))","v":""},{"$f":"getProgramXref($A45,numericItinerary(I$1))","v":"x"},{"$f":"getProgramXref($A45,numericItinerary(J$1))","v":"x"},{"$f":"getProgramXref($A45,numericItinerary(K$1))","v":"x"},{"$f":"getProgramXref($A45,numericItinerary(L$1))","v":"x"},{"$f":"getProgramXref($A45,numericItinerary(M$1))","v":"x"},{"$f":"getProgramXref($A45,numericItinerary(N$1))","v":"x"},{"$f":"getProgramXref($A45,numericItinerary(O$1))","v":"x"},{"$f":"getProgramXref($A45,numericItinerary(P$1))","v":"x"},{"$f":"getProgramXref($A45,numericItinerary(Q$1))","v":"x"},null,14]
["# programs in itinerary:  ",null,{"$f":"COUNTIF(C6:C45,\"X\")","v":11},15,12,11,13,10,16,15,9,15,17,12,13,13,16,null,{"$f":"COUNTIF(#REF!,\"X\")","v":{"$error":"#REF!"}}]
[null,null,null,null,null,null,null,null,null,null,null,null,null,null,null,null,null,null,{"$f":"COUNTIF(#REF!,\"X\")","v":{"$error":"#REF!"}}]
[null,null,null,null,null,null,null,null,null,null,null,null,null,null,null,null,null,null,{"$f":"COUNTIF(#REF!,\"X\")","v":{"$error":"#REF!"}}]
[null,null,null,null,null,null,null,null,null,null,null,null,null,null,null,null,null,null,{"$f":"COUNTIF(#REF!,\"X\")","v":{"$error":"#REF!"}}]

{"sheet":"Tables","index":8,"n_rows":136,"n_cols":16,"rows_kept":136,"cut":false,"hidden":false,"merged":[[1,4,1,10],[1,11,41,11],[128,0,135,0],[92,10,92,14],[100,8,100,9],[101,8,101,9],[104,11,109,11],[104,12,109,12],[104,13,109,13],[104,14,109,14]]}
["Row","Category","Code","Value",null,"Median","Score Selected",null,null,null,"n","Index"]
[null,"programFactor","Multiply X Activity score for value to use",1.5,"This is applied to each score in the calculation. Use to make activities more/less important.",null,null,null,null,null,null,"These are the results of the \"Scores\" worksheet — from the scores entered from the Preference Survey worksheets.","Total","Average","Median","Mode"]
[1,"Program",{"$f":" INDEX(program_table,A3,1)","v":"Archaeology"},{"$f":"SUM(Scores!B2:M2)","v":152},null,null,null,null,null,null,1,null,{"$f":"SUM(Scores!$B2:M2)*programFactor","v":228},{"$f":"IF(COUNT(Scores!$B2:M2)>0,AVERAGE(Scores!$B2:M2)*programFactor,0)","v":19},{"$f":"IF(COUNT(Scores!$B2:M2)>0,MEDIAN(Scores!$B2:M2)*programFactor,0)","v":22.5},{"$f":"IF(getmode(Scores!$B2:M2)=\"\",\"\",getmode(Scores!$B2:M2)*programFactor)","v":22.5}]
[{"$f":"A3+1","v":2},"Program",{"$f":" INDEX(program_table,A4,1)","v":"Archery - 3 Dimensional"},{"$f":"SUM(Scores!B3:M3)","v":225},null,null,null,null,null,null,2,null,{"$f":"SUM(Scores!$B3:M3)*programFactor","v":337.5},{"$f":"IF(COUNT(Scores!$B3:M3)>0,AVERAGE(Scores!$B3:M3)*programFactor,0)","v":28.125},{"$f":"IF(COUNT(Scores!$B3:M3)>0,MEDIAN(Scores!$B3:M3)*programFactor,0)","v":30},{"$f":"IF(getmode(Scores!$B3:M3)=\"\",\"\",getmode(Scores!$B3:M3)*programFactor)","v":30}]
[{"$f":"A4+1","v":3},"Program",{"$f":" INDEX(program_table,A5,1)","v":"Atlatl (Dart-throwing)"},{"$f":"SUM(Scores!B4:M4)","v":76},null,null,null,null,null,null,3,null,{"$f":"SUM(Scores!$B4:M4)*programFactor","v":114},{"$f":"IF(COUNT(Scores!$B4:M4)>0,AVERAGE(Scores!$B4:M4)*programFactor,0)","v":9.5},{"$f":"IF(COUNT(Scores!$B4:M4)>0,MEDIAN(Scores!$B4:M4)*programFactor,0)","v":10.5},{"$f":"IF(getmode(Scores!$B4:M4)=\"\",\"\",getmode(Scores!$B4:M4)*programFactor)","v":3}]
[4,"Program",{"$f":" INDEX(program_table,A6,1)","v":"Baldy Mountain"},{"$f":"SUM(Scores!B5:M5)","v":188},null,null,null,null,null,null,4,null,{"$f":"SUM(Scores!$B5:M5)*programFactor","v":282},{"$f":"IF(COUNT(Scores!$B5:M5)>0,AVERAGE(Scores!$B5:M5)*programFactor,0)","v":23.5},{"$f":"IF(COUNT(Scores!$B5:M5)>0,MEDIAN(Scores!$B5:M5)*programFactor,0)","v":27},{"$f":"IF(getmode(Scores!$B5:M5)=\"\",\"\",getmode(Scores!$B5:M5)*programFactor)","v":27}]
[5,"Program",{"$f":" INDEX(program_table,A7,1)","v":"Blacksmithing"},{"$f":"SUM(Scores!B6:M6)","v":108},null,null,null,null,null,null,5,null,{"$f":"SUM(Scores!$B6:M6)*programFactor","v":162},{"$f":"IF(COUNT(Scores!$B6:M6)>0,AVERAGE(Scores!$B6:M6)*programFactor,0)","v":13.5},{"$f":"IF(COUNT(Scores!$B6:M6)>0,MEDIAN(Scores!$B6:M6)*programFactor,0)","v":12.75},{"$f":"IF(getmode(Scores!$B6:M6)=\"\",\"\",getmode(Scores!$B6:M6)*programFactor)","v":0}]
[6,"Program",{"$f":" INDEX(program_table,A8,1)","v":"Campfire (evening)"},{"$f":"SUM(Scores!B7:M7)","v":111},null,null,null,null,null,null,5,null,{"$f":"SUM(Scores!$B7:M7)*programFactor","v":166.5},{"$f":"IF(COUNT(Scores!$B7:M7)>0,AVERAGE(Scores!$B7:M7)*programFactor,0)","v":13.875},{"$f":"IF(COUNT(Scores!$B7:M7)>0,MEDIAN(Scores!$B7:M7)*programFactor,0)","v":14.25},{"$f":"IF(getmode(Scores!$B7:M7)=\"\",\"\",getmode(Scores!$B7:M7)*programFactor)","v":0}]
[7,"Program",{"$f":" INDEX(program_table,A9,1)","v":"Cantina"},{"$f":"SUM(Scores!B8:M8)","v":111},null,null,null,null,null,null,5,null,{"$f":"SUM(Scores!$B8:M8)*programFactor","v":166.5},{"$f":"IF(COUNT(Scores!$B8:M8)>0,AVERAGE(Scores!$B8:M8)*programFactor,0)","v":13.875},{"$f":"IF(COUNT(Scores!$B8:M8)>0,MEDIAN(Scores!$B8:M8)*programFactor,0)","v":14.25},{"$f":"IF(getmode(Scores!$B8:M8)=\"\",\"\",getmode(Scores!$B8:M8)*programFactor)","v":0}]
[8,"Program",{"$f":" INDEX(program_table,A10,1)","v":"Challenge Events"},{"$f":"SUM(Scores!B9:M9)","v":84},null,null,null,null,null,null,5,null,{"$f":"SUM(Scores!$B9:M9)*programFactor","v":126},{"$f":"IF(COUNT(Scores!$B9:M9)>0,AVERAGE(Scores!$B9:M9)*programFactor,0)","v":10.5},{"$f":"IF(COUNT(Scores!$B9:M9)>0,MEDIAN(Scores!$B9:M9)*programFactor,0)","v":9},{"$f":"IF(getmode(Scores!$B9:M9)=\"\",\"\",getmode(Scores!$B9:M9)*programFactor)","v":0}]
[9,"Program",{"$f":" INDEX(program_table,A11,1)","v":"Chuckwagon Dinner"},{"$f":"SUM(Scores!B10:M10)","v":87},null,null,null,null,null,null,5,null,{"$f":"SUM(Scores!$B10:M10)*programFactor","v":130.5},{"$f":"IF(COUNT(Scores!$B10:M10)>0,AVERAGE(Scores!$B10:M10)*programFactor,0)","v":10.875},{"$f":"IF(COUNT(Scores!$B10:M10)>0,MEDIAN(Scores!$B10:M10)*programFactor,0)","v":13.5},{"$f":"IF(getmode(Scores!$B10:M10)=\"\",\"\",getmode(Scores!$B10:M10)*programFactor)","v":0}]
[10,"Program",{"$f":" INDEX(program_table,A12,1)","v":"Demonstration Forest"},{"$f":"SUM(Scores!B11:M11)","v":61},null,null,null,null,null,null,5,null,{"$f":"SUM(Scores!$B11:M11)*programFactor","v":91.5},{"$f":"IF(COUNT(Scores!$B11:M11)>0,AVERAGE(Scores!$B11:M11)*programFactor,0)","v":8.3181818181818183},{"$f":"IF(COUNT(Scores!$B11:M11)>0,MEDIAN(Scores!$B11:M11)*programFactor,0)","v":7.5},{"$f":"IF(getmode(Scores!$B11:M11)=\"\",\"\",getmode(Scores!$B11:M11)*programFactor)","v":0}]
[11,"Program",{"$f":" INDEX(program_table,A13,1)","v":"Fishing"},{"$f":"SUM(Scores!B12:M12)","v":73},null,null,null,null,null,null,5,null,{"$f":"SUM(Scores!$B12:M12)*programFactor","v":109.5},{"$f":"IF(COUNT(Scores!$B12:M12)>0,AVERAGE(Scores!$B12:M12)*programFactor,0)","v":9.954545454545455},{"$f":"IF(COUNT(Scores!$B12:M12)>0,MEDIAN(Scores!$B12:M12)*programFactor,0)","v":7.5},{"$f":"IF(getmode(Scores!$B12:M12)=\"\",\"\",getmode(Scores!$B12:M12)*programFactor)","v":7.5}]
[12,"Program",{"$f":" INDEX(program_table,A14,1)","v":"Fly Tying"},{"$f":"SUM(Scores!B13:M13)","v":73},null,null,null,null,null,null,5,null,{"$f":"SUM(Scores!$B13:M13)*programFactor","v":109.5},{"$f":"IF(COUNT(Scores!$B13:M13)>0,AVERAGE(Scores!$B13:M13)*programFactor,0)","v":13.6875},{"$f":"IF(COUNT(Scores!$B13:M13)>0,MEDIAN(Scores!$B13:M13)*programFactor,0)","v":15.75},{"$f":"IF(getmode(Scores!$B13:M13)=\"\",\"\",getmode(Scores!$B13:M13)*programFactor)","v":0}]
[13,"Program",{"$f":" INDEX(program_table,A15,1)","v":"Fur Trapper Rendezvous"},{"$f":"SUM(Scores!B14:M14)","v":74},null,null,null,null,null,null,5,null,{"$f":"SUM(Scores!$B14:M14)*programFactor","v":111},{"$f":"IF(COUNT(Scores!$B14:M14)>0,AVERAGE(Scores!$B14:M14)*programFactor,0)","v":9.25},{"$f":"IF(COUNT(Scores!$B14:M14)>0,MEDIAN(Scores!$B14:M14)*programFactor,0)","v":6},{"$f":"IF(getmode(Scores!$B14:M14)=\"\",\"\",getmode(Scores!$B14:M14)*programFactor)","v":0}]
[14,"Program",{"$f":" INDEX(program_table,A16,1)","v":"Gold Mining & Panning"},{"$f":"SUM(Scores!B15:M15)","v":76},null,null,null,null,null,null,5,null,{"$f":"SUM(Scores!$B15:M15)*programFactor","v":114},{"$f":"IF(COUNT(Scores!$B15:M15)>0,AVERAGE(Scores!$B15:M15)*programFactor,0)","v":10.363636363636363},{"$f":"IF(COUNT(Scores!$B15:M15)>0,MEDIAN(Scores!$B15:M15)*programFactor,0)","v":10.5},{"$f":"IF(getmode(Scores!$B15:M15)=\"\",\"\",getmode(Scores!$B15:M15)*programFactor)","v":3}]
[15,"Program",{"$f":" INDEX(program_table,A17,1)","v":"Homesteading"},{"$f":"SUM(Scores!B16:M16)","v":82},null,null,null,null,null,null,5,null,{"$f":"SUM(Scores!$B16:M16)*programFactor","v":123},{"$f":"IF(COUNT(Scores!$B16:M16)>0,AVERAGE(Scores!$B16:M16)*programFactor,0)","v":11.181818181818182},{"$f":"IF(COUNT(Scores!$B16:M16)>0,MEDIAN(Scores!$B16:M16)*programFactor,0)","v":7.5},{"$f":"IF(getmode(Scores!$B16:M16)=\"\",\"\",getmode(Scores!$B16:M16)*programFactor)","v":4.5}]
[16,"Program",{"$f":" INDEX(program_table,A18,1)","v":"Horse Rides"},{"$f":"SUM(Scores!B17:M17)","v":84},null,null,null,null,null,null,5,null,{"$f":"SUM(Scores!$B17:M17)*programFactor","v":126},{"$f":"IF(COUNT(Scores!$B17:M17)>0,AVERAGE(Scores!$B17:M17)*programFactor,0)","v":10.5},{"$f":"IF(COUNT(Scores!$B17:M17)>0,MEDIAN(Scores!$B17:M17)*programFactor,0)","v":12},{"$f":"IF(getmode(Scores!$B17:M17)=\"\",\"\",getmode(Scores!$B17:M17)*programFactor)","v":12}]
[17,"Program",{"$f":" INDEX(program_table,A19,1)","v":"Hunter Safety"},{"$f":"SUM(Scores!B18:M18)","v":71},null,null,null,null,null,null,5,null,{"$f":"SUM(Scores!$B18:M18)*programFactor","v":106.5},{"$f":"IF(COUNT(Scores!$B18:M18)>0,AVERAGE(Scores!$B18:M18)*programFactor,0)","v":8.875},{"$f":"IF(COUNT(Scores!$B18:M18)>0,MEDIAN(Scores!$B18:M18)*programFactor,0)","v":6},{"$f":"IF(getmode(Scores!$B18:M18)=\"\",\"\",getmode(Scores!$B18:M18)*programFactor)","v":1.5}]
[18,"Program",{"$f":" INDEX(program_table,A20,1)","v":"Inspiration Point Hike"},{"$f":"SUM(Scores!B19:M19)","v":97},null,null,null,null,null,null,5,null,{"$f":"SUM(Scores!$B19:M19)*programFactor","v":145.5},{"$f":"IF(COUNT(Scores!$B19:M19)>0,AVERAGE(Scores!$B19:M19)*programFactor,0)","v":13.227272727272727},{"$f":"IF(COUNT(Scores!$B19:M19)>0,MEDIAN(Scores!$B19:M19)*programFactor,0)","v":15},{"$f":"IF(getmode(Scores!$B19:M19)=\"\",\"\",getmode(Scores!$B19:M19)*programFactor)","v":15}]
[19,"Program",{"$f":" INDEX(program_table,A21,1)","v":"Jicarilla Apache Life"},{"$f":"SUM(Scores!B20:M20)","v":62},null,null,null,null,null,null,5,null,{"$f":"SUM(Scores!$B20:M20)*programFactor","v":93},{"$f":"IF(COUNT(Scores!$B20:M20)>0,AVERAGE(Scores!$B20:M20)*programFactor,0)","v":7.75},{"$f":"IF(COUNT(Scores!$B20:M20)>0,MEDIAN(Scores!$B20:M20)*programFactor,0)","v":6},{"$f":"IF(getmode(Scores!$B20:M20)=\"\",\"\",getmode(Scores!$B20:M20)*programFactor)","v":0}]
[20,"Program",{"$f":" INDEX(program_table,A22,1)","v":"Laser Shot Shooting Range"},{"$f":"SUM(Scores!B21:M21)","v":104},null,null,null,null,null,null,5,null,{"$f":"SUM(Scores!$B21:M21)*programFactor","v":156},{"$f":"IF(COUNT(Scores!$B21:M21)>0,AVERAGE(Scores!$B21:M21)*programFactor,0)","v":13},{"$f":"IF(COUNT(Scores!$B21:M21)>0,MEDIAN(Scores!$B21:M21)*programFactor,0)","v":15},{"$f":"IF(getmode(Scores!$B21:M21)=\"\",\"\",getmode(Scores!$B21:M21)*programFactor)","v":3}]
[21,"Program",{"$f":" INDEX(program_table,A23,1)","v":"Lodge/Cabin Tours"},{"$f":"SUM(Scores!B22:M22)","v":76},null,null,null,null,null,null,5,null,{"$f":"SUM(Scores!$B22:M22)*programFactor","v":114},{"$f":"IF(COUNT(Scores!$B22:M22)>0,AVERAGE(Scores!$B22:M22)*programFactor,0)","v":9.5},{"$f":"IF(COUNT(Scores!$B22:M22)>0,MEDIAN(Scores!$B22:M22)*programFactor,0)","v":6},{"$f":"IF(getmode(Scores!$B22:M22)=\"\",\"\",getmode(Scores!$B22:M22)*programFactor)","v":0}]
[22,"Program",{"$f":" INDEX(program_table,A24,1)","v":"Low Impact Camping"},{"$f":"SUM(Scores!B23:M23)","v":86},null,null,null,null,null,null,5,null,{"$f":"SUM(Scores!$B23:M23)*programFactor","v":129},{"$f":"IF(COUNT(Scores!$B23:M23)>0,AVERAGE(Scores!$B23:M23)*programFactor,0)","v":10.75},{"$f":"IF(COUNT(Scores!$B23:M23)>0,MEDIAN(Scores!$B23:M23)*programFactor,0)","v":9.75},{"$f":"IF(getmode(Scores!$B23:M23)=\"\",\"\",getmode(Scores!$B23:M23)*programFactor)","v":0}]
[23,"Program",{"$f":" INDEX(program_table,A25,1)","v":"Mine Tour"},{"$f":"SUM(Scores!B24:M24)","v":69},null,null,null,null,null,null,5,null,{"$f":"SUM(Scores!$B24:M24)*programFactor","v":103.5},{"$f":"IF(COUNT(Scores!$B24:M24)>0,AVERAGE(Scores!$B24:M24)*programFactor,0)","v":8.625},{"$f":"IF(COUNT(Scores!$B24:M24)>0,MEDIAN(Scores!$B24:M24)*programFactor,0)","v":9.75},{"$f":"IF(getmode(Scores!$B24:M24)=\"\",\"\",getmode(Scores!$B24:M24)*programFactor)","v":3}]
[24,"Program",{"$f":" INDEX(program_table,A26,1)","v":"Mount Phillips"},{"$f":"SUM(Scores!B25:M25)","v":108},null,null,null,null,null,null,5,null,{"$f":"SUM(Scores!$B25:M25)*programFactor","v":162},{"$f":"IF(COUNT(Scores!$B25:M25)>0,AVERAGE(Scores!$B25:M25)*programFactor,0)","v":18},{"$f":"IF(COUNT(Scores!$B25:M25)>0,MEDIAN(Scores!$B25:M25)*programFactor,0)","v":22.5},{"$f":"IF(getmode(Scores!$B25:M25)=\"\",\"\",getmode(Scores!$B25:M25)*programFactor)","v":0}]
[25,"Program",{"$f":" INDEX(program_table,A27,1)","v":"Mountaineering"},{"$f":"SUM(Scores!B26:M26)","v":134},null,null,null,null,null,null,5,null,{"$f":"SUM(Scores!$B26:M26)*programFactor","v":201},{"$f":"IF(COUNT(Scores!$B26:M26)>0,AVERAGE(Scores!$B26:M26)*programFactor,0)","v":16.75},{"$f":"IF(COUNT(Scores!$B26:M26)>0,MEDIAN(Scores!$B26:M26)*programFactor,0)","v":18.75},{"$f":"IF(getmode(Scores!$B26:M26)=\"\",\"\",getmode(Scores!$B26:M26)*programFactor)","v":15}]
[26,"Program",{"$f":" INDEX(program_table,A28,1)","v":"Muzzle Loading Rifle"},{"$f":"SUM(Scores!B27:M27)","v":97},null,null,null,null,null,null,5,null,{"$f":"SUM(Scores!$B27:M27)*programFactor","v":145.5},{"$f":"IF(COUNT(Scores!$B27:M27)>0,AVERAGE(Scores!$B27:M27)*programFactor,0)","v":14.549999999999999},{"$f":"IF(COUNT(Scores!$B27:M27)>0,MEDIAN(Scores!$B27:M27)*programFactor,0)","v":15},{"$f":"IF(getmode(Scores!$B27:M27)=\"\",\"\",getmode(Scores!$B27:M27)*programFactor)","v":15}]
[27,"Program",{"$f":" INDEX(program_table,A29,1)","v":"New Mexico Homestead"},{"$f":"SUM(Scores!B28:M28)","v":100},null,null,null,null,null,null,5,null,{"$f":"SUM(Scores!$B28:M28)*programFactor","v":150},{"$f":"IF(COUNT(Scores!$B28:M28)>0,AVERAGE(Scores!$B28:M28)*programFactor,0)","v":13.636363636363637},{"$f":"IF(COUNT(Scores!$B28:M28)>0,MEDIAN(Scores!$B28:M28)*programFactor,0)","v":18},{"$f":"IF(getmode(Scores!$B28:M28)=\"\",\"\",getmode(Scores!$B28:M28)*programFactor)","v":0}]
[28,"Program",{"$f":" INDEX(program_table,A30,1)","v":"Petroglyph Tour"},{"$f":"SUM(Scores!B29:M29)","v":117},null,null,null,null,null,null,5,null,{"$f":"SUM(Scores!$B29:M29)*programFactor","v":175.5},{"$f":"IF(COUNT(Scores!$B29:M29)>0,AVERAGE(Scores!$B29:M29)*programFactor,0)","v":15.954545454545455},{"$f":"IF(COUNT(Scores!$B29:M29)>0,MEDIAN(Scores!$B29:M29)*programFactor,0)","v":18},{"$f":"IF(getmode(Scores!$B29:M29)=\"\",\"\",getmode(Scores!$B29:M29)*programFactor)","v":0}]
[29,"Program",{"$f":" INDEX(program_table,A31,1)","v":"Post Civil War Encampment"},{"$f":"SUM(Scores!B30:M30)","v":103},null,null,null,null,null,null,5,null,{"$f":"SUM(Scores!$B30:M30)*programFactor","v":154.5},{"$f":"IF(COUNT(Scores!$B30:M30)>0,AVERAGE(Scores!$B30:M30)*programFactor,0)","v":15.450000000000001},{"$f":"IF(COUNT(Scores!$B30:M30)>0,MEDIAN(Scores!$B30:M30)*programFactor,0)","v":18},{"$f":"IF(getmode(Scores!$B30:M30)=\"\",\"\",getmode(Scores!$B30:M30)*programFactor)","v":18}]
[30,"Program",{"$f":" INDEX(program_table,A32,1)","v":"Railroading"},{"$f":"SUM(Scores!B31:M31)","v":126},null,null,null,null,null,null,5,null,{"$f":"SUM(Scores!$B31:M31)*programFactor","v":189},{"$f":"IF(COUNT(Scores!$B31:M31)>0,AVERAGE(Scores!$B31:M31)*programFactor,0)","v":17.181818181818183},{"$f":"IF(COUNT(Scores!$B31:M31)>0,MEDIAN(Scores!$B31:M31)*programFactor,0)","v":18},{"$f":"IF(getmode(Scores!$B31:M31)=\"\",\"\",getmode(Scores!$B31:M31)*programFactor)","v":22.5}]
[31,"Program",{"$f":" INDEX(program_table,A33,1)","v":"Rock Climbing & Rappelling"},{"$f":"SUM(Scores!B32:M32)","v":135},null,null,null,null,null,null,5,null,{"$f":"SUM(Scores!$B32:M32)*programFactor","v":202.5},{"$f":"IF(COUNT(Scores!$B32:M32)>0,AVERAGE(Scores!$B32:M32)*programFactor,0)","v":18.40909090909091},{"$f":"IF(COUNT(Scores!$B32:M32)>0,MEDIAN(Scores!$B32:M32)*programFactor,0)","v":19.5},{"$f":"IF(getmode(Scores!$B32:M32)=\"\",\"\",getmode(Scores!$B32:M32)*programFactor)","v":19.5}]
[32,"Program",{"$f":" INDEX(program_table,A34,1)","v":"Rocky Mountain Fur Co."},{"$f":"SUM(Scores!B33:M33)","v":61},null,null,null,null,null,null,5,null,{"$f":"SUM(Scores!$B33:M33)*programFactor","v":91.5},{"$f":"IF(COUNT(Scores!$B33:M33)>0,AVERAGE(Scores!$B33:M33)*programFactor,0)","v":9.1499999999999986},{"$f":"IF(COUNT(Scores!$B33:M33)>0,MEDIAN(Scores!$B33:M33)*programFactor,0)","v":7.5},{"$f":"IF(getmode(Scores!$B33:M33)=\"\",\"\",getmode(Scores!$B33:M33)*programFactor)","v":0}]
[33,"Program",{"$f":" INDEX(program_table,A35,1)","v":"Shooting/Reloading - .30-06"},{"$f":"SUM(Scores!B34:M34)","v":121},null,null,null,null,null,null,5,null,{"$f":"SUM(Scores!$B34:M34)*programFactor","v":181.5},{"$f":"IF(COUNT(Scores!$B34:M34)>0,AVERAGE(Scores!$B34:M34)*programFactor,0)","v":18.149999999999999},{"$f":"IF(COUNT(Scores!$B34:M34)>0,MEDIAN(Scores!$B34:M34)*programFactor,0)","v":18},{"$f":"IF(getmode(Scores!$B34:M34)=\"\",\"\",getmode(Scores!$B34:M34)*programFactor)","v":10.5}]
[34,"Program",{"$f":" INDEX(program_table,A36,1)","v":"Shotgun Shooting/Reloading - 12 Gauge"},{"$f":"SUM(Scores!B35:M35)","v":147},null,null,null,null,null,null,5,null,{"$f":"SUM(Scores!$B35:M35)*programFactor","v":220.5},{"$f":"IF(COUNT(Scores!$B35:M35)>0,AVERAGE(Scores!$B35:M35)*programFactor,0)","v":18.375},{"$f":"IF(COUNT(Scores!$B35:M35)>0,MEDIAN(Scores!$B35:M35)*programFactor,0)","v":18},{"$f":"IF(getmode(Scores!$B35:M35)=\"\",\"\",getmode(Scores!$B35:M35)*programFactor)","v":10.5}]
[35,"Program",{"$f":" INDEX(program_table,A37,1)","v":"Spar Pole Climbing"},{"$f":"SUM(Scores!B36:M36)","v":140},null,null,null,null,null,null,5,null,{"$f":"SUM(Scores!$B36:M36)*programFactor","v":210},{"$f":"IF(COUNT(Scores!$B36:M36)>0,AVERAGE(Scores!$B36:M36)*programFactor,0)","v":19.09090909090909},{"$f":"IF(COUNT(Scores!$B36:M36)>0,MEDIAN(Scores!$B36:M36)*programFactor,0)","v":21},{"$f":"IF(getmode(Scores!$B36:M36)=\"\",\"\",getmode(Scores!$B36:M36)*programFactor)","v":7.5}]
[36,"Program",{"$f":" INDEX(program_table,A38,1)","v":"Tie Making & Crosscut Saws"},{"$f":"SUM(Scores!B37:M37)","v":170},null,null,null,null,null,null,5,null,{"$f":"SUM(Scores!$B37:M37)*programFactor","v":255},{"$f":"IF(COUNT(Scores!$B37:M37)>0,AVERAGE(Scores!$B37:M37)*programFactor,0)","v":23.181818181818183},{"$f":"IF(COUNT(Scores!$B37:M37)>0,MEDIAN(Scores!$B37:M37)*programFactor,0)","v":27},{"$f":"IF(getmode(Scores!$B37:M37)=\"\",\"\",getmode(Scores!$B37:M37)*programFactor)","v":30}]
[37,"Program",{"$f":" INDEX(program_table,A39,1)","v":"Tomahawk Throwing"},{"$f":"SUM(Scores!B38:M38)","v":157},null,null,null,null,null,null,5,null,{"$f":"SUM(Scores!$B38:M38)*programFactor","v":235.5},{"$f":"IF(COUNT(Scores!$B38:M38)>0,AVERAGE(Scores!$B38:M38)*programFactor,0)","v":21.40909090909091},{"$f":"IF(COUNT(Scores!$B38:M38)>0,MEDIAN(Scores!$B38:M38)*programFactor,0)","v":22.5},{"$f":"IF(getmode(Scores!$B38:M38)=\"\",\"\",getmode(Scores!$B38:M38)*programFactor)","v":30}]
[38,"Program",{"$f":" INDEX(program_table,A40,1)","v":"Tooth of Time"},{"$f":"SUM(Scores!B39:M39)","v":129},null,null,null,null,null,null,5,null,{"$f":"SUM(Scores!$B39:M39)*programFactor","v":193.5},{"$f":"IF(COUNT(Scores!$B39:M39)>0,AVERAGE(Scores!$B39:M39)*programFactor,0)","v":19.350000000000001},{"$f":"IF(COUNT(Scores!$B39:M39)>0,MEDIAN(Scores!$B39:M39)*programFactor,0)","v":18},{"$f":"IF(getmode(Scores!$B39:M39)=\"\",\"\",getmode(Scores!$B39:M39)*programFactor)","v":10.5}]
[39,"Program",{"$f":" INDEX(program_table,A41,1)","v":"Trail Peak"},{"$f":"SUM(Scores!B40:M40)","v":101},null,null,null,null,null,null,5,null,{"$f":"SUM(Scores!$B40:M40)*programFactor","v":151.5},{"$f":"IF(COUNT(Scores!$B40:M40)>0,AVERAGE(Scores!$B40:M40)*programFactor,0)","v":12.625},{"$f":"IF(COUNT(Scores!$B40:M40)>0,MEDIAN(Scores!$B40:M40)*programFactor,0)","v":15},{"$f":"IF(getmode(Scores!$B40:M40)=\"\",\"\",getmode(Scores!$B40:M40)*programFactor)","v":15}]
[40,"Program",{"$f":" INDEX(program_table,A42,1)","v":"Western Lore/Branding"},{"$f":"SUM(Scores!B41:M41)","v":93},null,null,null,null,null,null,5,null,{"$f":"SUM(Scores!$B41:M41)*programFactor","v":139.5},{"$f":"IF(COUNT(Scores!$B41:M41)>0,AVERAGE(Scores!$B41:M41)*programFactor,0)","v":13.950000000000001},{"$f":"IF(COUNT(Scores!$B41:M41)>0,MEDIAN(Scores!$B41:M41)*programFactor,0)","v":13.5},{"$f":"IF(getmode(Scores!$B41:M41)=\"\",\"\",getmode(Scores!$B41:M41)*programFactor)","v":12}]
[41,"Peaks","Baldy Mountain",2]
[42,"Peaks","Mount Phillips",1.5]
[43,"Peaks","Tooth of Time",1.5]
[44,"Peaks","Trail Peak",1]
[45,"Peaks","Mountaineering",0.8]
[46,"Area","Rank 1",{"$f":"IF(UPPER(areaImportant)=\"Y\",INDEX(areaDefaults,Preferences!B7),0)","v":0}]
[47,"Area","Rank 2",{"$f":"IF(UPPER(areaImportant)=\"Y\",INDEX(areaDefaults,Preferences!B8),0)","v":0},null,null,null,null,1,1000]
[48,"Area","Rank 3",{"$f":"IF(UPPER(areaImportant)=\"Y\",INDEX(areaDefaults,Preferences!B9),0)","v":0},null,null,null,null,2,600,{"$f":"IF(areaImportant=\"y\",\"Preferences setting is that area is important\", \"Preferences setting is that area is not important\")","v":"Preferences setting is that area is not important"}]
[49,"Area","Rank 4",{"$f":"IF(UPPER(areaImportant)=\"Y\",INDEX(areaDefaults,Preferences!B10),0)","v":0},null,null,null,null,3,200,{"$f":"IF(areaImportant=\"y\",\"These are the default values — MAKE CHANGES HERE\", \"\")","v":""}]
[50,"Days Food",1,100,null,null,null,null,4,150]
[51,"Days Food",2,90]
[52,"Days Food",3,80]
[53,"Days Food",4,70]
[54,"Days Food",5,60]
[55,"Days Food",6,50]
[56,"Food from HQ",1,20]
[57,"Food from HQ",2,30]
[58,"Food from HQ",3,40]
[59,"Food from HQ",4,50]
[60,"Food from HQ",5,60]
[61,"Food from HQ",6,70]
[62,"Food from HQ",7,80]
[63,"Food from HQ",8,90]
[64,"Food from HQ",9,100]
[65,"Trail Camps",0,250]
[66,"Trail Camps",1,200]
[67,"Trail Camps",2,175]
[{"$f":"A69+1","v":68},"Trail Camps",3,150]
[{"$f":"A70+1","v":69},"Trail Camps",4,125]
[{"$f":"A71+1","v":70},"Trail Camps",5,100]
[{"$f":"A72+1","v":71},"Trail Camps",6,75]
[{"$f":"A73+1","v":72},"Trail Camps",7,50]
[73,"Trail Camps",8,25]
[74,"Dry Camps",0,300]
[75,"Dry Camps",1,250]
[76,"Dry Camps",2,225]
[77,"Dry Camps",3,200]
[78,"Dry Camps",4,150]
[79,"Dry Camps",5,100]
[80,"Dry Camps",6,50]
[81,"Dry Camps",7,20]
[82,"Total Camps",3,60]
[83,"Total Camps",4,70]
[84,"Total Camps",5,80]
[85,"Total Camps",6,90]
[86,"Total Camps",7,100]
[87,"Total Camps",8,75]
[88,"Total Camps",9,60]
[89,"Total Camps",10,50]
[90,"Difficulty","C",4000]
[91,"Difficulty","R",3166.6666666666665,null,null,null,null,null,null,"Match skill level with itinerary difficulty"]
[92,"Difficulty","S",2333.333333333333,null,null,null,null,null,null,"Skill","C","R","S","SS"]
[93,"Difficulty","SS",1500,null,null,null,null,"maxSkill:",4000,1,{"$f":"maxSkill+maxDifficult","v":5000},{"$f":"L95-((L95-O95)/3)","v":3500},{"$f":"M95-((L95-O95)/3)","v":2000},{"$f":"difficultDelta","v":500}]
[94,"Max Altitude",0,20,null,null,null,null,"maxDifficult:",1000,2,{"$f":"L95-((L$95-L$104)/9)","v":4500},{"$f":"L96-((L96-O96)/3)","v":3333.333333333333},{"$f":"M96-((L96-O96)/3)","v":2166.6666666666661},{"$f":"L103","v":1000}]
[95,"Max Altitude",9000,30,null,null,null,null,"minDifficult:",500,3,{"$f":"L96-((L$95-L$104)/9)","v":4000},3166.6666666666665,2333.333333333333,{"$f":"L102","v":1500}]
[96,"Max Altitude",9100,40,null,null,null,null,null,null,4,3500,3000,2500,{"$f":"L101","v":2000}]
[97,"Max Altitude",9200,50,null,null,null,null,null,null,5,3000,2833.3333333333335,2666.666666666667,{"$f":"L100","v":2500}]
[98,"Max Altitude",9800,60,null,null,null,null,null,null,6,2500,2666.6666666666665,2833.333333333333,{"$f":"L99","v":3000}]
[99,"Max Altitude",10000,70,null,null,null,null,{"$f":"\"Your Crew is Level \" & skillLevel","v":"Your Crew is Level 3"},null,7,2000,2500,3000,{"$f":"L98","v":3500}]
[100,"Max Altitude",10500,80,null,null,null,null,"(from Preferences)",null,8,1500,2333.3333333333335,3166.666666666667,{"$f":"L97","v":4000}]
[101,"Max Altitude",10600,90,null,null,null,null,null,null,9,1000,2166.666666666667,3333.3333333333339,{"$f":"L96","v":4500}]
[102,"Max Altitude",10800,100,null,null,null,null,null,null,10,{"$f":"difficultDelta","v":500},2000,3500,{"$f":"L95","v":5000}]
[103,"Max Altitude",11000,110,null,null,null,null,null,null,null,"Challenging","Rugged","Strenuous","Super Strenuous"]
[104,"Max Altitude",11800,120]
[105,"Max Altitude",12441,130]
[106,"Total Gain",0,40]
[107,"Total Gain",1500,50]
[108,"Total Gain",2000,60]
[109,"Total Gain",2500,70]
[110,"Total Gain",3000,80]
[111,"Total Gain",3500,90]
[112,"Total Gain",4000,100]
[113,"Total Gain",4500,90]
[114,"Total Gain",5000,80]
[115,"Total Gain",5500,70]
[116,"Total Gain",6000,60]
[117,"Total Gain",6500,50]
[118,"Daily Change",300,100]
[119,"Daily Change",600,300]
[120,"Daily Change",900,200]
[121,"Daily Change",1200,100]
[122,"Hike Out","n",0]
[123,"Hike Out","y",500]
[124,"Hike In","n",0]
[125,"Hike In","y",500]
[126,"Distance","Miles",100]
["These are used for code lookup puposes only.","Difficulty","C","Challenging"]
[null,"Difficulty","R","Rugged"]
[null,"Difficulty","S","Strenuous"]
[null,"Difficulty","SS","Super Strenuous"]
[null,"campType","D","Dry"]
[null,"campType","S","Staffed"]
[null,"campType","T","Trail"]
[null,"campType","X","No  Camping"]

{"sheet":"Detail Informaton","index":9,"n_rows":39,"n_cols":2,"rows_kept":39,"cut":false,"hidden":false,"merged":[[1,0,1,1],[2,0,2,1]]}
["This sheet provides more detailed information about this spreadsheet and may be useful for anyone wishing to modify it."]
["This spreadsheet makes extensive use of \"Protected\" and \"Hidden\" cells and \"Hidden\"  worksheets.  To \"unprotect\" or \"unhide\" any of these, put the cursor on a worksheet tab and right click it.  Click \"Unprotect Sheet...\" and select the worksheet to display.  There are no passwords locking any of the \"hidden\" or \"protected\" areas."]
["There are buttons that may be pressed to select the scoring to be used in the calculation.  These are \"Total\" for the total score, \"Average\" to select the average (or Mean) score, \"Median\" to select the most common score, or \"Mode\" (most frequently used score).  These control the actual score values used in calculation  Try all and see what the difference in the results is."]
[]
["There are a number of \"tabs\" or \"worksheets\".  The use of these is as follows:"]
["Visible:"]
["  Instructions","General use instructions for the user that does not want to make any changes to the spreadsheet."]
["  Preferences","A set of \"preferences\" that may be used to adjust the calculations based on information specific to the crew."]
["  Scores","The \"scores\" for each crewmember from the program survey form.  These are on the basis of 0 to 20."]
["  Results","The calculated \"result\" from fitting the \"scores\" to the itinerary information."]
["  Itinerary Chart","Graph of sorted itineraries — shows relative differences between selections"]
["  Program Chart","This is a graph showing what programs the crewmembers wish to participate in."]
["  Itinerary Details","This provides a snapshot of individual itineraries.  Enter the itinerary the snapship is desired for."]
["  Itinerary Xref Chart","This is the same chart that's in the in the TREKS book"]
["  Tables","This is the set of \"factors\" for each of the various metrics.  These may be modified by the user."]
["  Detail Information","This worksheet."]
["Hidden:  (Note that there are no passwords on these, the user may \"unhide\" them by right-clicking in the tab area)"]
["  Itinerary Camps","Much information updated annually by hand from the TREKS Book.  Information relating to itineraries is calculated from these entries."]
["  ItineraryPrograms","Programs available at camps.  This can be created automatically but must be checked & updated manually.  Can verify with the Itinerary Xref Chart.  This takes a lot of detailed work!"]
["  Descriptions","This is the textual description of each itinerary.  This is manually copied from the TREKS Book each year."]
["  Calculator","This brings the preferences, scores, factors from \"Tables\", and itinerary information together to calculate detailed preference values for each itinerary.  The sum of these is the \"Result\" for each itinerary."]
["  Itineraries","This is information relative to the current year's itineraries.  All is derived from tables in other worksheets."]
["  Programs","Table of Philmont's available programs.  These are specific to 12-Day (all), 9-Day (subset) and 7-Day (subset) treks."]
["  Camp Programs","This is a table of programs available at each staffed camp. Verified manually, used to develop basic info for ItineraryPrograms worksheet.  Does not often change from year to year."]
["  Camp Elevations","This is information relative to Philmont's camps.  It is used in the calculations and in the Itinerary Details printout.  Is a good source of camp names & UTM Coordinates/elevations."]
["  uteParkPassAlternatives","Alternative plans for Ute Park Pass itineraries.  Only used for 12-Day & 9-Day itineraries.  Ignored for 7-Day."]
[]
["Information in the Visible tabs is generally either documented in the worksheet or is self-evident.  Information about the worksheets that may be useful is below."]
["  Scores","Clicking the \"Clear Scores\" button erases all scores for all 12 participants.  User should enter the participant names in row 1."]
["  Results","The left side shows the itineraries that best \"fit\" the crew's desires.  On the right is a table showing the programs the crew desired in preference order.  It indicates which programs are included in each of the top 6 itineraries. "]
["  Itinerary Details","Enter the itinerary number and expedition number to get information about the itinerary including daily information."]
["  Tables","If some of the areas are more important to your crew, you can change the factors used in the calculations here.  The factors are highlighted where arbitrary values were set based on the author's preferences, they may be modified to meet your crew.   Only make changes in the unlocked cells in the Value column or the Green boxes for Area or Skill/Difficulty.  You may navigate between these with the TAB key."]
["  Itineraries","This sheet has information about the current year's itineraries.  Key information is manually updated from the TREKS books (daily campsites, first food pickup day number, method of return to base, itineraries that cross US-64, peaks hiked, etc.)  Row 1 has the columns that must be updated annually highlighted in red."]
["  itineraryXrefChart","This conforms to the Cross Reference chart in the TREKS book showing itineraries that have programs.  It is based on information in the Itinerary Programs worksheet."]
["  Calculator","This calculates a preference value for each of the metrics.  There is nothing to modify here — the value calculated will be based on values from other worksheets and any modification desired to any metric should be made in those underlying sheets, not in this one."]
["  Camp Elevations","This worksheet is a list of all the camps with details about the camp.  Note that some of the camps are not used and the information may not be complete for them.  It doesn't matter because only the camps included in the current year's itineraries is ever referenced.  All are shown here for completeness.   It is a good source of camp names & UTM Coordinates/elevations."]
["  uteParkPassAlternatives","These are the camps used for each of the alternative treks for the Ute Park Pass itineraries.  It is ignored for 7-Day Itineraries."]
["  Descriptions","These descriptions are copied from the TREKS Book and are displayed on the Itinerary Details display."]
["  Camp Programs","This is a table of staffed camps with flags for the programs offered at each.  It is used to provide much of the program inclusion information in the Itineries worksheet."]

{"sheet":"itineraryCamps","index":10,"n_rows":40,"n_cols":117,"rows_kept":40,"cut":false,"hidden":true,"merged":[[1,36,1,45],[1,27,1,30],[1,115,1,116],[1,85,1,94],[1,46,1,54],[1,55,1,64],[1,65,1,74],[1,75,1,84],[1,95,1,104],[1,105,1,114],[1,24,1,26],[38,31,38,35],[1,31,1,35],[1,1,1,3],[0,0,2,0],[1,4,1,13],[1,14,1,23]]}
["(Enter Red columns manually)\n\n\nItinerary",1,{"$f":"B1+1","v":2},3,4,5,{"$f":"F1+1","v":6},{"$f":"G1+1","v":7},{"$f":"H1+1","v":8},{"$f":"I1+1","v":9},10,11,12,13,14,15,16,{"$f":"Q1+1","v":17},18,19,20,21,22,23,24,25,26,27,{"$f":"AB1+1","v":28},29,30,31,32,33,34,35,{"$f":"X1+1","v":24},{"$f":"AK1+1","v":25},26,27,28,29,30,31,32,33,34,35,36,37,38,39,40,41,42,43,44,45,46,47,48,49,50,51,52,53,54,55,56,57,58,59,60,61,62,63,64,65,66,67,68,69,70,71,72,null,null,null,null,null,null,null,null,null,null,{"$f":"CG1+1","v":73},{"$f":"CR1+1","v":74},75,76,77,78,79,80,81,82,83,84,85,86,87,88,89,90,91,92,93,94]
[null,"Itinerary Information",null,null,"Backcountry Camps by Itinerary Day",null,null,null,null,null,null,null,null,null,"Food Pickup's",null,null,null,null,null,null,null,null,null,"Start/End",null,null,"Cross US-64 (Enter Manually)",null,null,null,"Peaks (Enter Manually)",null,null,null,null,"Camp Elevation",null,null,null,null,null,null,null,null,null,"Daily Elevation Change",null,null,null,null,null,null,null,null,"Staffed Camp",null,null,null,null,null,null,null,null,null,"Trail Camp",null,null,null,null,null,null,null,null,null,"Dry Camp",null,null,null,null,null,null,null,null,null,"Layovers",null,null,null,null,null,null,null,null,null,"Country",null,null,null,null,null,null,null,null,null,"Map",null,null,null,null,null,null,null,null,null,"Food Pickup Info"]
[null,"Itinerary Label","Difficulty","Distance","Day 2","Day 3","Day 4","Day 5","Day 6","Day 7","Day 8","Day 9","Day 10","Day 11",2,{"$f":"O3+1","v":3},{"$f":"P3+1","v":4},5,6,7,8,9,10,11,"Starting Trailhead","Ending Trailhead","Via Tooth","Itin:Day","Day","Cross At","Direction","Baldy","Phillips","Tooth","Trail","Mountaineering",{"$f":"O3","v":2},3,4,5,6,7,8,9,10,11,"2 :: 3","3 :: 4","4 :: 5","5 :: 6","6 :: 7","7 :: 8","8 :: 9","9 :: 10","10 :: 11",2,3,4,5,6,7,8,9,10,11,2,3,4,5,6,7,8,9,10,11,2,3,4,5,6,7,8,9,10,11,2,3,4,5,6,7,8,9,10,11,2,3,4,5,6,7,8,9,10,11,2,3,4,5,6,7,8,9,10,11,"Days to 1st Food PU","Max Food Days"]
[{"$f":"IF(ROW()-3>nItineraries,\"\",itineraryNoPrefix & ROW()-3)","v":"9-1"},null,"C",37,"Harlan","Devil's Wash Basin","Cimarroncita","Black Jacks","Elkhorn","Ponil","Indian Writings",null,null,null,"Camping HQ",null,"Cimarroncita",null,null,"Ponil",null,null,null,null,"Turkey Creek","Six Mile Gate",{"$f":"IF(Z4=\"Hike In\",\"y\",\"\")","v":""},{"$f":"IF(AC4=\"\",\"\",numericItinerary(A4) & \":\" & AC4)","v":""},null,null,null,null,null,{"$f":"IF(AA4=\"y\",\"y\",\"\")","v":""},null,"y",{"$f":"IF(E4<>\"\",INDEX(Elevations,MATCH(E4,camps,0)),\"\")","v":7550},{"$f":"IF(F4<>\"\",INDEX(Elevations,MATCH(F4,camps,0)),\"\")","v":8515},{"$f":"IF(G4<>\"\",INDEX(Elevations,MATCH(G4,camps,0)),\"\")","v":7373},{"$f":"IF(H4<>\"\",INDEX(Elevations,MATCH(H4,camps,0)),\"\")","v":8211},{"$f":"IF(I4<>\"\",INDEX(Elevations,MATCH(I4,camps,0)),\"\")","v":8496},{"$f":"IF(J4<>\"\",INDEX(Elevations,MATCH(J4,camps,0)),\"\")","v":7150},{"$f":"IF(K4<>\"\",INDEX(Elevations,MATCH(K4,camps,0)),\"\")","v":6979},{"$f":"IF(L4<>\"\",INDEX(Elevations,MATCH(L4,camps,0)),\"\")","v":""},{"$f":"IF(M4<>\"\",INDEX(Elevations,MATCH(M4,camps,0)),\"\")","v":""},{"$f":"IF(N4<>\"\",INDEX(Elevations,MATCH(N4,camps,0)),\"\")","v":""},{"$f":"IF(AL4<>\"\",ABS(AK4-AL4),\"\")","v":965},{"$f":"IF(AM4<>\"\",ABS(AL4-AM4),\"\")","v":1142},838,285,1346,171,"","","",{"$f":"IF(INDEX(campsByItinerary,numericItinerary($A4),BD$3-1)=\"\",\"\",VLOOKUP(INDEX(campsByItinerary,numericItinerary($A4),BD$3-1),campInfo,8))","v":"Y"},{"$f":"IF(INDEX(campsByItinerary,numericItinerary($A4),BE$3-1)=\"\",\"\",VLOOKUP(INDEX(campsByItinerary,numericItinerary($A4),BE$3-1),campInfo,8))","v":""},{"$f":"IF(INDEX(campsByItinerary,numericItinerary($A4),BF$3-1)=\"\",\"\",VLOOKUP(INDEX(campsByItinerary,numericItinerary($A4),BF$3-1),campInfo,8))","v":"Y"},{"$f":"IF(INDEX(campsByItinerary,numericItinerary($A4),BG$3-1)=\"\",\"\",VLOOKUP(INDEX(campsByItinerary,numericItinerary($A4),BG$3-1),campInfo,8))","v":""},{"$f":"IF(INDEX(campsByItinerary,numericItinerary($A4),BH$3-1)=\"\",\"\",VLOOKUP(INDEX(campsByItinerary,numericItinerary($A4),BH$3-1),campInfo,8))","v":""},{"$f":"IF(INDEX(campsByItinerary,numericItinerary($A4),BI$3-1)=\"\",\"\",VLOOKUP(INDEX(campsByItinerary,numericItinerary($A4),BI$3-1),campInfo,8))","v":"Y"},{"$f":"IF(INDEX(campsByItinerary,numericItinerary($A4),BJ$3-1)=\"\",\"\",VLOOKUP(INDEX(campsByItinerary,numericItinerary($A4),BJ$3-1),campInfo,8))","v":"Y"},{"$f":"IF(INDEX(campsByItinerary,numericItinerary($A4),BK$3-1)=\"\",\"\",VLOOKUP(INDEX(campsByItinerary,numericItinerary($A4),BK$3-1),campInfo,8))","v":""},{"$f":"IF(INDEX(campsByItinerary,numericItinerary($A4),BL$3-1)=\"\",\"\",VLOOKUP(INDEX(campsByItinerary,numericItinerary($A4),BL$3-1),campInfo,8))","v":""},{"$f":"IF(INDEX(campsByItinerary,numericItinerary($A4),BM$3-1)=\"\",\"\",VLOOKUP(INDEX(campsByItinerary,numericItinerary($A4),BM$3-1),campInfo,8))","v":""},{"$f":"IF(BD4=\"Y\",\"\",\"Y\")","v":""},{"$f":"IF(BE4=\"Y\",\"\",\"Y\")","v":"Y"},"","Y","Y","","","Y","Y","Y",{"$f":"IF(INDEX(campsByItinerary,numericItinerary($A4),BD$3-1)=\"\",\"\",VLOOKUP(INDEX(campsByItinerary,numericItinerary($A4),BD$3-1),campInfo,10))","v":""},{"$f":"IF(INDEX(campsByItinerary,numericItinerary($A4),BE$3-1)=\"\",\"\",VLOOKUP(INDEX(campsByItinerary,numericItinerary($A4),BE$3-1),campInfo,10))","v":"Y"},{"$f":"IF(INDEX(campsByItinerary,numericItinerary($A4),BF$3-1)=\"\",\"\",VLOOKUP(INDEX(campsByItinerary,numericItinerary($A4),BF$3-1),campInfo,10))","v":""},{"$f":"IF(INDEX(campsByItinerary,numericItinerary($A4),BG$3-1)=\"\",\"\",VLOOKUP(INDEX(campsByItinerary,numericItinerary($A4),BG$3-1),campInfo,10))","v":""},{"$f":"IF(INDEX(campsByItinerary,numericItinerary($A4),BH$3-1)=\"\",\"\",VLOOKUP(INDEX(campsByItinerary,numericItinerary($A4),BH$3-1),campInfo,10))","v":""},{"$f":"IF(INDEX(campsByItinerary,numericItinerary($A4),BI$3-1)=\"\",\"\",VLOOKUP(INDEX(campsByItinerary,numericItinerary($A4),BI$3-1),campInfo,10))","v":""},{"$f":"IF(INDEX(campsByItinerary,numericItinerary($A4),BJ$3-1)=\"\",\"\",VLOOKUP(INDEX(campsByItinerary,numericItinerary($A4),BJ$3-1),campInfo,10))","v":""},{"$f":"IF(INDEX(campsByItinerary,numericItinerary($A4),BK$3-1)=\"\",\"\",VLOOKUP(INDEX(campsByItinerary,numericItinerary($A4),BK$3-1),campInfo,10))","v":""},{"$f":"IF(INDEX(campsByItinerary,numericItinerary($A4),BL$3-1)=\"\",\"\",VLOOKUP(INDEX(campsByItinerary,numericItinerary($A4),BL$3-1),campInfo,10))","v":""},{"$f":"IF(INDEX(campsByItinerary,numericItinerary($A4),BM$3-1)=\"\",\"\",VLOOKUP(INDEX(campsByItinerary,numericItinerary($A4),BM$3-1),campInfo,10))","v":""},null,{"$f":"IF(E4=F4,\"Y\",\"\")","v":""},{"$f":"IF(F4=G4,\"Y\",\"\")","v":""},{"$f":"IF(G4=H4,\"Y\",\"\")","v":""},{"$f":"IF(H4=I4,\"Y\",\"\")","v":""},{"$f":"IF(I4=J4,\"Y\",\"\")","v":""},{"$f":"IF(J4=K4,\"Y\",\"\")","v":""},{"$f":"IF(K4=L4,\"Y\",\"\")","v":""},{"$f":"IF(L4=M4,\"Y\",\"\")","v":"Y"},{"$f":"IF(M4=N4,\"Y\",\"\")","v":"Y"},{"$f":"INDEX(campsByItinerary,numericItinerary($A4),BD$3-1)","v":"Harlan"},{"$f":"IF(INDEX(campsByItinerary,numericItinerary($A4),BE$3-1)=\"\",\"\",VLOOKUP(INDEX(campsByItinerary,numericItinerary($A4),BE$3-1),campInfo,2))","v":"Central"},{"$f":"IF(INDEX(campsByItinerary,numericItinerary($A4),BF$3-1)=\"\",\"\",VLOOKUP(INDEX(campsByItinerary,numericItinerary($A4),BF$3-1),campInfo,2))","v":"Central"},{"$f":"IF(INDEX(campsByItinerary,numericItinerary($A4),BG$3-1)=\"\",\"\",VLOOKUP(INDEX(campsByItinerary,numericItinerary($A4),BG$3-1),campInfo,2))","v":"North"},{"$f":"IF(INDEX(campsByItinerary,numericItinerary($A4),BH$3-1)=\"\",\"\",VLOOKUP(INDEX(campsByItinerary,numericItinerary($A4),BH$3-1),campInfo,2))","v":"North"},{"$f":"IF(INDEX(campsByItinerary,numericItinerary($A4),BI$3-1)=\"\",\"\",VLOOKUP(INDEX(campsByItinerary,numericItinerary($A4),BI$3-1),campInfo,2))","v":"North"},{"$f":"IF(INDEX(campsByItinerary,numericItinerary($A4),BJ$3-1)=\"\",\"\",VLOOKUP(INDEX(campsByItinerary,numericItinerary($A4),BJ$3-1),campInfo,2))","v":"North"},{"$f":"IF(INDEX(campsByItinerary,numericItinerary($A4),BK$3-1)=\"\",\"\",VLOOKUP(INDEX(campsByItinerary,numericItinerary($A4),BK$3-1),campInfo,2))","v":""},{"$f":"IF(INDEX(campsByItinerary,numericItinerary($A4),BL$3-1)=\"\",\"\",VLOOKUP(INDEX(campsByItinerary,numericItinerary($A4),BL$3-1),campInfo,2))","v":""},{"$f":"IF(INDEX(campsByItinerary,numericItinerary($A4),BM$3-1)=\"\",\"\",VLOOKUP(INDEX(campsByItinerary,numericItinerary($A4),BM$3-1),campInfo,2))","v":""},{"$f":"IF(INDEX(campsByItinerary,numericItinerary($A4),BD$3-1)=\"\",\"\",VLOOKUP(INDEX(campsByItinerary,numericItinerary($A4),BD$3-1),campInfo,12))","v":"South"},{"$f":"IF(INDEX(campsByItinerary,numericItinerary($A4),BE$3-1)=\"\",\"\",VLOOKUP(INDEX(campsByItinerary,numericItinerary($A4),BE$3-1),campInfo,12))","v":"South"},{"$f":"IF(INDEX(campsByItinerary,numericItinerary($A4),BF$3-1)=\"\",\"\",VLOOKUP(INDEX(campsByItinerary,numericItinerary($A4),BF$3-1),campInfo,12))","v":"North & South"},{"$f":"IF(INDEX(campsByItinerary,numericItinerary($A4),BG$3-1)=\"\",\"\",VLOOKUP(INDEX(campsByItinerary,numericItinerary($A4),BG$3-1),campInfo,12))","v":"North"},{"$f":"IF(INDEX(campsByItinerary,numericItinerary($A4),BH$3-1)=\"\",\"\",VLOOKUP(INDEX(campsByItinerary,numericItinerary($A4),BH$3-1),campInfo,12))","v":"North"},{"$f":"IF(INDEX(campsByItinerary,numericItinerary($A4),BI$3-1)=\"\",\"\",VLOOKUP(INDEX(campsByItinerary,numericItinerary($A4),BI$3-1),campInfo,12))","v":"North"},{"$f":"IF(INDEX(campsByItinerary,numericItinerary($A4),BJ$3-1)=\"\",\"\",VLOOKUP(INDEX(campsByItinerary,numericItinerary($A4),BJ$3-1),campInfo,12))","v":"North"},{"$f":"IF(INDEX(campsByItinerary,numericItinerary($A4),BK$3-1)=\"\",\"\",VLOOKUP(INDEX(campsByItinerary,numericItinerary($A4),BK$3-1),campInfo,12))","v":""},{"$f":"IF(INDEX(campsByItinerary,numericItinerary($A4),BL$3-1)=\"\",\"\",VLOOKUP(INDEX(campsByItinerary,numericItinerary($A4),BL$3-1),campInfo,12))","v":""},{"$f":"IF(INDEX(campsByItinerary,numericItinerary($A4),BM$3-1)=\"\",\"\",VLOOKUP(INDEX(campsByItinerary,numericItinerary($A4),BM$3-1),campInfo,12))","v":""},{"$f":"getfoodPU(\"First\",numericItinerary($A4))","v":2},{"$f":"getfoodPU(\"Max\",numericItinerary($A4))","v":2}]
["9-2",null,"C",39,"House Canyon","Indian Writings","Metcalf Station","Bluestem","Pueblano","Black Horse Mine","Maxwell",null,null,null,"Camping HQ",null,null,"Ponil",null,"Baldy Town",null,null,null,null,"Six Mile Gate","Maxwell",{"$f":"IF(Z5=\"Hike In\",\"y\",\"\")","v":""},{"$f":"IF(AC5=\"\",\"\",numericItinerary(A5) & \":\" & AC5)","v":""},null,null,null,"y",null,{"$f":"IF(AA5=\"y\",\"y\",\"\")","v":""},null,null,7157,6979,7220,7495,8069,10750,8498,"","","",{"$f":"IF(AL5<>\"\",ABS(AK5-AL5),\"\")","v":178},{"$f":"IF(AM5<>\"\",ABS(AL5-AM5),\"\")","v":241},{"$f":"IF(AN5<>\"\",ABS(AM5-AN5),\"\")","v":275},{"$f":"IF(AO5<>\"\",ABS(AN5-AO5),\"\")","v":574},{"$f":"IF(AP5<>\"\",ABS(AO5-AP5),\"\")","v":2681},{"$f":"IF(AQ5<>\"\",ABS(AP5-AQ5),\"\")","v":2252},{"$f":"IF(AR5<>\"\",ABS(AQ5-AR5),\"\")","v":""},{"$f":"IF(AS5<>\"\",ABS(AR5-AS5),\"\")","v":""},{"$f":"IF(AT5<>\"\",ABS(AS5-AT5),\"\")","v":""},{"$f":"IF(INDEX(campsByItinerary,numericItinerary($A5),BD$3-1)=\"\",\"\",VLOOKUP(INDEX(campsByItinerary,numericItinerary($A5),BD$3-1),campInfo,8))","v":""},{"$f":"IF(INDEX(campsByItinerary,numericItinerary($A5),BE$3-1)=\"\",\"\",VLOOKUP(INDEX(campsByItinerary,numericItinerary($A5),BE$3-1),campInfo,8))","v":"Y"},{"$f":"IF(INDEX(campsByItinerary,numericItinerary($A5),BF$3-1)=\"\",\"\",VLOOKUP(INDEX(campsByItinerary,numericItinerary($A5),BF$3-1),campInfo,8))","v":"Y"},{"$f":"IF(INDEX(campsByItinerary,numericItinerary($A5),BG$3-1)=\"\",\"\",VLOOKUP(INDEX(campsByItinerary,numericItinerary($A5),BG$3-1),campInfo,8))","v":""},{"$f":"IF(INDEX(campsByItinerary,numericItinerary($A5),BH$3-1)=\"\",\"\",VLOOKUP(INDEX(campsByItinerary,numericItinerary($A5),BH$3-1),campInfo,8))","v":"Y"},{"$f":"IF(INDEX(campsByItinerary,numericItinerary($A5),BI$3-1)=\"\",\"\",VLOOKUP(INDEX(campsByItinerary,numericItinerary($A5),BI$3-1),campInfo,8))","v":""},{"$f":"IF(INDEX(campsByItinerary,numericItinerary($A5),BJ$3-1)=\"\",\"\",VLOOKUP(INDEX(campsByItinerary,numericItinerary($A5),BJ$3-1),campInfo,8))","v":""},{"$f":"IF(INDEX(campsByItinerary,numericItinerary($A5),BK$3-1)=\"\",\"\",VLOOKUP(INDEX(campsByItinerary,numericItinerary($A5),BK$3-1),campInfo,8))","v":""},{"$f":"IF(INDEX(campsByItinerary,numericItinerary($A5),BL$3-1)=\"\",\"\",VLOOKUP(INDEX(campsByItinerary,numericItinerary($A5),BL$3-1),campInfo,8))","v":""},{"$f":"IF(INDEX(campsByItinerary,numericItinerary($A5),BM$3-1)=\"\",\"\",VLOOKUP(INDEX(campsByItinerary,numericItinerary($A5),BM$3-1),campInfo,8))","v":""},{"$f":"IF(BD5=\"Y\",\"\",\"Y\")","v":"Y"},{"$f":"IF(BE5=\"Y\",\"\",\"Y\")","v":""},{"$f":"IF(BF5=\"Y\",\"\",\"Y\")","v":""},{"$f":"IF(BG5=\"Y\",\"\",\"Y\")","v":"Y"},{"$f":"IF(BH5=\"Y\",\"\",\"Y\")","v":""},{"$f":"IF(BI5=\"Y\",\"\",\"Y\")","v":"Y"},{"$f":"IF(BJ5=\"Y\",\"\",\"Y\")","v":"Y"},{"$f":"IF(BK5=\"Y\",\"\",\"Y\")","v":"Y"},{"$f":"IF(BL5=\"Y\",\"\",\"Y\")","v":"Y"},{"$f":"IF(BM5=\"Y\",\"\",\"Y\")","v":"Y"},{"$f":"IF(INDEX(campsByItinerary,numericItinerary($A5),BD$3-1)=\"\",\"\",VLOOKUP(INDEX(campsByItinerary,numericItinerary($A5),BD$3-1),campInfo,10))","v":""},{"$f":"IF(INDEX(campsByItinerary,numericItinerary($A5),BE$3-1)=\"\",\"\",VLOOKUP(INDEX(campsByItinerary,numericItinerary($A5),BE$3-1),campInfo,10))","v":""},{"$f":"IF(INDEX(campsByItinerary,numericItinerary($A5),BF$3-1)=\"\",\"\",VLOOKUP(INDEX(campsByItinerary,numericItinerary($A5),BF$3-1),campInfo,10))","v":""},{"$f":"IF(INDEX(campsByItinerary,numericItinerary($A5),BG$3-1)=\"\",\"\",VLOOKUP(INDEX(campsByItinerary,numericItinerary($A5),BG$3-1),campInfo,10))","v":"Y"},{"$f":"IF(INDEX(campsByItinerary,numericItinerary($A5),BH$3-1)=\"\",\"\",VLOOKUP(INDEX(campsByItinerary,numericItinerary($A5),BH$3-1),campInfo,10))","v":""},{"$f":"IF(INDEX(campsByItinerary,numericItinerary($A5),BI$3-1)=\"\",\"\",VLOOKUP(INDEX(campsByItinerary,numericItinerary($A5),BI$3-1),campInfo,10))","v":"Y"},{"$f":"IF(INDEX(campsByItinerary,numericItinerary($A5),BJ$3-1)=\"\",\"\",VLOOKUP(INDEX(campsByItinerary,numericItinerary($A5),BJ$3-1),campInfo,10))","v":""},{"$f":"IF(INDEX(campsByItinerary,numericItinerary($A5),BK$3-1)=\"\",\"\",VLOOKUP(INDEX(campsByItinerary,numericItinerary($A5),BK$3-1),campInfo,10))","v":""},{"$f":"IF(INDEX(campsByItinerary,numericItinerary($A5),BL$3-1)=\"\",\"\",VLOOKUP(INDEX(campsByItinerary,numericItinerary($A5),BL$3-1),campInfo,10))","v":""},{"$f":"IF(INDEX(campsByItinerary,numericItinerary($A5),BM$3-1)=\"\",\"\",VLOOKUP(INDEX(campsByItinerary,numericItinerary($A5),BM$3-1),campInfo,10))","v":""},null,"","","","","","","","Y","Y",{"$f":"INDEX(campsByItinerary,numericItinerary($A5),BD$3-1)","v":"House Canyon"},{"$f":"IF(INDEX(campsByItinerary,numericItinerary($A5),BE$3-1)=\"\",\"\",VLOOKUP(INDEX(campsByItinerary,numericItinerary($A5),BE$3-1),campInfo,2))","v":"North"},{"$f":"IF(INDEX(campsByItinerary,numericItinerary($A5),BF$3-1)=\"\",\"\",VLOOKUP(INDEX(campsByItinerary,numericItinerary($A5),BF$3-1),campInfo,2))","v":"North"},{"$f":"IF(INDEX(campsByItinerary,numericItinerary($A5),BG$3-1)=\"\",\"\",VLOOKUP(INDEX(campsByItinerary,numericItinerary($A5),BG$3-1),campInfo,2))","v":"North"},{"$f":"IF(INDEX(campsByItinerary,numericItinerary($A5),BH$3-1)=\"\",\"\",VLOOKUP(INDEX(campsByItinerary,numericItinerary($A5),BH$3-1),campInfo,2))","v":"North"},{"$f":"IF(INDEX(campsByItinerary,numericItinerary($A5),BI$3-1)=\"\",\"\",VLOOKUP(INDEX(campsByItinerary,numericItinerary($A5),BI$3-1),campInfo,2))","v":"North"},{"$f":"IF(INDEX(campsByItinerary,numericItinerary($A5),BJ$3-1)=\"\",\"\",VLOOKUP(INDEX(campsByItinerary,numericItinerary($A5),BJ$3-1),campInfo,2))","v":"North"},{"$f":"IF(INDEX(campsByItinerary,numericItinerary($A5),BK$3-1)=\"\",\"\",VLOOKUP(INDEX(campsByItinerary,numericItinerary($A5),BK$3-1),campInfo,2))","v":""},{"$f":"IF(INDEX(campsByItinerary,numericItinerary($A5),BL$3-1)=\"\",\"\",VLOOKUP(INDEX(campsByItinerary,numericItinerary($A5),BL$3-1),campInfo,2))","v":""},{"$f":"IF(INDEX(campsByItinerary,numericItinerary($A5),BM$3-1)=\"\",\"\",VLOOKUP(INDEX(campsByItinerary,numericItinerary($A5),BM$3-1),campInfo,2))","v":""},{"$f":"IF(INDEX(campsByItinerary,numericItinerary($A5),BD$3-1)=\"\",\"\",VLOOKUP(INDEX(campsByItinerary,numericItinerary($A5),BD$3-1),campInfo,12))","v":"North"},{"$f":"IF(INDEX(campsByItinerary,numericItinerary($A5),BE$3-1)=\"\",\"\",VLOOKUP(INDEX(campsByItinerary,numericItinerary($A5),BE$3-1),campInfo,12))","v":"North"},{"$f":"IF(INDEX(campsByItinerary,numericItinerary($A5),BF$3-1)=\"\",\"\",VLOOKUP(INDEX(campsByItinerary,numericItinerary($A5),BF$3-1),campInfo,12))","v":"North"},{"$f":"IF(INDEX(campsByItinerary,numericItinerary($A5),BG$3-1)=\"\",\"\",VLOOKUP(INDEX(campsByItinerary,numericItinerary($A5),BG$3-1),campInfo,12))","v":"North"},{"$f":"IF(INDEX(campsByItinerary,numericItinerary($A5),BH$3-1)=\"\",\"\",VLOOKUP(INDEX(campsByItinerary,numericItinerary($A5),BH$3-1),campInfo,12))","v":"North"},{"$f":"IF(INDEX(campsByItinerary,numericItinerary($A5),BI$3-1)=\"\",\"\",VLOOKUP(INDEX(campsByItinerary,numericItinerary($A5),BI$3-1),campInfo,12))","v":"North"},{"$f":"IF(INDEX(campsByItinerary,numericItinerary($A5),BJ$3-1)=\"\",\"\",VLOOKUP(INDEX(campsByItinerary,numericItinerary($A5),BJ$3-1),campInfo,12))","v":"North"},{"$f":"IF(INDEX(campsByItinerary,numericItinerary($A5),BK$3-1)=\"\",\"\",VLOOKUP(INDEX(campsByItinerary,numericItinerary($A5),BK$3-1),campInfo,12))","v":""},{"$f":"IF(INDEX(campsByItinerary,numericItinerary($A5),BL$3-1)=\"\",\"\",VLOOKUP(INDEX(campsByItinerary,numericItinerary($A5),BL$3-1),campInfo,12))","v":""},{"$f":"IF(INDEX(campsByItinerary,numericItinerary($A5),BM$3-1)=\"\",\"\",VLOOKUP(INDEX(campsByItinerary,numericItinerary($A5),BM$3-1),campInfo,12))","v":""},{"$f":"getfoodPU(\"First\",numericItinerary($A5))","v":3},{"$f":"getfoodPU(\"Max\",numericItinerary($A5))","v":3}]
["9-3",null,"C",41,"Ponderosa Park","Miners Park","Black Mountain","Beaubien","Beaubien","Comanche Peak","Clear Creek",null,null,null,"Camping HQ",null,"Miners Park",null,null,"Phillips Junction",null,null,null,null,"Webster","Tolby Creek","",{"$f":"IF(AC6=\"\",\"\",numericItinerary(A6) & \":\" & AC6)","v":""},null,null,null,null,"y","",null,"y",8004,7977,8991,9330,9330,11070,10240,"","","",27,1014,339,0,1740,830,"","","",{"$f":"IF(INDEX(campsByItinerary,numericItinerary($A6),BD$3-1)=\"\",\"\",VLOOKUP(INDEX(campsByItinerary,numericItinerary($A6),BD$3-1),campInfo,8))","v":""},{"$f":"IF(INDEX(campsByItinerary,numericItinerary($A6),BE$3-1)=\"\",\"\",VLOOKUP(INDEX(campsByItinerary,numericItinerary($A6),BE$3-1),campInfo,8))","v":"Y"},{"$f":"IF(INDEX(campsByItinerary,numericItinerary($A6),BF$3-1)=\"\",\"\",VLOOKUP(INDEX(campsByItinerary,numericItinerary($A6),BF$3-1),campInfo,8))","v":"Y"},{"$f":"IF(INDEX(campsByItinerary,numericItinerary($A6),BG$3-1)=\"\",\"\",VLOOKUP(INDEX(campsByItinerary,numericItinerary($A6),BG$3-1),campInfo,8))","v":"Y"},{"$f":"IF(INDEX(campsByItinerary,numericItinerary($A6),BH$3-1)=\"\",\"\",VLOOKUP(INDEX(campsByItinerary,numericItinerary($A6),BH$3-1),campInfo,8))","v":"Y"},{"$f":"IF(INDEX(campsByItinerary,numericItinerary($A6),BI$3-1)=\"\",\"\",VLOOKUP(INDEX(campsByItinerary,numericItinerary($A6),BI$3-1),campInfo,8))","v":""},{"$f":"IF(INDEX(campsByItinerary,numericItinerary($A6),BJ$3-1)=\"\",\"\",VLOOKUP(INDEX(campsByItinerary,numericItinerary($A6),BJ$3-1),campInfo,8))","v":"Y"},{"$f":"IF(INDEX(campsByItinerary,numericItinerary($A6),BK$3-1)=\"\",\"\",VLOOKUP(INDEX(campsByItinerary,numericItinerary($A6),BK$3-1),campInfo,8))","v":""},{"$f":"IF(INDEX(campsByItinerary,numericItinerary($A6),BL$3-1)=\"\",\"\",VLOOKUP(INDEX(campsByItinerary,numericItinerary($A6),BL$3-1),campInfo,8))","v":""},{"$f":"IF(INDEX(campsByItinerary,numericItinerary($A6),BM$3-1)=\"\",\"\",VLOOKUP(INDEX(campsByItinerary,numericItinerary($A6),BM$3-1),campInfo,8))","v":""},"Y","","","","","Y","","Y","Y","Y",{"$f":"IF(INDEX(campsByItinerary,numericItinerary($A6),BD$3-1)=\"\",\"\",VLOOKUP(INDEX(campsByItinerary,numericItinerary($A6),BD$3-1),campInfo,10))","v":"Y"},{"$f":"IF(INDEX(campsByItinerary,numericItinerary($A6),BE$3-1)=\"\",\"\",VLOOKUP(INDEX(campsByItinerary,numericItinerary($A6),BE$3-1),campInfo,10))","v":""},{"$f":"IF(INDEX(campsByItinerary,numericItinerary($A6),BF$3-1)=\"\",\"\",VLOOKUP(INDEX(campsByItinerary,numericItinerary($A6),BF$3-1),campInfo,10))","v":""},{"$f":"IF(INDEX(campsByItinerary,numericItinerary($A6),BG$3-1)=\"\",\"\",VLOOKUP(INDEX(campsByItinerary,numericItinerary($A6),BG$3-1),campInfo,10))","v":""},{"$f":"IF(INDEX(campsByItinerary,numericItinerary($A6),BH$3-1)=\"\",\"\",VLOOKUP(INDEX(campsByItinerary,numericItinerary($A6),BH$3-1),campInfo,10))","v":""},{"$f":"IF(INDEX(campsByItinerary,numericItinerary($A6),BI$3-1)=\"\",\"\",VLOOKUP(INDEX(campsByItinerary,numericItinerary($A6),BI$3-1),campInfo,10))","v":"Y"},{"$f":"IF(INDEX(campsByItinerary,numericItinerary($A6),BJ$3-1)=\"\",\"\",VLOOKUP(INDEX(campsByItinerary,numericItinerary($A6),BJ$3-1),campInfo,10))","v":""},{"$f":"IF(INDEX(campsByItinerary,numericItinerary($A6),BK$3-1)=\"\",\"\",VLOOKUP(INDEX(campsByItinerary,numericItinerary($A6),BK$3-1),campInfo,10))","v":""},{"$f":"IF(INDEX(campsByItinerary,numericItinerary($A6),BL$3-1)=\"\",\"\",VLOOKUP(INDEX(campsByItinerary,numericItinerary($A6),BL$3-1),campInfo,10))","v":""},{"$f":"IF(INDEX(campsByItinerary,numericItinerary($A6),BM$3-1)=\"\",\"\",VLOOKUP(INDEX(campsByItinerary,numericItinerary($A6),BM$3-1),campInfo,10))","v":""},null,"","","","Y","","","","Y","Y",{"$f":"INDEX(campsByItinerary,numericItinerary($A6),BD$3-1)","v":"Ponderosa Park"},{"$f":"IF(INDEX(campsByItinerary,numericItinerary($A6),BE$3-1)=\"\",\"\",VLOOKUP(INDEX(campsByItinerary,numericItinerary($A6),BE$3-1),campInfo,2))","v":"South"},{"$f":"IF(INDEX(campsByItinerary,numericItinerary($A6),BF$3-1)=\"\",\"\",VLOOKUP(INDEX(campsByItinerary,numericItinerary($A6),BF$3-1),campInfo,2))","v":"South"},{"$f":"IF(INDEX(campsByItinerary,numericItinerary($A6),BG$3-1)=\"\",\"\",VLOOKUP(INDEX(campsByItinerary,numericItinerary($A6),BG$3-1),campInfo,2))","v":"South"},{"$f":"IF(INDEX(campsByItinerary,numericItinerary($A6),BH$3-1)=\"\",\"\",VLOOKUP(INDEX(campsByItinerary,numericItinerary($A6),BH$3-1),campInfo,2))","v":"South"},{"$f":"IF(INDEX(campsByItinerary,numericItinerary($A6),BI$3-1)=\"\",\"\",VLOOKUP(INDEX(campsByItinerary,numericItinerary($A6),BI$3-1),campInfo,2))","v":"Central"},{"$f":"IF(INDEX(campsByItinerary,numericItinerary($A6),BJ$3-1)=\"\",\"\",VLOOKUP(INDEX(campsByItinerary,numericItinerary($A6),BJ$3-1),campInfo,2))","v":"Central"},{"$f":"IF(INDEX(campsByItinerary,numericItinerary($A6),BK$3-1)=\"\",\"\",VLOOKUP(INDEX(campsByItinerary,numericItinerary($A6),BK$3-1),campInfo,2))","v":""},{"$f":"IF(INDEX(campsByItinerary,numericItinerary($A6),BL$3-1)=\"\",\"\",VLOOKUP(INDEX(campsByItinerary,numericItinerary($A6),BL$3-1),campInfo,2))","v":""},{"$f":"IF(INDEX(campsByItinerary,numericItinerary($A6),BM$3-1)=\"\",\"\",VLOOKUP(INDEX(campsByItinerary,numericItinerary($A6),BM$3-1),campInfo,2))","v":""},{"$f":"IF(INDEX(campsByItinerary,numericItinerary($A6),BD$3-1)=\"\",\"\",VLOOKUP(INDEX(campsByItinerary,numericItinerary($A6),BD$3-1),campInfo,12))","v":"South"},{"$f":"IF(INDEX(campsByItinerary,numericItinerary($A6),BE$3-1)=\"\",\"\",VLOOKUP(INDEX(campsByItinerary,numericItinerary($A6),BE$3-1),campInfo,12))","v":"South"},{"$f":"IF(INDEX(campsByItinerary,numericItinerary($A6),BF$3-1)=\"\",\"\",VLOOKUP(INDEX(campsByItinerary,numericItinerary($A6),BF$3-1),campInfo,12))","v":"South"},{"$f":"IF(INDEX(campsByItinerary,numericItinerary($A6),BG$3-1)=\"\",\"\",VLOOKUP(INDEX(campsByItinerary,numericItinerary($A6),BG$3-1),campInfo,12))","v":"South"},{"$f":"IF(INDEX(campsByItinerary,numericItinerary($A6),BH$3-1)=\"\",\"\",VLOOKUP(INDEX(campsByItinerary,numericItinerary($A6),BH$3-1),campInfo,12))","v":"South"},{"$f":"IF(INDEX(campsByItinerary,numericItinerary($A6),BI$3-1)=\"\",\"\",VLOOKUP(INDEX(campsByItinerary,numericItinerary($A6),BI$3-1),campInfo,12))","v":"South"},{"$f":"IF(INDEX(campsByItinerary,numericItinerary($A6),BJ$3-1)=\"\",\"\",VLOOKUP(INDEX(campsByItinerary,numericItinerary($A6),BJ$3-1),campInfo,12))","v":"South"},{"$f":"IF(INDEX(campsByItinerary,numericItinerary($A6),BK$3-1)=\"\",\"\",VLOOKUP(INDEX(campsByItinerary,numericItinerary($A6),BK$3-1),campInfo,12))","v":""},{"$f":"IF(INDEX(campsByItinerary,numericItinerary($A6),BL$3-1)=\"\",\"\",VLOOKUP(INDEX(campsByItinerary,numericItinerary($A6),BL$3-1),campInfo,12))","v":""},{"$f":"IF(INDEX(campsByItinerary,numericItinerary($A6),BM$3-1)=\"\",\"\",VLOOKUP(INDEX(campsByItinerary,numericItinerary($A6),BM$3-1),campInfo,12))","v":""},{"$f":"getfoodPU(\"First\",numericItinerary($A6))","v":2},{"$f":"getfoodPU(\"Max\",numericItinerary($A6))","v":2}]
["9-4",null,"C",44,"Heck Meadow","Clarks Fork","Cimarroncito","Whistle Punk","Sawmill","Divide","Tolby Headwaters",null,null,null,"Camping HQ",null,"Cimarroncito",null,"Sawmill",null,null,null,null,null,"Hike Out","Tolby Creek","",{"$f":"IF(AC7=\"\",\"\",numericItinerary(A7) & \":\" & AC7)","v":""},null,null,null,null,"y","",null,"y",7085,7515,8137,10052,9193,10509,9219,"","","",430,622,1915,859,1316,1290,"","","",{"$f":"IF(INDEX(campsByItinerary,numericItinerary($A7),BD$3-1)=\"\",\"\",VLOOKUP(INDEX(campsByItinerary,numericItinerary($A7),BD$3-1),campInfo,8))","v":""},{"$f":"IF(INDEX(campsByItinerary,numericItinerary($A7),BE$3-1)=\"\",\"\",VLOOKUP(INDEX(campsByItinerary,numericItinerary($A7),BE$3-1),campInfo,8))","v":"Y"},{"$f":"IF(INDEX(campsByItinerary,numericItinerary($A7),BF$3-1)=\"\",\"\",VLOOKUP(INDEX(campsByItinerary,numericItinerary($A7),BF$3-1),campInfo,8))","v":"Y"},{"$f":"IF(INDEX(campsByItinerary,numericItinerary($A7),BG$3-1)=\"\",\"\",VLOOKUP(INDEX(campsByItinerary,numericItinerary($A7),BG$3-1),campInfo,8))","v":""},{"$f":"IF(INDEX(campsByItinerary,numericItinerary($A7),BH$3-1)=\"\",\"\",VLOOKUP(INDEX(campsByItinerary,numericItinerary($A7),BH$3-1),campInfo,8))","v":"Y"},{"$f":"IF(INDEX(campsByItinerary,numericItinerary($A7),BI$3-1)=\"\",\"\",VLOOKUP(INDEX(campsByItinerary,numericItinerary($A7),BI$3-1),campInfo,8))","v":""},{"$f":"IF(INDEX(campsByItinerary,numericItinerary($A7),BJ$3-1)=\"\",\"\",VLOOKUP(INDEX(campsByItinerary,numericItinerary($A7),BJ$3-1),campInfo,8))","v":""},{"$f":"IF(INDEX(campsByItinerary,numericItinerary($A7),BK$3-1)=\"\",\"\",VLOOKUP(INDEX(campsByItinerary,numericItinerary($A7),BK$3-1),campInfo,8))","v":""},{"$f":"IF(INDEX(campsByItinerary,numericItinerary($A7),BL$3-1)=\"\",\"\",VLOOKUP(INDEX(campsByItinerary,numericItinerary($A7),BL$3-1),campInfo,8))","v":""},{"$f":"IF(INDEX(campsByItinerary,numericItinerary($A7),BM$3-1)=\"\",\"\",VLOOKUP(INDEX(campsByItinerary,numericItinerary($A7),BM$3-1),campInfo,8))","v":""},"Y","","","Y","","Y","Y","Y","Y","Y",{"$f":"IF(INDEX(campsByItinerary,numericItinerary($A7),BD$3-1)=\"\",\"\",VLOOKUP(INDEX(campsByItinerary,numericItinerary($A7),BD$3-1),campInfo,10))","v":"Y"},{"$f":"IF(INDEX(campsByItinerary,numericItinerary($A7),BE$3-1)=\"\",\"\",VLOOKUP(INDEX(campsByItinerary,numericItinerary($A7),BE$3-1),campInfo,10))","v":""},{"$f":"IF(INDEX(campsByItinerary,numericItinerary($A7),BF$3-1)=\"\",\"\",VLOOKUP(INDEX(campsByItinerary,numericItinerary($A7),BF$3-1),campInfo,10))","v":""},{"$f":"IF(INDEX(campsByItinerary,numericItinerary($A7),BG$3-1)=\"\",\"\",VLOOKUP(INDEX(campsByItinerary,numericItinerary($A7),BG$3-1),campInfo,10))","v":""},{"$f":"IF(INDEX(campsByItinerary,numericItinerary($A7),BH$3-1)=\"\",\"\",VLOOKUP(INDEX(campsByItinerary,numericItinerary($A7),BH$3-1),campInfo,10))","v":""},{"$f":"IF(INDEX(campsByItinerary,numericItinerary($A7),BI$3-1)=\"\",\"\",VLOOKUP(INDEX(campsByItinerary,numericItinerary($A7),BI$3-1),campInfo,10))","v":"Y"},{"$f":"IF(INDEX(campsByItinerary,numericItinerary($A7),BJ$3-1)=\"\",\"\",VLOOKUP(INDEX(campsByItinerary,numericItinerary($A7),BJ$3-1),campInfo,10))","v":""},{"$f":"IF(INDEX(campsByItinerary,numericItinerary($A7),BK$3-1)=\"\",\"\",VLOOKUP(INDEX(campsByItinerary,numericItinerary($A7),BK$3-1),campInfo,10))","v":""},{"$f":"IF(INDEX(campsByItinerary,numericItinerary($A7),BL$3-1)=\"\",\"\",VLOOKUP(INDEX(campsByItinerary,numericItinerary($A7),BL$3-1),campInfo,10))","v":""},{"$f":"IF(INDEX(campsByItinerary,numericItinerary($A7),BM$3-1)=\"\",\"\",VLOOKUP(INDEX(campsByItinerary,numericItinerary($A7),BM$3-1),campInfo,10))","v":""},null,"","","","","","","","Y","Y",{"$f":"INDEX(campsByItinerary,numericItinerary($A7),BD$3-1)","v":"Heck Meadow"},{"$f":"IF(INDEX(campsByItinerary,numericItinerary($A7),BE$3-1)=\"\",\"\",VLOOKUP(INDEX(campsByItinerary,numericItinerary($A7),BE$3-1),campInfo,2))","v":"Central"},{"$f":"IF(INDEX(campsByItinerary,numericItinerary($A7),BF$3-1)=\"\",\"\",VLOOKUP(INDEX(campsByItinerary,numericItinerary($A7),BF$3-1),campInfo,2))","v":"Central"},{"$f":"IF(INDEX(campsByItinerary,numericItinerary($A7),BG$3-1)=\"\",\"\",VLOOKUP(INDEX(campsByItinerary,numericItinerary($A7),BG$3-1),campInfo,2))","v":"Central"},{"$f":"IF(INDEX(campsByItinerary,numericItinerary($A7),BH$3-1)=\"\",\"\",VLOOKUP(INDEX(campsByItinerary,numericItinerary($A7),BH$3-1),campInfo,2))","v":"Central"},{"$f":"IF(INDEX(campsByItinerary,numericItinerary($A7),BI$3-1)=\"\",\"\",VLOOKUP(INDEX(campsByItinerary,numericItinerary($A7),BI$3-1),campInfo,2))","v":"South"},{"$f":"IF(INDEX(campsByItinerary,numericItinerary($A7),BJ$3-1)=\"\",\"\",VLOOKUP(INDEX(campsByItinerary,numericItinerary($A7),BJ$3-1),campInfo,2))","v":"South"},{"$f":"IF(INDEX(campsByItinerary,numericItinerary($A7),BK$3-1)=\"\",\"\",VLOOKUP(INDEX(campsByItinerary,numericItinerary($A7),BK$3-1),campInfo,2))","v":""},{"$f":"IF(INDEX(campsByItinerary,numericItinerary($A7),BL$3-1)=\"\",\"\",VLOOKUP(INDEX(campsByItinerary,numericItinerary($A7),BL$3-1),campInfo,2))","v":""},{"$f":"IF(INDEX(campsByItinerary,numericItinerary($A7),BM$3-1)=\"\",\"\",VLOOKUP(INDEX(campsByItinerary,numericItinerary($A7),BM$3-1),campInfo,2))","v":""},{"$f":"IF(INDEX(campsByItinerary,numericItinerary($A7),BD$3-1)=\"\",\"\",VLOOKUP(INDEX(campsByItinerary,numericItinerary($A7),BD$3-1),campInfo,12))","v":"South"},{"$f":"IF(INDEX(campsByItinerary,numericItinerary($A7),BE$3-1)=\"\",\"\",VLOOKUP(INDEX(campsByItinerary,numericItinerary($A7),BE$3-1),campInfo,12))","v":"South"},{"$f":"IF(INDEX(campsByItinerary,numericItinerary($A7),BF$3-1)=\"\",\"\",VLOOKUP(INDEX(campsByItinerary,numericItinerary($A7),BF$3-1),campInfo,12))","v":"South"},{"$f":"IF(INDEX(campsByItinerary,numericItinerary($A7),BG$3-1)=\"\",\"\",VLOOKUP(INDEX(campsByItinerary,numericItinerary($A7),BG$3-1),campInfo,12))","v":"South"},{"$f":"IF(INDEX(campsByItinerary,numericItinerary($A7),BH$3-1)=\"\",\"\",VLOOKUP(INDEX(campsByItinerary,numericItinerary($A7),BH$3-1),campInfo,12))","v":"South"},{"$f":"IF(INDEX(campsByItinerary,numericItinerary($A7),BI$3-1)=\"\",\"\",VLOOKUP(INDEX(campsByItinerary,numericItinerary($A7),BI$3-1),campInfo,12))","v":"South"},{"$f":"IF(INDEX(campsByItinerary,numericItinerary($A7),BJ$3-1)=\"\",\"\",VLOOKUP(INDEX(campsByItinerary,numericItinerary($A7),BJ$3-1),campInfo,12))","v":"South"},{"$f":"IF(INDEX(campsByItinerary,numericItinerary($A7),BK$3-1)=\"\",\"\",VLOOKUP(INDEX(campsByItinerary,numericItinerary($A7),BK$3-1),campInfo,12))","v":""},{"$f":"IF(INDEX(campsByItinerary,numericItinerary($A7),BL$3-1)=\"\",\"\",VLOOKUP(INDEX(campsByItinerary,numericItinerary($A7),BL$3-1),campInfo,12))","v":""},{"$f":"IF(INDEX(campsByItinerary,numericItinerary($A7),BM$3-1)=\"\",\"\",VLOOKUP(INDEX(campsByItinerary,numericItinerary($A7),BM$3-1),campInfo,12))","v":""},{"$f":"getfoodPU(\"First\",numericItinerary($A7))","v":2},{"$f":"getfoodPU(\"Max\",numericItinerary($A7))","v":2}]
["9-5",null,"R",46,"Dean Skyline","Upper Dean Cow","French Henry","Copper Park","Copper Park","Rich Cabins","Ponil",null,null,null,"Camping HQ",null,null,"Baldy Town",null,"Rich Cabins",null,null,null,null,"Ponil","Ponil","",{"$f":"IF(AC8=\"\",\"\",numericItinerary(A8) & \":\" & AC8)","v":""},null,null,null,"y",null,"",null,null,7967,8254,9635,10530,10530,7728,7150,"","","",287,1381,895,0,2802,578,"","","",{"$f":"IF(INDEX(campsByItinerary,numericItinerary($A8),BD$3-1)=\"\",\"\",VLOOKUP(INDEX(campsByItinerary,numericItinerary($A8),BD$3-1),campInfo,8))","v":""},{"$f":"IF(INDEX(campsByItinerary,numericItinerary($A8),BE$3-1)=\"\",\"\",VLOOKUP(INDEX(campsByItinerary,numericItinerary($A8),BE$3-1),campInfo,8))","v":""},{"$f":"IF(INDEX(campsByItinerary,numericItinerary($A8),BF$3-1)=\"\",\"\",VLOOKUP(INDEX(campsByItinerary,numericItinerary($A8),BF$3-1),campInfo,8))","v":"Y"},{"$f":"IF(INDEX(campsByItinerary,numericItinerary($A8),BG$3-1)=\"\",\"\",VLOOKUP(INDEX(campsByItinerary,numericItinerary($A8),BG$3-1),campInfo,8))","v":""},{"$f":"IF(INDEX(campsByItinerary,numericItinerary($A8),BH$3-1)=\"\",\"\",VLOOKUP(INDEX(campsByItinerary,numericItinerary($A8),BH$3-1),campInfo,8))","v":""},{"$f":"IF(INDEX(campsByItinerary,numericItinerary($A8),BI$3-1)=\"\",\"\",VLOOKUP(INDEX(campsByItinerary,numericItinerary($A8),BI$3-1),campInfo,8))","v":"Y"},{"$f":"IF(INDEX(campsByItinerary,numericItinerary($A8),BJ$3-1)=\"\",\"\",VLOOKUP(INDEX(campsByItinerary,numericItinerary($A8),BJ$3-1),campInfo,8))","v":"Y"},{"$f":"IF(INDEX(campsByItinerary,numericItinerary($A8),BK$3-1)=\"\",\"\",VLOOKUP(INDEX(campsByItinerary,numericItinerary($A8),BK$3-1),campInfo,8))","v":""},{"$f":"IF(INDEX(campsByItinerary,numericItinerary($A8),BL$3-1)=\"\",\"\",VLOOKUP(INDEX(campsByItinerary,numericItinerary($A8),BL$3-1),campInfo,8))","v":""},{"$f":"IF(INDEX(campsByItinerary,numericItinerary($A8),BM$3-1)=\"\",\"\",VLOOKUP(INDEX(campsByItinerary,numericItinerary($A8),BM$3-1),campInfo,8))","v":""},"Y","Y","","Y","Y","","","Y","Y","Y",{"$f":"IF(INDEX(campsByItinerary,numericItinerary($A8),BD$3-1)=\"\",\"\",VLOOKUP(INDEX(campsByItinerary,numericItinerary($A8),BD$3-1),campInfo,10))","v":"Y"},{"$f":"IF(INDEX(campsByItinerary,numericItinerary($A8),BE$3-1)=\"\",\"\",VLOOKUP(INDEX(campsByItinerary,numericItinerary($A8),BE$3-1),campInfo,10))","v":""},{"$f":"IF(INDEX(campsByItinerary,numericItinerary($A8),BF$3-1)=\"\",\"\",VLOOKUP(INDEX(campsByItinerary,numericItinerary($A8),BF$3-1),campInfo,10))","v":""},{"$f":"IF(INDEX(campsByItinerary,numericItinerary($A8),BG$3-1)=\"\",\"\",VLOOKUP(INDEX(campsByItinerary,numericItinerary($A8),BG$3-1),campInfo,10))","v":""},{"$f":"IF(INDEX(campsByItinerary,numericItinerary($A8),BH$3-1)=\"\",\"\",VLOOKUP(INDEX(campsByItinerary,numericItinerary($A8),BH$3-1),campInfo,10))","v":""},{"$f":"IF(INDEX(campsByItinerary,numericItinerary($A8),BI$3-1)=\"\",\"\",VLOOKUP(INDEX(campsByItinerary,numericItinerary($A8),BI$3-1),campInfo,10))","v":""},{"$f":"IF(INDEX(campsByItinerary,numericItinerary($A8),BJ$3-1)=\"\",\"\",VLOOKUP(INDEX(campsByItinerary,numericItinerary($A8),BJ$3-1),campInfo,10))","v":""},{"$f":"IF(INDEX(campsByItinerary,numericItinerary($A8),BK$3-1)=\"\",\"\",VLOOKUP(INDEX(campsByItinerary,numericItinerary($A8),BK$3-1),campInfo,10))","v":""},{"$f":"IF(INDEX(campsByItinerary,numericItinerary($A8),BL$3-1)=\"\",\"\",VLOOKUP(INDEX(campsByItinerary,numericItinerary($A8),BL$3-1),campInfo,10))","v":""},{"$f":"IF(INDEX(campsByItinerary,numericItinerary($A8),BM$3-1)=\"\",\"\",VLOOKUP(INDEX(campsByItinerary,numericItinerary($A8),BM$3-1),campInfo,10))","v":""},null,"","","","Y","","","","Y","Y",{"$f":"INDEX(campsByItinerary,numericItinerary($A8),BD$3-1)","v":"Dean Skyline"},{"$f":"IF(INDEX(campsByItinerary,numericItinerary($A8),BE$3-1)=\"\",\"\",VLOOKUP(INDEX(campsByItinerary,numericItinerary($A8),BE$3-1),campInfo,2))","v":"North"},{"$f":"IF(INDEX(campsByItinerary,numericItinerary($A8),BF$3-1)=\"\",\"\",VLOOKUP(INDEX(campsByItinerary,numericItinerary($A8),BF$3-1),campInfo,2))","v":"North"},{"$f":"IF(INDEX(campsByItinerary,numericItinerary($A8),BG$3-1)=\"\",\"\",VLOOKUP(INDEX(campsByItinerary,numericItinerary($A8),BG$3-1),campInfo,2))","v":"North"},{"$f":"IF(INDEX(campsByItinerary,numericItinerary($A8),BH$3-1)=\"\",\"\",VLOOKUP(INDEX(campsByItinerary,numericItinerary($A8),BH$3-1),campInfo,2))","v":"North"},{"$f":"IF(INDEX(campsByItinerary,numericItinerary($A8),BI$3-1)=\"\",\"\",VLOOKUP(INDEX(campsByItinerary,numericItinerary($A8),BI$3-1),campInfo,2))","v":"Valle Vidal"},{"$f":"IF(INDEX(campsByItinerary,numericItinerary($A8),BJ$3-1)=\"\",\"\",VLOOKUP(INDEX(campsByItinerary,numericItinerary($A8),BJ$3-1),campInfo,2))","v":"North"},{"$f":"IF(INDEX(campsByItinerary,numericItinerary($A8),BK$3-1)=\"\",\"\",VLOOKUP(INDEX(campsByItinerary,numericItinerary($A8),BK$3-1),campInfo,2))","v":""},{"$f":"IF(INDEX(campsByItinerary,numericItinerary($A8),BL$3-1)=\"\",\"\",VLOOKUP(INDEX(campsByItinerary,numericItinerary($A8),BL$3-1),campInfo,2))","v":""},{"$f":"IF(INDEX(campsByItinerary,numericItinerary($A8),BM$3-1)=\"\",\"\",VLOOKUP(INDEX(campsByItinerary,numericItinerary($A8),BM$3-1),campInfo,2))","v":""},{"$f":"IF(INDEX(campsByItinerary,numericItinerary($A8),BD$3-1)=\"\",\"\",VLOOKUP(INDEX(campsByItinerary,numericItinerary($A8),BD$3-1),campInfo,12))","v":"North"},{"$f":"IF(INDEX(campsByItinerary,numericItinerary($A8),BE$3-1)=\"\",\"\",VLOOKUP(INDEX(campsByItinerary,numericItinerary($A8),BE$3-1),campInfo,12))","v":"North"},{"$f":"IF(INDEX(campsByItinerary,numericItinerary($A8),BF$3-1)=\"\",\"\",VLOOKUP(INDEX(campsByItinerary,numericItinerary($A8),BF$3-1),campInfo,12))","v":"North"},{"$f":"IF(INDEX(campsByItinerary,numericItinerary($A8),BG$3-1)=\"\",\"\",VLOOKUP(INDEX(campsByItinerary,numericItinerary($A8),BG$3-1),campInfo,12))","v":"North"},{"$f":"IF(INDEX(campsByItinerary,numericItinerary($A8),BH$3-1)=\"\",\"\",VLOOKUP(INDEX(campsByItinerary,numericItinerary($A8),BH$3-1),campInfo,12))","v":"North"},{"$f":"IF(INDEX(campsByItinerary,numericItinerary($A8),BI$3-1)=\"\",\"\",VLOOKUP(INDEX(campsByItinerary,numericItinerary($A8),BI$3-1),campInfo,12))","v":"North"},{"$f":"IF(INDEX(campsByItinerary,numericItinerary($A8),BJ$3-1)=\"\",\"\",VLOOKUP(INDEX(campsByItinerary,numericItinerary($A8),BJ$3-1),campInfo,12))","v":"North"},{"$f":"IF(INDEX(campsByItinerary,numericItinerary($A8),BK$3-1)=\"\",\"\",VLOOKUP(INDEX(campsByItinerary,numericItinerary($A8),BK$3-1),campInfo,12))","v":""},{"$f":"IF(INDEX(campsByItinerary,numericItinerary($A8),BL$3-1)=\"\",\"\",VLOOKUP(INDEX(campsByItinerary,numericItinerary($A8),BL$3-1),campInfo,12))","v":""},{"$f":"IF(INDEX(campsByItinerary,numericItinerary($A8),BM$3-1)=\"\",\"\",VLOOKUP(INDEX(campsByItinerary,numericItinerary($A8),BM$3-1),campInfo,12))","v":""},{"$f":"getfoodPU(\"First\",numericItinerary($A8))","v":3},{"$f":"getfoodPU(\"Max\",numericItinerary($A8))","v":3}]
["9-6",null,"R",46,"Sioux","Pueblano","Touch-Me-Not Creek","Touch-Me-Not Creek","Baldy Skyline","Upper Dean Cow","Cimarroncita",null,null,null,"Camping HQ",null,"Baldy Town",null,null,null,"Cimarroncita",null,null,null,"Ponil","Ute Park","",{"$f":"IF(AC9=\"\",\"\",numericItinerary(A9) & \":\" & AC9)","v":""},null,null,null,"y",null,"",null,null,7382,8069,8855,8855,9140,8254,7373,"","","",687,786,0,285,886,881,"","","",{"$f":"IF(INDEX(campsByItinerary,numericItinerary($A9),BD$3-1)=\"\",\"\",VLOOKUP(INDEX(campsByItinerary,numericItinerary($A9),BD$3-1),campInfo,8))","v":""},{"$f":"IF(INDEX(campsByItinerary,numericItinerary($A9),BE$3-1)=\"\",\"\",VLOOKUP(INDEX(campsByItinerary,numericItinerary($A9),BE$3-1),campInfo,8))","v":"Y"},{"$f":"IF(INDEX(campsByItinerary,numericItinerary($A9),BF$3-1)=\"\",\"\",VLOOKUP(INDEX(campsByItinerary,numericItinerary($A9),BF$3-1),campInfo,8))","v":""},{"$f":"IF(INDEX(campsByItinerary,numericItinerary($A9),BG$3-1)=\"\",\"\",VLOOKUP(INDEX(campsByItinerary,numericItinerary($A9),BG$3-1),campInfo,8))","v":""},{"$f":"IF(INDEX(campsByItinerary,numericItinerary($A9),BH$3-1)=\"\",\"\",VLOOKUP(INDEX(campsByItinerary,numericItinerary($A9),BH$3-1),campInfo,8))","v":""},{"$f":"IF(INDEX(campsByItinerary,numericItinerary($A9),BI$3-1)=\"\",\"\",VLOOKUP(INDEX(campsByItinerary,numericItinerary($A9),BI$3-1),campInfo,8))","v":""},{"$f":"IF(INDEX(campsByItinerary,numericItinerary($A9),BJ$3-1)=\"\",\"\",VLOOKUP(INDEX(campsByItinerary,numericItinerary($A9),BJ$3-1),campInfo,8))","v":"Y"},{"$f":"IF(INDEX(campsByItinerary,numericItinerary($A9),BK$3-1)=\"\",\"\",VLOOKUP(INDEX(campsByItinerary,numericItinerary($A9),BK$3-1),campInfo,8))","v":""},{"$f":"IF(INDEX(campsByItinerary,numericItinerary($A9),BL$3-1)=\"\",\"\",VLOOKUP(INDEX(campsByItinerary,numericItinerary($A9),BL$3-1),campInfo,8))","v":""},{"$f":"IF(INDEX(campsByItinerary,numericItinerary($A9),BM$3-1)=\"\",\"\",VLOOKUP(INDEX(campsByItinerary,numericItinerary($A9),BM$3-1),campInfo,8))","v":""},"Y","","Y","Y","Y","Y","","Y","Y","Y",{"$f":"IF(INDEX(campsByItinerary,numericItinerary($A9),BD$3-1)=\"\",\"\",VLOOKUP(INDEX(campsByItinerary,numericItinerary($A9),BD$3-1),campInfo,10))","v":""},{"$f":"IF(INDEX(campsByItinerary,numericItinerary($A9),BE$3-1)=\"\",\"\",VLOOKUP(INDEX(campsByItinerary,numericItinerary($A9),BE$3-1),campInfo,10))","v":""},{"$f":"IF(INDEX(campsByItinerary,numericItinerary($A9),BF$3-1)=\"\",\"\",VLOOKUP(INDEX(campsByItinerary,numericItinerary($A9),BF$3-1),campInfo,10))","v":""},{"$f":"IF(INDEX(campsByItinerary,numericItinerary($A9),BG$3-1)=\"\",\"\",VLOOKUP(INDEX(campsByItinerary,numericItinerary($A9),BG$3-1),campInfo,10))","v":""},{"$f":"IF(INDEX(campsByItinerary,numericItinerary($A9),BH$3-1)=\"\",\"\",VLOOKUP(INDEX(campsByItinerary,numericItinerary($A9),BH$3-1),campInfo,10))","v":""},{"$f":"IF(INDEX(campsByItinerary,numericItinerary($A9),BI$3-1)=\"\",\"\",VLOOKUP(INDEX(campsByItinerary,numericItinerary($A9),BI$3-1),campInfo,10))","v":""},{"$f":"IF(INDEX(campsByItinerary,numericItinerary($A9),BJ$3-1)=\"\",\"\",VLOOKUP(INDEX(campsByItinerary,numericItinerary($A9),BJ$3-1),campInfo,10))","v":""},{"$f":"IF(INDEX(campsByItinerary,numericItinerary($A9),BK$3-1)=\"\",\"\",VLOOKUP(INDEX(campsByItinerary,numericItinerary($A9),BK$3-1),campInfo,10))","v":""},{"$f":"IF(INDEX(campsByItinerary,numericItinerary($A9),BL$3-1)=\"\",\"\",VLOOKUP(INDEX(campsByItinerary,numericItinerary($A9),BL$3-1),campInfo,10))","v":""},{"$f":"IF(INDEX(campsByItinerary,numericItinerary($A9),BM$3-1)=\"\",\"\",VLOOKUP(INDEX(campsByItinerary,numericItinerary($A9),BM$3-1),campInfo,10))","v":""},null,"","","Y","","","","","Y","Y",{"$f":"INDEX(campsByItinerary,numericItinerary($A9),BD$3-1)","v":"Sioux"},{"$f":"IF(INDEX(campsByItinerary,numericItinerary($A9),BE$3-1)=\"\",\"\",VLOOKUP(INDEX(campsByItinerary,numericItinerary($A9),BE$3-1),campInfo,2))","v":"North"},{"$f":"IF(INDEX(campsByItinerary,numericItinerary($A9),BF$3-1)=\"\",\"\",VLOOKUP(INDEX(campsByItinerary,numericItinerary($A9),BF$3-1),campInfo,2))","v":"North"},{"$f":"IF(INDEX(campsByItinerary,numericItinerary($A9),BG$3-1)=\"\",\"\",VLOOKUP(INDEX(campsByItinerary,numericItinerary($A9),BG$3-1),campInfo,2))","v":"North"},{"$f":"IF(INDEX(campsByItinerary,numericItinerary($A9),BH$3-1)=\"\",\"\",VLOOKUP(INDEX(campsByItinerary,numericItinerary($A9),BH$3-1),campInfo,2))","v":"North"},{"$f":"IF(INDEX(campsByItinerary,numericItinerary($A9),BI$3-1)=\"\",\"\",VLOOKUP(INDEX(campsByItinerary,numericItinerary($A9),BI$3-1),campInfo,2))","v":"North"},{"$f":"IF(INDEX(campsByItinerary,numericItinerary($A9),BJ$3-1)=\"\",\"\",VLOOKUP(INDEX(campsByItinerary,numericItinerary($A9),BJ$3-1),campInfo,2))","v":"Central"},{"$f":"IF(INDEX(campsByItinerary,numericItinerary($A9),BK$3-1)=\"\",\"\",VLOOKUP(INDEX(campsByItinerary,numericItinerary($A9),BK$3-1),campInfo,2))","v":""},{"$f":"IF(INDEX(campsByItinerary,numericItinerary($A9),BL$3-1)=\"\",\"\",VLOOKUP(INDEX(campsByItinerary,numericItinerary($A9),BL$3-1),campInfo,2))","v":""},{"$f":"IF(INDEX(campsByItinerary,numericItinerary($A9),BM$3-1)=\"\",\"\",VLOOKUP(INDEX(campsByItinerary,numericItinerary($A9),BM$3-1),campInfo,2))","v":""},{"$f":"IF(INDEX(campsByItinerary,numericItinerary($A9),BD$3-1)=\"\",\"\",VLOOKUP(INDEX(campsByItinerary,numericItinerary($A9),BD$3-1),campInfo,12))","v":"North"},{"$f":"IF(INDEX(campsByItinerary,numericItinerary($A9),BE$3-1)=\"\",\"\",VLOOKUP(INDEX(campsByItinerary,numericItinerary($A9),BE$3-1),campInfo,12))","v":"North"},{"$f":"IF(INDEX(campsByItinerary,numericItinerary($A9),BF$3-1)=\"\",\"\",VLOOKUP(INDEX(campsByItinerary,numericItinerary($A9),BF$3-1),campInfo,12))","v":"North"},{"$f":"IF(INDEX(campsByItinerary,numericItinerary($A9),BG$3-1)=\"\",\"\",VLOOKUP(INDEX(campsByItinerary,numericItinerary($A9),BG$3-1),campInfo,12))","v":"North"},{"$f":"IF(INDEX(campsByItinerary,numericItinerary($A9),BH$3-1)=\"\",\"\",VLOOKUP(INDEX(campsByItinerary,numericItinerary($A9),BH$3-1),campInfo,12))","v":"North"},{"$f":"IF(INDEX(campsByItinerary,numericItinerary($A9),BI$3-1)=\"\",\"\",VLOOKUP(INDEX(campsByItinerary,numericItinerary($A9),BI$3-1),campInfo,12))","v":"North"},{"$f":"IF(INDEX(campsByItinerary,numericItinerary($A9),BJ$3-1)=\"\",\"\",VLOOKUP(INDEX(campsByItinerary,numericItinerary($A9),BJ$3-1),campInfo,12))","v":"North & South"},{"$f":"IF(INDEX(campsByItinerary,numericItinerary($A9),BK$3-1)=\"\",\"\",VLOOKUP(INDEX(campsByItinerary,numericItinerary($A9),BK$3-1),campInfo,12))","v":""},{"$f":"IF(INDEX(campsByItinerary,numericItinerary($A9),BL$3-1)=\"\",\"\",VLOOKUP(INDEX(campsByItinerary,numericItinerary($A9),BL$3-1),campInfo,12))","v":""},{"$f":"IF(INDEX(campsByItinerary,numericItinerary($A9),BM$3-1)=\"\",\"\",VLOOKUP(INDEX(campsByItinerary,numericItinerary($A9),BM$3-1),campInfo,12))","v":""},{"$f":"getfoodPU(\"First\",numericItinerary($A9))","v":2},{"$f":"getfoodPU(\"Max\",numericItinerary($A9))","v":4}]
["9-7",null,"R",46,"McBride Canyon","Metcalf Station","Ponil","Pueblano","Azurite","Azurite","Miranda",null,null,null,"Camping HQ",null,"Ponil",null,null,"Baldy Town",null,null,null,null,"Six Mile Gate","Maxwell","",{"$f":"IF(AC10=\"\",\"\",numericItinerary(A10) & \":\" & AC10)","v":""},null,null,null,"y",null,"",null,"y",7105,7220,7150,8069,10640,10640,8898,"","","",115,70,919,2571,0,1742,"","","",{"$f":"IF(INDEX(campsByItinerary,numericItinerary($A10),BD$3-1)=\"\",\"\",VLOOKUP(INDEX(campsByItinerary,numericItinerary($A10),BD$3-1),campInfo,8))","v":""},{"$f":"IF(INDEX(campsByItinerary,numericItinerary($A10),BE$3-1)=\"\",\"\",VLOOKUP(INDEX(campsByItinerary,numericItinerary($A10),BE$3-1),campInfo,8))","v":"Y"},{"$f":"IF(INDEX(campsByItinerary,numericItinerary($A10),BF$3-1)=\"\",\"\",VLOOKUP(INDEX(campsByItinerary,numericItinerary($A10),BF$3-1),campInfo,8))","v":"Y"},{"$f":"IF(INDEX(campsByItinerary,numericItinerary($A10),BG$3-1)=\"\",\"\",VLOOKUP(INDEX(campsByItinerary,numericItinerary($A10),BG$3-1),campInfo,8))","v":"Y"},{"$f":"IF(INDEX(campsByItinerary,numericItinerary($A10),BH$3-1)=\"\",\"\",VLOOKUP(INDEX(campsByItinerary,numericItinerary($A10),BH$3-1),campInfo,8))","v":""},{"$f":"IF(INDEX(campsByItinerary,numericItinerary($A10),BI$3-1)=\"\",\"\",VLOOKUP(INDEX(campsByItinerary,numericItinerary($A10),BI$3-1),campInfo,8))","v":""},{"$f":"IF(INDEX(campsByItinerary,numericItinerary($A10),BJ$3-1)=\"\",\"\",VLOOKUP(INDEX(campsByItinerary,numericItinerary($A10),BJ$3-1),campInfo,8))","v":"Y"},{"$f":"IF(INDEX(campsByItinerary,numericItinerary($A10),BK$3-1)=\"\",\"\",VLOOKUP(INDEX(campsByItinerary,numericItinerary($A10),BK$3-1),campInfo,8))","v":""},{"$f":"IF(INDEX(campsByItinerary,numericItinerary($A10),BL$3-1)=\"\",\"\",VLOOKUP(INDEX(campsByItinerary,numericItinerary($A10),BL$3-1),campInfo,8))","v":""},{"$f":"IF(INDEX(campsByItinerary,numericItinerary($A10),BM$3-1)=\"\",\"\",VLOOKUP(INDEX(campsByItinerary,numericItinerary($A10),BM$3-1),campInfo,8))","v":""},"Y","","","","Y","Y","","Y","Y","Y",{"$f":"IF(INDEX(campsByItinerary,numericItinerary($A10),BD$3-1)=\"\",\"\",VLOOKUP(INDEX(campsByItinerary,numericItinerary($A10),BD$3-1),campInfo,10))","v":"Y"},{"$f":"IF(INDEX(campsByItinerary,numericItinerary($A10),BE$3-1)=\"\",\"\",VLOOKUP(INDEX(campsByItinerary,numericItinerary($A10),BE$3-1),campInfo,10))","v":""},{"$f":"IF(INDEX(campsByItinerary,numericItinerary($A10),BF$3-1)=\"\",\"\",VLOOKUP(INDEX(campsByItinerary,numericItinerary($A10),BF$3-1),campInfo,10))","v":""},{"$f":"IF(INDEX(campsByItinerary,numericItinerary($A10),BG$3-1)=\"\",\"\",VLOOKUP(INDEX(campsByItinerary,numericItinerary($A10),BG$3-1),campInfo,10))","v":""},{"$f":"IF(INDEX(campsByItinerary,numericItinerary($A10),BH$3-1)=\"\",\"\",VLOOKUP(INDEX(campsByItinerary,numericItinerary($A10),BH$3-1),campInfo,10))","v":"Y"},{"$f":"IF(INDEX(campsByItinerary,numericItinerary($A10),BI$3-1)=\"\",\"\",VLOOKUP(INDEX(campsByItinerary,numericItinerary($A10),BI$3-1),campInfo,10))","v":"Y"},{"$f":"IF(INDEX(campsByItinerary,numericItinerary($A10),BJ$3-1)=\"\",\"\",VLOOKUP(INDEX(campsByItinerary,numericItinerary($A10),BJ$3-1),campInfo,10))","v":""},{"$f":"IF(INDEX(campsByItinerary,numericItinerary($A10),BK$3-1)=\"\",\"\",VLOOKUP(INDEX(campsByItinerary,numericItinerary($A10),BK$3-1),campInfo,10))","v":""},{"$f":"IF(INDEX(campsByItinerary,numericItinerary($A10),BL$3-1)=\"\",\"\",VLOOKUP(INDEX(campsByItinerary,numericItinerary($A10),BL$3-1),campInfo,10))","v":""},{"$f":"IF(INDEX(campsByItinerary,numericItinerary($A10),BM$3-1)=\"\",\"\",VLOOKUP(INDEX(campsByItinerary,numericItinerary($A10),BM$3-1),campInfo,10))","v":""},null,"","","","","Y","","","Y","Y",{"$f":"INDEX(campsByItinerary,numericItinerary($A10),BD$3-1)","v":"McBride Canyon"},{"$f":"IF(INDEX(campsByItinerary,numericItinerary($A10),BE$3-1)=\"\",\"\",VLOOKUP(INDEX(campsByItinerary,numericItinerary($A10),BE$3-1),campInfo,2))","v":"North"},{"$f":"IF(INDEX(campsByItinerary,numericItinerary($A10),BF$3-1)=\"\",\"\",VLOOKUP(INDEX(campsByItinerary,numericItinerary($A10),BF$3-1),campInfo,2))","v":"North"},{"$f":"IF(INDEX(campsByItinerary,numericItinerary($A10),BG$3-1)=\"\",\"\",VLOOKUP(INDEX(campsByItinerary,numericItinerary($A10),BG$3-1),campInfo,2))","v":"North"},{"$f":"IF(INDEX(campsByItinerary,numericItinerary($A10),BH$3-1)=\"\",\"\",VLOOKUP(INDEX(campsByItinerary,numericItinerary($A10),BH$3-1),campInfo,2))","v":"North"},{"$f":"IF(INDEX(campsByItinerary,numericItinerary($A10),BI$3-1)=\"\",\"\",VLOOKUP(INDEX(campsByItinerary,numericItinerary($A10),BI$3-1),campInfo,2))","v":"North"},{"$f":"IF(INDEX(campsByItinerary,numericItinerary($A10),BJ$3-1)=\"\",\"\",VLOOKUP(INDEX(campsByItinerary,numericItinerary($A10),BJ$3-1),campInfo,2))","v":"North"},{"$f":"IF(INDEX(campsByItinerary,numericItinerary($A10),BK$3-1)=\"\",\"\",VLOOKUP(INDEX(campsByItinerary,numericItinerary($A10),BK$3-1),campInfo,2))","v":""},{"$f":"IF(INDEX(campsByItinerary,numericItinerary($A10),BL$3-1)=\"\",\"\",VLOOKUP(INDEX(campsByItinerary,numericItinerary($A10),BL$3-1),campInfo,2))","v":""},{"$f":"IF(INDEX(campsByItinerary,numericItinerary($A10),BM$3-1)=\"\",\"\",VLOOKUP(INDEX(campsByItinerary,numericItinerary($A10),BM$3-1),campInfo,2))","v":""},{"$f":"IF(INDEX(campsByItinerary,numericItinerary($A10),BD$3-1)=\"\",\"\",VLOOKUP(INDEX(campsByItinerary,numericItinerary($A10),BD$3-1),campInfo,12))","v":"North"},{"$f":"IF(INDEX(campsByItinerary,numericItinerary($A10),BE$3-1)=\"\",\"\",VLOOKUP(INDEX(campsByItinerary,numericItinerary($A10),BE$3-1),campInfo,12))","v":"North"},{"$f":"IF(INDEX(campsByItinerary,numericItinerary($A10),BF$3-1)=\"\",\"\",VLOOKUP(INDEX(campsByItinerary,numericItinerary($A10),BF$3-1),campInfo,12))","v":"North"},{"$f":"IF(INDEX(campsByItinerary,numericItinerary($A10),BG$3-1)=\"\",\"\",VLOOKUP(INDEX(campsByItinerary,numericItinerary($A10),BG$3-1),campInfo,12))","v":"North"},{"$f":"IF(INDEX(campsByItinerary,numericItinerary($A10),BH$3-1)=\"\",\"\",VLOOKUP(INDEX(campsByItinerary,numericItinerary($A10),BH$3-1),campInfo,12))","v":"North"},{"$f":"IF(INDEX(campsByItinerary,numericItinerary($A10),BI$3-1)=\"\",\"\",VLOOKUP(INDEX(campsByItinerary,numericItinerary($A10),BI$3-1),campInfo,12))","v":"North"},{"$f":"IF(INDEX(campsByItinerary,numericItinerary($A10),BJ$3-1)=\"\",\"\",VLOOKUP(INDEX(campsByItinerary,numericItinerary($A10),BJ$3-1),campInfo,12))","v":"North"},{"$f":"IF(INDEX(campsByItinerary,numericItinerary($A10),BK$3-1)=\"\",\"\",VLOOKUP(INDEX(campsByItinerary,numericItinerary($A10),BK$3-1),campInfo,12))","v":""},{"$f":"IF(INDEX(campsByItinerary,numericItinerary($A10),BL$3-1)=\"\",\"\",VLOOKUP(INDEX(campsByItinerary,numericItinerary($A10),BL$3-1),campInfo,12))","v":""},{"$f":"IF(INDEX(campsByItinerary,numericItinerary($A10),BM$3-1)=\"\",\"\",VLOOKUP(INDEX(campsByItinerary,numericItinerary($A10),BM$3-1),campInfo,12))","v":""},{"$f":"getfoodPU(\"First\",numericItinerary($A10))","v":2},{"$f":"getfoodPU(\"Max\",numericItinerary($A10))","v":2}]
["9-8",null,"R",46,"Aguila","Miners Park","Clarks Fork","Cimarroncito","Lamberts Mine","Thunder Ridge","American Creek",null,null,null,"Camping HQ",null,"Miners Park",null,"Cimarroncito",null,null,null,null,null,"Lovers Leap","Tolby Creek","",{"$f":"IF(AC11=\"\",\"\",numericItinerary(A11) & \":\" & AC11)","v":""},null,null,null,null,"y","",null,"y",8282,7977,7515,8137,8957,10490,9815,"","","",305,462,622,820,1533,675,"","","",{"$f":"IF(INDEX(campsByItinerary,numericItinerary($A11),BD$3-1)=\"\",\"\",VLOOKUP(INDEX(campsByItinerary,numericItinerary($A11),BD$3-1),campInfo,8))","v":""},{"$f":"IF(INDEX(campsByItinerary,numericItinerary($A11),BE$3-1)=\"\",\"\",VLOOKUP(INDEX(campsByItinerary,numericItinerary($A11),BE$3-1),campInfo,8))","v":"Y"},{"$f":"IF(INDEX(campsByItinerary,numericItinerary($A11),BF$3-1)=\"\",\"\",VLOOKUP(INDEX(campsByItinerary,numericItinerary($A11),BF$3-1),campInfo,8))","v":"Y"},{"$f":"IF(INDEX(campsByItinerary,numericItinerary($A11),BG$3-1)=\"\",\"\",VLOOKUP(INDEX(campsByItinerary,numericItinerary($A11),BG$3-1),campInfo,8))","v":"Y"},{"$f":"IF(INDEX(campsByItinerary,numericItinerary($A11),BH$3-1)=\"\",\"\",VLOOKUP(INDEX(campsByItinerary,numericItinerary($A11),BH$3-1),campInfo,8))","v":""},{"$f":"IF(INDEX(campsByItinerary,numericItinerary($A11),BI$3-1)=\"\",\"\",VLOOKUP(INDEX(campsByItinerary,numericItinerary($A11),BI$3-1),campInfo,8))","v":""},{"$f":"IF(INDEX(campsByItinerary,numericItinerary($A11),BJ$3-1)=\"\",\"\",VLOOKUP(INDEX(campsByItinerary,numericItinerary($A11),BJ$3-1),campInfo,8))","v":""},{"$f":"IF(INDEX(campsByItinerary,numericItinerary($A11),BK$3-1)=\"\",\"\",VLOOKUP(INDEX(campsByItinerary,numericItinerary($A11),BK$3-1),campInfo,8))","v":""},{"$f":"IF(INDEX(campsByItinerary,numericItinerary($A11),BL$3-1)=\"\",\"\",VLOOKUP(INDEX(campsByItinerary,numericItinerary($A11),BL$3-1),campInfo,8))","v":""},{"$f":"IF(INDEX(campsByItinerary,numericItinerary($A11),BM$3-1)=\"\",\"\",VLOOKUP(INDEX(campsByItinerary,numericItinerary($A11),BM$3-1),campInfo,8))","v":""},"Y","","","","Y","Y","Y","Y","Y","Y",{"$f":"IF(INDEX(campsByItinerary,numericItinerary($A11),BD$3-1)=\"\",\"\",VLOOKUP(INDEX(campsByItinerary,numericItinerary($A11),BD$3-1),campInfo,10))","v":""},{"$f":"IF(INDEX(campsByItinerary,numericItinerary($A11),BE$3-1)=\"\",\"\",VLOOKUP(INDEX(campsByItinerary,numericItinerary($A11),BE$3-1),campInfo,10))","v":""},{"$f":"IF(INDEX(campsByItinerary,numericItinerary($A11),BF$3-1)=\"\",\"\",VLOOKUP(INDEX(campsByItinerary,numericItinerary($A11),BF$3-1),campInfo,10))","v":""},{"$f":"IF(INDEX(campsByItinerary,numericItinerary($A11),BG$3-1)=\"\",\"\",VLOOKUP(INDEX(campsByItinerary,numericItinerary($A11),BG$3-1),campInfo,10))","v":""},{"$f":"IF(INDEX(campsByItinerary,numericItinerary($A11),BH$3-1)=\"\",\"\",VLOOKUP(INDEX(campsByItinerary,numericItinerary($A11),BH$3-1),campInfo,10))","v":""},{"$f":"IF(INDEX(campsByItinerary,numericItinerary($A11),BI$3-1)=\"\",\"\",VLOOKUP(INDEX(campsByItinerary,numericItinerary($A11),BI$3-1),campInfo,10))","v":"Y"},{"$f":"IF(INDEX(campsByItinerary,numericItinerary($A11),BJ$3-1)=\"\",\"\",VLOOKUP(INDEX(campsByItinerary,numericItinerary($A11),BJ$3-1),campInfo,10))","v":""},{"$f":"IF(INDEX(campsByItinerary,numericItinerary($A11),BK$3-1)=\"\",\"\",VLOOKUP(INDEX(campsByItinerary,numericItinerary($A11),BK$3-1),campInfo,10))","v":""},{"$f":"IF(INDEX(campsByItinerary,numericItinerary($A11),BL$3-1)=\"\",\"\",VLOOKUP(INDEX(campsByItinerary,numericItinerary($A11),BL$3-1),campInfo,10))","v":""},{"$f":"IF(INDEX(campsByItinerary,numericItinerary($A11),BM$3-1)=\"\",\"\",VLOOKUP(INDEX(campsByItinerary,numericItinerary($A11),BM$3-1),campInfo,10))","v":""},null,"","","","","","","","Y","Y",{"$f":"INDEX(campsByItinerary,numericItinerary($A11),BD$3-1)","v":"Aguila"},{"$f":"IF(INDEX(campsByItinerary,numericItinerary($A11),BE$3-1)=\"\",\"\",VLOOKUP(INDEX(campsByItinerary,numericItinerary($A11),BE$3-1),campInfo,2))","v":"South"},{"$f":"IF(INDEX(campsByItinerary,numericItinerary($A11),BF$3-1)=\"\",\"\",VLOOKUP(INDEX(campsByItinerary,numericItinerary($A11),BF$3-1),campInfo,2))","v":"Central"},{"$f":"IF(INDEX(campsByItinerary,numericItinerary($A11),BG$3-1)=\"\",\"\",VLOOKUP(INDEX(campsByItinerary,numericItinerary($A11),BG$3-1),campInfo,2))","v":"Central"},{"$f":"IF(INDEX(campsByItinerary,numericItinerary($A11),BH$3-1)=\"\",\"\",VLOOKUP(INDEX(campsByItinerary,numericItinerary($A11),BH$3-1),campInfo,2))","v":"Central"},{"$f":"IF(INDEX(campsByItinerary,numericItinerary($A11),BI$3-1)=\"\",\"\",VLOOKUP(INDEX(campsByItinerary,numericItinerary($A11),BI$3-1),campInfo,2))","v":"Central"},{"$f":"IF(INDEX(campsByItinerary,numericItinerary($A11),BJ$3-1)=\"\",\"\",VLOOKUP(INDEX(campsByItinerary,numericItinerary($A11),BJ$3-1),campInfo,2))","v":"South"},{"$f":"IF(INDEX(campsByItinerary,numericItinerary($A11),BK$3-1)=\"\",\"\",VLOOKUP(INDEX(campsByItinerary,numericItinerary($A11),BK$3-1),campInfo,2))","v":""},{"$f":"IF(INDEX(campsByItinerary,numericItinerary($A11),BL$3-1)=\"\",\"\",VLOOKUP(INDEX(campsByItinerary,numericItinerary($A11),BL$3-1),campInfo,2))","v":""},{"$f":"IF(INDEX(campsByItinerary,numericItinerary($A11),BM$3-1)=\"\",\"\",VLOOKUP(INDEX(campsByItinerary,numericItinerary($A11),BM$3-1),campInfo,2))","v":""},{"$f":"IF(INDEX(campsByItinerary,numericItinerary($A11),BD$3-1)=\"\",\"\",VLOOKUP(INDEX(campsByItinerary,numericItinerary($A11),BD$3-1),campInfo,12))","v":"South"},{"$f":"IF(INDEX(campsByItinerary,numericItinerary($A11),BE$3-1)=\"\",\"\",VLOOKUP(INDEX(campsByItinerary,numericItinerary($A11),BE$3-1),campInfo,12))","v":"South"},{"$f":"IF(INDEX(campsByItinerary,numericItinerary($A11),BF$3-1)=\"\",\"\",VLOOKUP(INDEX(campsByItinerary,numericItinerary($A11),BF$3-1),campInfo,12))","v":"South"},{"$f":"IF(INDEX(campsByItinerary,numericItinerary($A11),BG$3-1)=\"\",\"\",VLOOKUP(INDEX(campsByItinerary,numericItinerary($A11),BG$3-1),campInfo,12))","v":"South"},{"$f":"IF(INDEX(campsByItinerary,numericItinerary($A11),BH$3-1)=\"\",\"\",VLOOKUP(INDEX(campsByItinerary,numericItinerary($A11),BH$3-1),campInfo,12))","v":"South"},{"$f":"IF(INDEX(campsByItinerary,numericItinerary($A11),BI$3-1)=\"\",\"\",VLOOKUP(INDEX(campsByItinerary,numericItinerary($A11),BI$3-1),campInfo,12))","v":"South"},{"$f":"IF(INDEX(campsByItinerary,numericItinerary($A11),BJ$3-1)=\"\",\"\",VLOOKUP(INDEX(campsByItinerary,numericItinerary($A11),BJ$3-1),campInfo,12))","v":"South"},{"$f":"IF(INDEX(campsByItinerary,numericItinerary($A11),BK$3-1)=\"\",\"\",VLOOKUP(INDEX(campsByItinerary,numericItinerary($A11),BK$3-1),campInfo,12))","v":""},{"$f":"IF(INDEX(campsByItinerary,numericItinerary($A11),BL$3-1)=\"\",\"\",VLOOKUP(INDEX(campsByItinerary,numericItinerary($A11),BL$3-1),campInfo,12))","v":""},{"$f":"IF(INDEX(campsByItinerary,numericItinerary($A11),BM$3-1)=\"\",\"\",VLOOKUP(INDEX(campsByItinerary,numericItinerary($A11),BM$3-1),campInfo,12))","v":""},{"$f":"getfoodPU(\"First\",numericItinerary($A11))","v":2},{"$f":"getfoodPU(\"Max\",numericItinerary($A11))","v":2}]
["9-9",null,"S",49,"Arrowhead","Hunting Lodge","Sawmill","Cimarroncita","Upper Dean Cow","Black Horse Mine","Touch-Me-Not Creek",null,null,null,"Camping HQ",null,"Sawmill",null,null,"Baldy Town",null,null,null,null,"Webster","Maxwell","",{"$f":"IF(AC12=\"\",\"\",numericItinerary(A12) & \":\" & AC12)","v":"9:6"},6,"Bear Canyon","N","y",null,"",null,null,7644,7776,9193,7373,8254,10750,8855,"","","",132,1417,1820,881,2496,1895,"","","",{"$f":"IF(INDEX(campsByItinerary,numericItinerary($A12),BD$3-1)=\"\",\"\",VLOOKUP(INDEX(campsByItinerary,numericItinerary($A12),BD$3-1),campInfo,8))","v":""},{"$f":"IF(INDEX(campsByItinerary,numericItinerary($A12),BE$3-1)=\"\",\"\",VLOOKUP(INDEX(campsByItinerary,numericItinerary($A12),BE$3-1),campInfo,8))","v":"N"},{"$f":"IF(INDEX(campsByItinerary,numericItinerary($A12),BF$3-1)=\"\",\"\",VLOOKUP(INDEX(campsByItinerary,numericItinerary($A12),BF$3-1),campInfo,8))","v":"Y"},{"$f":"IF(INDEX(campsByItinerary,numericItinerary($A12),BG$3-1)=\"\",\"\",VLOOKUP(INDEX(campsByItinerary,numericItinerary($A12),BG$3-1),campInfo,8))","v":"Y"},{"$f":"IF(INDEX(campsByItinerary,numericItinerary($A12),BH$3-1)=\"\",\"\",VLOOKUP(INDEX(campsByItinerary,numericItinerary($A12),BH$3-1),campInfo,8))","v":""},{"$f":"IF(INDEX(campsByItinerary,numericItinerary($A12),BI$3-1)=\"\",\"\",VLOOKUP(INDEX(campsByItinerary,numericItinerary($A12),BI$3-1),campInfo,8))","v":""},{"$f":"IF(INDEX(campsByItinerary,numericItinerary($A12),BJ$3-1)=\"\",\"\",VLOOKUP(INDEX(campsByItinerary,numericItinerary($A12),BJ$3-1),campInfo,8))","v":""},{"$f":"IF(INDEX(campsByItinerary,numericItinerary($A12),BK$3-1)=\"\",\"\",VLOOKUP(INDEX(campsByItinerary,numericItinerary($A12),BK$3-1),campInfo,8))","v":""},{"$f":"IF(INDEX(campsByItinerary,numericItinerary($A12),BL$3-1)=\"\",\"\",VLOOKUP(INDEX(campsByItinerary,numericItinerary($A12),BL$3-1),campInfo,8))","v":""},{"$f":"IF(INDEX(campsByItinerary,numericItinerary($A12),BM$3-1)=\"\",\"\",VLOOKUP(INDEX(campsByItinerary,numericItinerary($A12),BM$3-1),campInfo,8))","v":""},"Y","Y","","","Y","Y","Y","Y","Y","Y",{"$f":"IF(INDEX(campsByItinerary,numericItinerary($A12),BD$3-1)=\"\",\"\",VLOOKUP(INDEX(campsByItinerary,numericItinerary($A12),BD$3-1),campInfo,10))","v":"Y"},{"$f":"IF(INDEX(campsByItinerary,numericItinerary($A12),BE$3-1)=\"\",\"\",VLOOKUP(INDEX(campsByItinerary,numericItinerary($A12),BE$3-1),campInfo,10))","v":""},{"$f":"IF(INDEX(campsByItinerary,numericItinerary($A12),BF$3-1)=\"\",\"\",VLOOKUP(INDEX(campsByItinerary,numericItinerary($A12),BF$3-1),campInfo,10))","v":""},{"$f":"IF(INDEX(campsByItinerary,numericItinerary($A12),BG$3-1)=\"\",\"\",VLOOKUP(INDEX(campsByItinerary,numericItinerary($A12),BG$3-1),campInfo,10))","v":""},{"$f":"IF(INDEX(campsByItinerary,numericItinerary($A12),BH$3-1)=\"\",\"\",VLOOKUP(INDEX(campsByItinerary,numericItinerary($A12),BH$3-1),campInfo,10))","v":""},{"$f":"IF(INDEX(campsByItinerary,numericItinerary($A12),BI$3-1)=\"\",\"\",VLOOKUP(INDEX(campsByItinerary,numericItinerary($A12),BI$3-1),campInfo,10))","v":"Y"},{"$f":"IF(INDEX(campsByItinerary,numericItinerary($A12),BJ$3-1)=\"\",\"\",VLOOKUP(INDEX(campsByItinerary,numericItinerary($A12),BJ$3-1),campInfo,10))","v":""},{"$f":"IF(INDEX(campsByItinerary,numericItinerary($A12),BK$3-1)=\"\",\"\",VLOOKUP(INDEX(campsByItinerary,numericItinerary($A12),BK$3-1),campInfo,10))","v":""},{"$f":"IF(INDEX(campsByItinerary,numericItinerary($A12),BL$3-1)=\"\",\"\",VLOOKUP(INDEX(campsByItinerary,numericItinerary($A12),BL$3-1),campInfo,10))","v":""},{"$f":"IF(INDEX(campsByItinerary,numericItinerary($A12),BM$3-1)=\"\",\"\",VLOOKUP(INDEX(campsByItinerary,numericItinerary($A12),BM$3-1),campInfo,10))","v":""},null,"","","","","","","","Y","Y",{"$f":"INDEX(campsByItinerary,numericItinerary($A12),BD$3-1)","v":"Arrowhead"},{"$f":"IF(INDEX(campsByItinerary,numericItinerary($A12),BE$3-1)=\"\",\"\",VLOOKUP(INDEX(campsByItinerary,numericItinerary($A12),BE$3-1),campInfo,2))","v":"Central"},{"$f":"IF(INDEX(campsByItinerary,numericItinerary($A12),BF$3-1)=\"\",\"\",VLOOKUP(INDEX(campsByItinerary,numericItinerary($A12),BF$3-1),campInfo,2))","v":"Central"},{"$f":"IF(INDEX(campsByItinerary,numericItinerary($A12),BG$3-1)=\"\",\"\",VLOOKUP(INDEX(campsByItinerary,numericItinerary($A12),BG$3-1),campInfo,2))","v":"Central"},{"$f":"IF(INDEX(campsByItinerary,numericItinerary($A12),BH$3-1)=\"\",\"\",VLOOKUP(INDEX(campsByItinerary,numericItinerary($A12),BH$3-1),campInfo,2))","v":"North"},{"$f":"IF(INDEX(campsByItinerary,numericItinerary($A12),BI$3-1)=\"\",\"\",VLOOKUP(INDEX(campsByItinerary,numericItinerary($A12),BI$3-1),campInfo,2))","v":"North"},{"$f":"IF(INDEX(campsByItinerary,numericItinerary($A12),BJ$3-1)=\"\",\"\",VLOOKUP(INDEX(campsByItinerary,numericItinerary($A12),BJ$3-1),campInfo,2))","v":"North"},{"$f":"IF(INDEX(campsByItinerary,numericItinerary($A12),BK$3-1)=\"\",\"\",VLOOKUP(INDEX(campsByItinerary,numericItinerary($A12),BK$3-1),campInfo,2))","v":""},{"$f":"IF(INDEX(campsByItinerary,numericItinerary($A12),BL$3-1)=\"\",\"\",VLOOKUP(INDEX(campsByItinerary,numericItinerary($A12),BL$3-1),campInfo,2))","v":""},{"$f":"IF(INDEX(campsByItinerary,numericItinerary($A12),BM$3-1)=\"\",\"\",VLOOKUP(INDEX(campsByItinerary,numericItinerary($A12),BM$3-1),campInfo,2))","v":""},{"$f":"IF(INDEX(campsByItinerary,numericItinerary($A12),BD$3-1)=\"\",\"\",VLOOKUP(INDEX(campsByItinerary,numericItinerary($A12),BD$3-1),campInfo,12))","v":"South"},{"$f":"IF(INDEX(campsByItinerary,numericItinerary($A12),BE$3-1)=\"\",\"\",VLOOKUP(INDEX(campsByItinerary,numericItinerary($A12),BE$3-1),campInfo,12))","v":"South"},{"$f":"IF(INDEX(campsByItinerary,numericItinerary($A12),BF$3-1)=\"\",\"\",VLOOKUP(INDEX(campsByItinerary,numericItinerary($A12),BF$3-1),campInfo,12))","v":"South"},{"$f":"IF(INDEX(campsByItinerary,numericItinerary($A12),BG$3-1)=\"\",\"\",VLOOKUP(INDEX(campsByItinerary,numericItinerary($A12),BG$3-1),campInfo,12))","v":"North & South"},{"$f":"IF(INDEX(campsByItinerary,numericItinerary($A12),BH$3-1)=\"\",\"\",VLOOKUP(INDEX(campsByItinerary,numericItinerary($A12),BH$3-1),campInfo,12))","v":"North"},{"$f":"IF(INDEX(campsByItinerary,numericItinerary($A12),BI$3-1)=\"\",\"\",VLOOKUP(INDEX(campsByItinerary,numericItinerary($A12),BI$3-1),campInfo,12))","v":"North"},{"$f":"IF(INDEX(campsByItinerary,numericItinerary($A12),BJ$3-1)=\"\",\"\",VLOOKUP(INDEX(campsByItinerary,numericItinerary($A12),BJ$3-1),campInfo,12))","v":"North"},{"$f":"IF(INDEX(campsByItinerary,numericItinerary($A12),BK$3-1)=\"\",\"\",VLOOKUP(INDEX(campsByItinerary,numericItinerary($A12),BK$3-1),campInfo,12))","v":""},{"$f":"IF(INDEX(campsByItinerary,numericItinerary($A12),BL$3-1)=\"\",\"\",VLOOKUP(INDEX(campsByItinerary,numericItinerary($A12),BL$3-1),campInfo,12))","v":""},{"$f":"IF(INDEX(campsByItinerary,numericItinerary($A12),BM$3-1)=\"\",\"\",VLOOKUP(INDEX(campsByItinerary,numericItinerary($A12),BM$3-1),campInfo,12))","v":""},{"$f":"getfoodPU(\"First\",numericItinerary($A12))","v":2},{"$f":"getfoodPU(\"Max\",numericItinerary($A12))","v":2}]
["9-10",null,"S",50,"Line","Fish Camp","Apache Springs","Porcupine","Miners Park","Urraca","Stockade Ridge",null,null,null,"Camping HQ",null,"Apache Springs",null,"Miners Park",null,null,null,null,null,"Zastrow","Hike In","y",{"$f":"IF(AC13=\"\",\"\",numericItinerary(A13) & \":\" & AC13)","v":""},null,null,null,null,null,"y","y",null,8125,8564,9409,9152,7977,7968,7519,"","","",439,845,257,1175,9,449,"","","",{"$f":"IF(INDEX(campsByItinerary,numericItinerary($A13),BD$3-1)=\"\",\"\",VLOOKUP(INDEX(campsByItinerary,numericItinerary($A13),BD$3-1),campInfo,8))","v":""},{"$f":"IF(INDEX(campsByItinerary,numericItinerary($A13),BE$3-1)=\"\",\"\",VLOOKUP(INDEX(campsByItinerary,numericItinerary($A13),BE$3-1),campInfo,8))","v":"Y"},{"$f":"IF(INDEX(campsByItinerary,numericItinerary($A13),BF$3-1)=\"\",\"\",VLOOKUP(INDEX(campsByItinerary,numericItinerary($A13),BF$3-1),campInfo,8))","v":"Y"},{"$f":"IF(INDEX(campsByItinerary,numericItinerary($A13),BG$3-1)=\"\",\"\",VLOOKUP(INDEX(campsByItinerary,numericItinerary($A13),BG$3-1),campInfo,8))","v":""},{"$f":"IF(INDEX(campsByItinerary,numericItinerary($A13),BH$3-1)=\"\",\"\",VLOOKUP(INDEX(campsByItinerary,numericItinerary($A13),BH$3-1),campInfo,8))","v":"Y"},{"$f":"IF(INDEX(campsByItinerary,numericItinerary($A13),BI$3-1)=\"\",\"\",VLOOKUP(INDEX(campsByItinerary,numericItinerary($A13),BI$3-1),campInfo,8))","v":"Y"},{"$f":"IF(INDEX(campsByItinerary,numericItinerary($A13),BJ$3-1)=\"\",\"\",VLOOKUP(INDEX(campsByItinerary,numericItinerary($A13),BJ$3-1),campInfo,8))","v":""},{"$f":"IF(INDEX(campsByItinerary,numericItinerary($A13),BK$3-1)=\"\",\"\",VLOOKUP(INDEX(campsByItinerary,numericItinerary($A13),BK$3-1),campInfo,8))","v":""},{"$f":"IF(INDEX(campsByItinerary,numericItinerary($A13),BL$3-1)=\"\",\"\",VLOOKUP(INDEX(campsByItinerary,numericItinerary($A13),BL$3-1),campInfo,8))","v":""},{"$f":"IF(INDEX(campsByItinerary,numericItinerary($A13),BM$3-1)=\"\",\"\",VLOOKUP(INDEX(campsByItinerary,numericItinerary($A13),BM$3-1),campInfo,8))","v":""},"Y","","","Y","","","Y","Y","Y","Y",{"$f":"IF(INDEX(campsByItinerary,numericItinerary($A13),BD$3-1)=\"\",\"\",VLOOKUP(INDEX(campsByItinerary,numericItinerary($A13),BD$3-1),campInfo,10))","v":""},{"$f":"IF(INDEX(campsByItinerary,numericItinerary($A13),BE$3-1)=\"\",\"\",VLOOKUP(INDEX(campsByItinerary,numericItinerary($A13),BE$3-1),campInfo,10))","v":""},{"$f":"IF(INDEX(campsByItinerary,numericItinerary($A13),BF$3-1)=\"\",\"\",VLOOKUP(INDEX(campsByItinerary,numericItinerary($A13),BF$3-1),campInfo,10))","v":""},{"$f":"IF(INDEX(campsByItinerary,numericItinerary($A13),BG$3-1)=\"\",\"\",VLOOKUP(INDEX(campsByItinerary,numericItinerary($A13),BG$3-1),campInfo,10))","v":""},{"$f":"IF(INDEX(campsByItinerary,numericItinerary($A13),BH$3-1)=\"\",\"\",VLOOKUP(INDEX(campsByItinerary,numericItinerary($A13),BH$3-1),campInfo,10))","v":""},{"$f":"IF(INDEX(campsByItinerary,numericItinerary($A13),BI$3-1)=\"\",\"\",VLOOKUP(INDEX(campsByItinerary,numericItinerary($A13),BI$3-1),campInfo,10))","v":""},{"$f":"IF(INDEX(campsByItinerary,numericItinerary($A13),BJ$3-1)=\"\",\"\",VLOOKUP(INDEX(campsByItinerary,numericItinerary($A13),BJ$3-1),campInfo,10))","v":"Y"},{"$f":"IF(INDEX(campsByItinerary,numericItinerary($A13),BK$3-1)=\"\",\"\",VLOOKUP(INDEX(campsByItinerary,numericItinerary($A13),BK$3-1),campInfo,10))","v":""},{"$f":"IF(INDEX(campsByItinerary,numericItinerary($A13),BL$3-1)=\"\",\"\",VLOOKUP(INDEX(campsByItinerary,numericItinerary($A13),BL$3-1),campInfo,10))","v":""},{"$f":"IF(INDEX(campsByItinerary,numericItinerary($A13),BM$3-1)=\"\",\"\",VLOOKUP(INDEX(campsByItinerary,numericItinerary($A13),BM$3-1),campInfo,10))","v":""},null,"","","","","","","","Y","Y",{"$f":"INDEX(campsByItinerary,numericItinerary($A13),BD$3-1)","v":"Line"},{"$f":"IF(INDEX(campsByItinerary,numericItinerary($A13),BE$3-1)=\"\",\"\",VLOOKUP(INDEX(campsByItinerary,numericItinerary($A13),BE$3-1),campInfo,2))","v":"South"},{"$f":"IF(INDEX(campsByItinerary,numericItinerary($A13),BF$3-1)=\"\",\"\",VLOOKUP(INDEX(campsByItinerary,numericItinerary($A13),BF$3-1),campInfo,2))","v":"South"},{"$f":"IF(INDEX(campsByItinerary,numericItinerary($A13),BG$3-1)=\"\",\"\",VLOOKUP(INDEX(campsByItinerary,numericItinerary($A13),BG$3-1),campInfo,2))","v":"South"},{"$f":"IF(INDEX(campsByItinerary,numericItinerary($A13),BH$3-1)=\"\",\"\",VLOOKUP(INDEX(campsByItinerary,numericItinerary($A13),BH$3-1),campInfo,2))","v":"South"},{"$f":"IF(INDEX(campsByItinerary,numericItinerary($A13),BI$3-1)=\"\",\"\",VLOOKUP(INDEX(campsByItinerary,numericItinerary($A13),BI$3-1),campInfo,2))","v":"South"},{"$f":"IF(INDEX(campsByItinerary,numericItinerary($A13),BJ$3-1)=\"\",\"\",VLOOKUP(INDEX(campsByItinerary,numericItinerary($A13),BJ$3-1),campInfo,2))","v":"South"},{"$f":"IF(INDEX(campsByItinerary,numericItinerary($A13),BK$3-1)=\"\",\"\",VLOOKUP(INDEX(campsByItinerary,numericItinerary($A13),BK$3-1),campInfo,2))","v":""},{"$f":"IF(INDEX(campsByItinerary,numericItinerary($A13),BL$3-1)=\"\",\"\",VLOOKUP(INDEX(campsByItinerary,numericItinerary($A13),BL$3-1),campInfo,2))","v":""},{"$f":"IF(INDEX(campsByItinerary,numericItinerary($A13),BM$3-1)=\"\",\"\",VLOOKUP(INDEX(campsByItinerary,numericItinerary($A13),BM$3-1),campInfo,2))","v":""},{"$f":"IF(INDEX(campsByItinerary,numericItinerary($A13),BD$3-1)=\"\",\"\",VLOOKUP(INDEX(campsByItinerary,numericItinerary($A13),BD$3-1),campInfo,12))","v":"South"},{"$f":"IF(INDEX(campsByItinerary,numericItinerary($A13),BE$3-1)=\"\",\"\",VLOOKUP(INDEX(campsByItinerary,numericItinerary($A13),BE$3-1),campInfo,12))","v":"South"},{"$f":"IF(INDEX(campsByItinerary,numericItinerary($A13),BF$3-1)=\"\",\"\",VLOOKUP(INDEX(campsByItinerary,numericItinerary($A13),BF$3-1),campInfo,12))","v":"South"},{"$f":"IF(INDEX(campsByItinerary,numericItinerary($A13),BG$3-1)=\"\",\"\",VLOOKUP(INDEX(campsByItinerary,numericItinerary($A13),BG$3-1),campInfo,12))","v":"South"},{"$f":"IF(INDEX(campsByItinerary,numericItinerary($A13),BH$3-1)=\"\",\"\",VLOOKUP(INDEX(campsByItinerary,numericItinerary($A13),BH$3-1),campInfo,12))","v":"South"},{"$f":"IF(INDEX(campsByItinerary,numericItinerary($A13),BI$3-1)=\"\",\"\",VLOOKUP(INDEX(campsByItinerary,numericItinerary($A13),BI$3-1),campInfo,12))","v":"South"},{"$f":"IF(INDEX(campsByItinerary,numericItinerary($A13),BJ$3-1)=\"\",\"\",VLOOKUP(INDEX(campsByItinerary,numericItinerary($A13),BJ$3-1),campInfo,12))","v":"South"},{"$f":"IF(INDEX(campsByItinerary,numericItinerary($A13),BK$3-1)=\"\",\"\",VLOOKUP(INDEX(campsByItinerary,numericItinerary($A13),BK$3-1),campInfo,12))","v":""},{"$f":"IF(INDEX(campsByItinerary,numericItinerary($A13),BL$3-1)=\"\",\"\",VLOOKUP(INDEX(campsByItinerary,numericItinerary($A13),BL$3-1),campInfo,12))","v":""},{"$f":"IF(INDEX(campsByItinerary,numericItinerary($A13),BM$3-1)=\"\",\"\",VLOOKUP(INDEX(campsByItinerary,numericItinerary($A13),BM$3-1),campInfo,12))","v":""},{"$f":"getfoodPU(\"First\",numericItinerary($A13))","v":2},{"$f":"getfoodPU(\"Max\",numericItinerary($A13))","v":2}]
["9-11",null,"S",51,"Abreu","Crater Lake","Beaubien","Comanche Creek","Red Hills","Black Mountain","Shaefers Pass",null,null,null,"Camping HQ",null,null,"Phillips Junction",null,null,null,null,null,null,"Zastrow","Hike In","y",{"$f":"IF(AC14=\"\",\"\",numericItinerary(A14) & \":\" & AC14)","v":""},null,null,null,null,"y","y","y","y",7217,8398,9330,9600,10280,8991,8724,"","","",1181,932,270,680,1289,267,"","","",{"$f":"IF(INDEX(campsByItinerary,numericItinerary($A14),BD$3-1)=\"\",\"\",VLOOKUP(INDEX(campsByItinerary,numericItinerary($A14),BD$3-1),campInfo,8))","v":"Y"},{"$f":"IF(INDEX(campsByItinerary,numericItinerary($A14),BE$3-1)=\"\",\"\",VLOOKUP(INDEX(campsByItinerary,numericItinerary($A14),BE$3-1),campInfo,8))","v":"Y"},{"$f":"IF(INDEX(campsByItinerary,numericItinerary($A14),BF$3-1)=\"\",\"\",VLOOKUP(INDEX(campsByItinerary,numericItinerary($A14),BF$3-1),campInfo,8))","v":"Y"},{"$f":"IF(INDEX(campsByItinerary,numericItinerary($A14),BG$3-1)=\"\",\"\",VLOOKUP(INDEX(campsByItinerary,numericItinerary($A14),BG$3-1),campInfo,8))","v":""},{"$f":"IF(INDEX(campsByItinerary,numericItinerary($A14),BH$3-1)=\"\",\"\",VLOOKUP(INDEX(campsByItinerary,numericItinerary($A14),BH$3-1),campInfo,8))","v":""},{"$f":"IF(INDEX(campsByItinerary,numericItinerary($A14),BI$3-1)=\"\",\"\",VLOOKUP(INDEX(campsByItinerary,numericItinerary($A14),BI$3-1),campInfo,8))","v":"Y"},{"$f":"IF(INDEX(campsByItinerary,numericItinerary($A14),BJ$3-1)=\"\",\"\",VLOOKUP(INDEX(campsByItinerary,numericItinerary($A14),BJ$3-1),campInfo,8))","v":""},{"$f":"IF(INDEX(campsByItinerary,numericItinerary($A14),BK$3-1)=\"\",\"\",VLOOKUP(INDEX(campsByItinerary,numericItinerary($A14),BK$3-1),campInfo,8))","v":""},{"$f":"IF(INDEX(campsByItinerary,numericItinerary($A14),BL$3-1)=\"\",\"\",VLOOKUP(INDEX(campsByItinerary,numericItinerary($A14),BL$3-1),campInfo,8))","v":""},{"$f":"IF(INDEX(campsByItinerary,numericItinerary($A14),BM$3-1)=\"\",\"\",VLOOKUP(INDEX(campsByItinerary,numericItinerary($A14),BM$3-1),campInfo,8))","v":""},"","","","Y","Y","","Y","Y","Y","Y",{"$f":"IF(INDEX(campsByItinerary,numericItinerary($A14),BD$3-1)=\"\",\"\",VLOOKUP(INDEX(campsByItinerary,numericItinerary($A14),BD$3-1),campInfo,10))","v":""},{"$f":"IF(INDEX(campsByItinerary,numericItinerary($A14),BE$3-1)=\"\",\"\",VLOOKUP(INDEX(campsByItinerary,numericItinerary($A14),BE$3-1),campInfo,10))","v":""},{"$f":"IF(INDEX(campsByItinerary,numericItinerary($A14),BF$3-1)=\"\",\"\",VLOOKUP(INDEX(campsByItinerary,numericItinerary($A14),BF$3-1),campInfo,10))","v":""},{"$f":"IF(INDEX(campsByItinerary,numericItinerary($A14),BG$3-1)=\"\",\"\",VLOOKUP(INDEX(campsByItinerary,numericItinerary($A14),BG$3-1),campInfo,10))","v":""},{"$f":"IF(INDEX(campsByItinerary,numericItinerary($A14),BH$3-1)=\"\",\"\",VLOOKUP(INDEX(campsByItinerary,numericItinerary($A14),BH$3-1),campInfo,10))","v":""},{"$f":"IF(INDEX(campsByItinerary,numericItinerary($A14),BI$3-1)=\"\",\"\",VLOOKUP(INDEX(campsByItinerary,numericItinerary($A14),BI$3-1),campInfo,10))","v":""},{"$f":"IF(INDEX(campsByItinerary,numericItinerary($A14),BJ$3-1)=\"\",\"\",VLOOKUP(INDEX(campsByItinerary,numericItinerary($A14),BJ$3-1),campInfo,10))","v":"Y"},{"$f":"IF(INDEX(campsByItinerary,numericItinerary($A14),BK$3-1)=\"\",\"\",VLOOKUP(INDEX(campsByItinerary,numericItinerary($A14),BK$3-1),campInfo,10))","v":""},{"$f":"IF(INDEX(campsByItinerary,numericItinerary($A14),BL$3-1)=\"\",\"\",VLOOKUP(INDEX(campsByItinerary,numericItinerary($A14),BL$3-1),campInfo,10))","v":""},{"$f":"IF(INDEX(campsByItinerary,numericItinerary($A14),BM$3-1)=\"\",\"\",VLOOKUP(INDEX(campsByItinerary,numericItinerary($A14),BM$3-1),campInfo,10))","v":""},null,"","","","","","","","Y","Y",{"$f":"INDEX(campsByItinerary,numericItinerary($A14),BD$3-1)","v":"Abreu"},{"$f":"IF(INDEX(campsByItinerary,numericItinerary($A14),BE$3-1)=\"\",\"\",VLOOKUP(INDEX(campsByItinerary,numericItinerary($A14),BE$3-1),campInfo,2))","v":"South"},{"$f":"IF(INDEX(campsByItinerary,numericItinerary($A14),BF$3-1)=\"\",\"\",VLOOKUP(INDEX(campsByItinerary,numericItinerary($A14),BF$3-1),campInfo,2))","v":"South"},{"$f":"IF(INDEX(campsByItinerary,numericItinerary($A14),BG$3-1)=\"\",\"\",VLOOKUP(INDEX(campsByItinerary,numericItinerary($A14),BG$3-1),campInfo,2))","v":"South"},{"$f":"IF(INDEX(campsByItinerary,numericItinerary($A14),BH$3-1)=\"\",\"\",VLOOKUP(INDEX(campsByItinerary,numericItinerary($A14),BH$3-1),campInfo,2))","v":"South"},{"$f":"IF(INDEX(campsByItinerary,numericItinerary($A14),BI$3-1)=\"\",\"\",VLOOKUP(INDEX(campsByItinerary,numericItinerary($A14),BI$3-1),campInfo,2))","v":"South"},{"$f":"IF(INDEX(campsByItinerary,numericItinerary($A14),BJ$3-1)=\"\",\"\",VLOOKUP(INDEX(campsByItinerary,numericItinerary($A14),BJ$3-1),campInfo,2))","v":"Central"},{"$f":"IF(INDEX(campsByItinerary,numericItinerary($A14),BK$3-1)=\"\",\"\",VLOOKUP(INDEX(campsByItinerary,numericItinerary($A14),BK$3-1),campInfo,2))","v":""},{"$f":"IF(INDEX(campsByItinerary,numericItinerary($A14),BL$3-1)=\"\",\"\",VLOOKUP(INDEX(campsByItinerary,numericItinerary($A14),BL$3-1),campInfo,2))","v":""},{"$f":"IF(INDEX(campsByItinerary,numericItinerary($A14),BM$3-1)=\"\",\"\",VLOOKUP(INDEX(campsByItinerary,numericItinerary($A14),BM$3-1),campInfo,2))","v":""},{"$f":"IF(INDEX(campsByItinerary,numericItinerary($A14),BD$3-1)=\"\",\"\",VLOOKUP(INDEX(campsByItinerary,numericItinerary($A14),BD$3-1),campInfo,12))","v":"South"},{"$f":"IF(INDEX(campsByItinerary,numericItinerary($A14),BE$3-1)=\"\",\"\",VLOOKUP(INDEX(campsByItinerary,numericItinerary($A14),BE$3-1),campInfo,12))","v":"South"},{"$f":"IF(INDEX(campsByItinerary,numericItinerary($A14),BF$3-1)=\"\",\"\",VLOOKUP(INDEX(campsByItinerary,numericItinerary($A14),BF$3-1),campInfo,12))","v":"South"},{"$f":"IF(INDEX(campsByItinerary,numericItinerary($A14),BG$3-1)=\"\",\"\",VLOOKUP(INDEX(campsByItinerary,numericItinerary($A14),BG$3-1),campInfo,12))","v":"South"},{"$f":"IF(INDEX(campsByItinerary,numericItinerary($A14),BH$3-1)=\"\",\"\",VLOOKUP(INDEX(campsByItinerary,numericItinerary($A14),BH$3-1),campInfo,12))","v":"South"},{"$f":"IF(INDEX(campsByItinerary,numericItinerary($A14),BI$3-1)=\"\",\"\",VLOOKUP(INDEX(campsByItinerary,numericItinerary($A14),BI$3-1),campInfo,12))","v":"South"},{"$f":"IF(INDEX(campsByItinerary,numericItinerary($A14),BJ$3-1)=\"\",\"\",VLOOKUP(INDEX(campsByItinerary,numericItinerary($A14),BJ$3-1),campInfo,12))","v":"South"},{"$f":"IF(INDEX(campsByItinerary,numericItinerary($A14),BK$3-1)=\"\",\"\",VLOOKUP(INDEX(campsByItinerary,numericItinerary($A14),BK$3-1),campInfo,12))","v":""},{"$f":"IF(INDEX(campsByItinerary,numericItinerary($A14),BL$3-1)=\"\",\"\",VLOOKUP(INDEX(campsByItinerary,numericItinerary($A14),BL$3-1),campInfo,12))","v":""},{"$f":"IF(INDEX(campsByItinerary,numericItinerary($A14),BM$3-1)=\"\",\"\",VLOOKUP(INDEX(campsByItinerary,numericItinerary($A14),BM$3-1),campInfo,12))","v":""},{"$f":"getfoodPU(\"First\",numericItinerary($A14))","v":3},{"$f":"getfoodPU(\"Max\",numericItinerary($A14))","v":3}]
["9-12",null,"S",52,"Line","Crags","Apache Springs","Beaubien","Crooked Creek","Mount Phillips","American Creek",null,null,null,"Camping HQ",null,"Apache Springs",null,"Phillips Junction",null,null,null,null,null,"Zastrow","Tolby Creek","",{"$f":"IF(AC15=\"\",\"\",numericItinerary(A15) & \":\" & AC15)","v":""},null,null,null,null,"y","",null,"y",8125,8058,9409,9330,9360,11650,9815,"","","",67,1351,79,30,2290,1835,"","","",{"$f":"IF(INDEX(campsByItinerary,numericItinerary($A15),BD$3-1)=\"\",\"\",VLOOKUP(INDEX(campsByItinerary,numericItinerary($A15),BD$3-1),campInfo,8))","v":""},{"$f":"IF(INDEX(campsByItinerary,numericItinerary($A15),BE$3-1)=\"\",\"\",VLOOKUP(INDEX(campsByItinerary,numericItinerary($A15),BE$3-1),campInfo,8))","v":""},{"$f":"IF(INDEX(campsByItinerary,numericItinerary($A15),BF$3-1)=\"\",\"\",VLOOKUP(INDEX(campsByItinerary,numericItinerary($A15),BF$3-1),campInfo,8))","v":"Y"},{"$f":"IF(INDEX(campsByItinerary,numericItinerary($A15),BG$3-1)=\"\",\"\",VLOOKUP(INDEX(campsByItinerary,numericItinerary($A15),BG$3-1),campInfo,8))","v":"Y"},{"$f":"IF(INDEX(campsByItinerary,numericItinerary($A15),BH$3-1)=\"\",\"\",VLOOKUP(INDEX(campsByItinerary,numericItinerary($A15),BH$3-1),campInfo,8))","v":"Y"},{"$f":"IF(INDEX(campsByItinerary,numericItinerary($A15),BI$3-1)=\"\",\"\",VLOOKUP(INDEX(campsByItinerary,numericItinerary($A15),BI$3-1),campInfo,8))","v":""},{"$f":"IF(INDEX(campsByItinerary,numericItinerary($A15),BJ$3-1)=\"\",\"\",VLOOKUP(INDEX(campsByItinerary,numericItinerary($A15),BJ$3-1),campInfo,8))","v":""},{"$f":"IF(INDEX(campsByItinerary,numericItinerary($A15),BK$3-1)=\"\",\"\",VLOOKUP(INDEX(campsByItinerary,numericItinerary($A15),BK$3-1),campInfo,8))","v":""},{"$f":"IF(INDEX(campsByItinerary,numericItinerary($A15),BL$3-1)=\"\",\"\",VLOOKUP(INDEX(campsByItinerary,numericItinerary($A15),BL$3-1),campInfo,8))","v":""},{"$f":"IF(INDEX(campsByItinerary,numericItinerary($A15),BM$3-1)=\"\",\"\",VLOOKUP(INDEX(campsByItinerary,numericItinerary($A15),BM$3-1),campInfo,8))","v":""},"Y","Y","","","","Y","Y","Y","Y","Y",{"$f":"IF(INDEX(campsByItinerary,numericItinerary($A15),BD$3-1)=\"\",\"\",VLOOKUP(INDEX(campsByItinerary,numericItinerary($A15),BD$3-1),campInfo,10))","v":""},{"$f":"IF(INDEX(campsByItinerary,numericItinerary($A15),BE$3-1)=\"\",\"\",VLOOKUP(INDEX(campsByItinerary,numericItinerary($A15),BE$3-1),campInfo,10))","v":""},{"$f":"IF(INDEX(campsByItinerary,numericItinerary($A15),BF$3-1)=\"\",\"\",VLOOKUP(INDEX(campsByItinerary,numericItinerary($A15),BF$3-1),campInfo,10))","v":""},{"$f":"IF(INDEX(campsByItinerary,numericItinerary($A15),BG$3-1)=\"\",\"\",VLOOKUP(INDEX(campsByItinerary,numericItinerary($A15),BG$3-1),campInfo,10))","v":""},{"$f":"IF(INDEX(campsByItinerary,numericItinerary($A15),BH$3-1)=\"\",\"\",VLOOKUP(INDEX(campsByItinerary,numericItinerary($A15),BH$3-1),campInfo,10))","v":""},{"$f":"IF(INDEX(campsByItinerary,numericItinerary($A15),BI$3-1)=\"\",\"\",VLOOKUP(INDEX(campsByItinerary,numericItinerary($A15),BI$3-1),campInfo,10))","v":"Y"},{"$f":"IF(INDEX(campsByItinerary,numericItinerary($A15),BJ$3-1)=\"\",\"\",VLOOKUP(INDEX(campsByItinerary,numericItinerary($A15),BJ$3-1),campInfo,10))","v":""},{"$f":"IF(INDEX(campsByItinerary,numericItinerary($A15),BK$3-1)=\"\",\"\",VLOOKUP(INDEX(campsByItinerary,numericItinerary($A15),BK$3-1),campInfo,10))","v":""},{"$f":"IF(INDEX(campsByItinerary,numericItinerary($A15),BL$3-1)=\"\",\"\",VLOOKUP(INDEX(campsByItinerary,numericItinerary($A15),BL$3-1),campInfo,10))","v":""},{"$f":"IF(INDEX(campsByItinerary,numericItinerary($A15),BM$3-1)=\"\",\"\",VLOOKUP(INDEX(campsByItinerary,numericItinerary($A15),BM$3-1),campInfo,10))","v":""},null,"","","","","","","","Y","Y",{"$f":"INDEX(campsByItinerary,numericItinerary($A15),BD$3-1)","v":"Line"},{"$f":"IF(INDEX(campsByItinerary,numericItinerary($A15),BE$3-1)=\"\",\"\",VLOOKUP(INDEX(campsByItinerary,numericItinerary($A15),BE$3-1),campInfo,2))","v":"South"},{"$f":"IF(INDEX(campsByItinerary,numericItinerary($A15),BF$3-1)=\"\",\"\",VLOOKUP(INDEX(campsByItinerary,numericItinerary($A15),BF$3-1),campInfo,2))","v":"South"},{"$f":"IF(INDEX(campsByItinerary,numericItinerary($A15),BG$3-1)=\"\",\"\",VLOOKUP(INDEX(campsByItinerary,numericItinerary($A15),BG$3-1),campInfo,2))","v":"South"},{"$f":"IF(INDEX(campsByItinerary,numericItinerary($A15),BH$3-1)=\"\",\"\",VLOOKUP(INDEX(campsByItinerary,numericItinerary($A15),BH$3-1),campInfo,2))","v":"South"},{"$f":"IF(INDEX(campsByItinerary,numericItinerary($A15),BI$3-1)=\"\",\"\",VLOOKUP(INDEX(campsByItinerary,numericItinerary($A15),BI$3-1),campInfo,2))","v":"Central"},{"$f":"IF(INDEX(campsByItinerary,numericItinerary($A15),BJ$3-1)=\"\",\"\",VLOOKUP(INDEX(campsByItinerary,numericItinerary($A15),BJ$3-1),campInfo,2))","v":"South"},{"$f":"IF(INDEX(campsByItinerary,numericItinerary($A15),BK$3-1)=\"\",\"\",VLOOKUP(INDEX(campsByItinerary,numericItinerary($A15),BK$3-1),campInfo,2))","v":""},{"$f":"IF(INDEX(campsByItinerary,numericItinerary($A15),BL$3-1)=\"\",\"\",VLOOKUP(INDEX(campsByItinerary,numericItinerary($A15),BL$3-1),campInfo,2))","v":""},{"$f":"IF(INDEX(campsByItinerary,numericItinerary($A15),BM$3-1)=\"\",\"\",VLOOKUP(INDEX(campsByItinerary,numericItinerary($A15),BM$3-1),campInfo,2))","v":""},{"$f":"IF(INDEX(campsByItinerary,numericItinerary($A15),BD$3-1)=\"\",\"\",VLOOKUP(INDEX(campsByItinerary,numericItinerary($A15),BD$3-1),campInfo,12))","v":"South"},{"$f":"IF(INDEX(campsByItinerary,numericItinerary($A15),BE$3-1)=\"\",\"\",VLOOKUP(INDEX(campsByItinerary,numericItinerary($A15),BE$3-1),campInfo,12))","v":"South"},{"$f":"IF(INDEX(campsByItinerary,numericItinerary($A15),BF$3-1)=\"\",\"\",VLOOKUP(INDEX(campsByItinerary,numericItinerary($A15),BF$3-1),campInfo,12))","v":"South"},{"$f":"IF(INDEX(campsByItinerary,numericItinerary($A15),BG$3-1)=\"\",\"\",VLOOKUP(INDEX(campsByItinerary,numericItinerary($A15),BG$3-1),campInfo,12))","v":"South"},{"$f":"IF(INDEX(campsByItinerary,numericItinerary($A15),BH$3-1)=\"\",\"\",VLOOKUP(INDEX(campsByItinerary,numericItinerary($A15),BH$3-1),campInfo,12))","v":"South"},{"$f":"IF(INDEX(campsByItinerary,numericItinerary($A15),BI$3-1)=\"\",\"\",VLOOKUP(INDEX(campsByItinerary,numericItinerary($A15),BI$3-1),campInfo,12))","v":"South"},{"$f":"IF(INDEX(campsByItinerary,numericItinerary($A15),BJ$3-1)=\"\",\"\",VLOOKUP(INDEX(campsByItinerary,numericItinerary($A15),BJ$3-1),campInfo,12))","v":"South"},{"$f":"IF(INDEX(campsByItinerary,numericItinerary($A15),BK$3-1)=\"\",\"\",VLOOKUP(INDEX(campsByItinerary,numericItinerary($A15),BK$3-1),campInfo,12))","v":""},{"$f":"IF(INDEX(campsByItinerary,numericItinerary($A15),BL$3-1)=\"\",\"\",VLOOKUP(INDEX(campsByItinerary,numericItinerary($A15),BL$3-1),campInfo,12))","v":""},{"$f":"IF(INDEX(campsByItinerary,numericItinerary($A15),BM$3-1)=\"\",\"\",VLOOKUP(INDEX(campsByItinerary,numericItinerary($A15),BM$3-1),campInfo,12))","v":""},{"$f":"getfoodPU(\"First\",numericItinerary($A15))","v":2},{"$f":"getfoodPU(\"Max\",numericItinerary($A15))","v":2}]
["9-13",null,"SS",50,"Harlan","Devil's Wash Basin","Sawmill","Mount Phillips","Porcupine","Beaubien","Shaefers Pass",null,null,null,"Camping HQ",null,"Sawmill",null,null,"Phillips Junction",null,null,null,null,"Turkey Creek","Hike In","y",{"$f":"IF(AC16=\"\",\"\",numericItinerary(A16) & \":\" & AC16)","v":""},null,null,null,null,"y","y",null,"y",7550,8515,9193,11650,9152,9330,8724,"","","",965,678,2457,2498,178,606,"","","",{"$f":"IF(INDEX(campsByItinerary,numericItinerary($A16),BD$3-1)=\"\",\"\",VLOOKUP(INDEX(campsByItinerary,numericItinerary($A16),BD$3-1),campInfo,8))","v":"Y"},{"$f":"IF(INDEX(campsByItinerary,numericItinerary($A16),BE$3-1)=\"\",\"\",VLOOKUP(INDEX(campsByItinerary,numericItinerary($A16),BE$3-1),campInfo,8))","v":""},{"$f":"IF(INDEX(campsByItinerary,numericItinerary($A16),BF$3-1)=\"\",\"\",VLOOKUP(INDEX(campsByItinerary,numericItinerary($A16),BF$3-1),campInfo,8))","v":"Y"},{"$f":"IF(INDEX(campsByItinerary,numericItinerary($A16),BG$3-1)=\"\",\"\",VLOOKUP(INDEX(campsByItinerary,numericItinerary($A16),BG$3-1),campInfo,8))","v":""},{"$f":"IF(INDEX(campsByItinerary,numericItinerary($A16),BH$3-1)=\"\",\"\",VLOOKUP(INDEX(campsByItinerary,numericItinerary($A16),BH$3-1),campInfo,8))","v":""},{"$f":"IF(INDEX(campsByItinerary,numericItinerary($A16),BI$3-1)=\"\",\"\",VLOOKUP(INDEX(campsByItinerary,numericItinerary($A16),BI$3-1),campInfo,8))","v":"Y"},{"$f":"IF(INDEX(campsByItinerary,numericItinerary($A16),BJ$3-1)=\"\",\"\",VLOOKUP(INDEX(campsByItinerary,numericItinerary($A16),BJ$3-1),campInfo,8))","v":""},{"$f":"IF(INDEX(campsByItinerary,numericItinerary($A16),BK$3-1)=\"\",\"\",VLOOKUP(INDEX(campsByItinerary,numericItinerary($A16),BK$3-1),campInfo,8))","v":""},{"$f":"IF(INDEX(campsByItinerary,numericItinerary($A16),BL$3-1)=\"\",\"\",VLOOKUP(INDEX(campsByItinerary,numericItinerary($A16),BL$3-1),campInfo,8))","v":""},{"$f":"IF(INDEX(campsByItinerary,numericItinerary($A16),BM$3-1)=\"\",\"\",VLOOKUP(INDEX(campsByItinerary,numericItinerary($A16),BM$3-1),campInfo,8))","v":""},"","Y","","Y","Y","","Y","Y","Y","Y",{"$f":"IF(INDEX(campsByItinerary,numericItinerary($A16),BD$3-1)=\"\",\"\",VLOOKUP(INDEX(campsByItinerary,numericItinerary($A16),BD$3-1),campInfo,10))","v":""},{"$f":"IF(INDEX(campsByItinerary,numericItinerary($A16),BE$3-1)=\"\",\"\",VLOOKUP(INDEX(campsByItinerary,numericItinerary($A16),BE$3-1),campInfo,10))","v":"Y"},{"$f":"IF(INDEX(campsByItinerary,numericItinerary($A16),BF$3-1)=\"\",\"\",VLOOKUP(INDEX(campsByItinerary,numericItinerary($A16),BF$3-1),campInfo,10))","v":""},{"$f":"IF(INDEX(campsByItinerary,numericItinerary($A16),BG$3-1)=\"\",\"\",VLOOKUP(INDEX(campsByItinerary,numericItinerary($A16),BG$3-1),campInfo,10))","v":"Y"},{"$f":"IF(INDEX(campsByItinerary,numericItinerary($A16),BH$3-1)=\"\",\"\",VLOOKUP(INDEX(campsByItinerary,numericItinerary($A16),BH$3-1),campInfo,10))","v":""},{"$f":"IF(INDEX(campsByItinerary,numericItinerary($A16),BI$3-1)=\"\",\"\",VLOOKUP(INDEX(campsByItinerary,numericItinerary($A16),BI$3-1),campInfo,10))","v":""},{"$f":"IF(INDEX(campsByItinerary,numericItinerary($A16),BJ$3-1)=\"\",\"\",VLOOKUP(INDEX(campsByItinerary,numericItinerary($A16),BJ$3-1),campInfo,10))","v":"Y"},{"$f":"IF(INDEX(campsByItinerary,numericItinerary($A16),BK$3-1)=\"\",\"\",VLOOKUP(INDEX(campsByItinerary,numericItinerary($A16),BK$3-1),campInfo,10))","v":""},{"$f":"IF(INDEX(campsByItinerary,numericItinerary($A16),BL$3-1)=\"\",\"\",VLOOKUP(INDEX(campsByItinerary,numericItinerary($A16),BL$3-1),campInfo,10))","v":""},{"$f":"IF(INDEX(campsByItinerary,numericItinerary($A16),BM$3-1)=\"\",\"\",VLOOKUP(INDEX(campsByItinerary,numericItinerary($A16),BM$3-1),campInfo,10))","v":""},null,"","","","","","","","Y","Y",{"$f":"INDEX(campsByItinerary,numericItinerary($A16),BD$3-1)","v":"Harlan"},{"$f":"IF(INDEX(campsByItinerary,numericItinerary($A16),BE$3-1)=\"\",\"\",VLOOKUP(INDEX(campsByItinerary,numericItinerary($A16),BE$3-1),campInfo,2))","v":"Central"},{"$f":"IF(INDEX(campsByItinerary,numericItinerary($A16),BF$3-1)=\"\",\"\",VLOOKUP(INDEX(campsByItinerary,numericItinerary($A16),BF$3-1),campInfo,2))","v":"Central"},{"$f":"IF(INDEX(campsByItinerary,numericItinerary($A16),BG$3-1)=\"\",\"\",VLOOKUP(INDEX(campsByItinerary,numericItinerary($A16),BG$3-1),campInfo,2))","v":"Central"},{"$f":"IF(INDEX(campsByItinerary,numericItinerary($A16),BH$3-1)=\"\",\"\",VLOOKUP(INDEX(campsByItinerary,numericItinerary($A16),BH$3-1),campInfo,2))","v":"South"},{"$f":"IF(INDEX(campsByItinerary,numericItinerary($A16),BI$3-1)=\"\",\"\",VLOOKUP(INDEX(campsByItinerary,numericItinerary($A16),BI$3-1),campInfo,2))","v":"South"},{"$f":"IF(INDEX(campsByItinerary,numericItinerary($A16),BJ$3-1)=\"\",\"\",VLOOKUP(INDEX(campsByItinerary,numericItinerary($A16),BJ$3-1),campInfo,2))","v":"Central"},{"$f":"IF(INDEX(campsByItinerary,numericItinerary($A16),BK$3-1)=\"\",\"\",VLOOKUP(INDEX(campsByItinerary,numericItinerary($A16),BK$3-1),campInfo,2))","v":""},{"$f":"IF(INDEX(campsByItinerary,numericItinerary($A16),BL$3-1)=\"\",\"\",VLOOKUP(INDEX(campsByItinerary,numericItinerary($A16),BL$3-1),campInfo,2))","v":""},{"$f":"IF(INDEX(campsByItinerary,numericItinerary($A16),BM$3-1)=\"\",\"\",VLOOKUP(INDEX(campsByItinerary,numericItinerary($A16),BM$3-1),campInfo,2))","v":""},{"$f":"IF(INDEX(campsByItinerary,numericItinerary($A16),BD$3-1)=\"\",\"\",VLOOKUP(INDEX(campsByItinerary,numericItinerary($A16),BD$3-1),campInfo,12))","v":"South"},{"$f":"IF(INDEX(campsByItinerary,numericItinerary($A16),BE$3-1)=\"\",\"\",VLOOKUP(INDEX(campsByItinerary,numericItinerary($A16),BE$3-1),campInfo,12))","v":"South"},{"$f":"IF(INDEX(campsByItinerary,numericItinerary($A16),BF$3-1)=\"\",\"\",VLOOKUP(INDEX(campsByItinerary,numericItinerary($A16),BF$3-1),campInfo,12))","v":"South"},{"$f":"IF(INDEX(campsByItinerary,numericItinerary($A16),BG$3-1)=\"\",\"\",VLOOKUP(INDEX(campsByItinerary,numericItinerary($A16),BG$3-1),campInfo,12))","v":"South"},{"$f":"IF(INDEX(campsByItinerary,numericItinerary($A16),BH$3-1)=\"\",\"\",VLOOKUP(INDEX(campsByItinerary,numericItinerary($A16),BH$3-1),campInfo,12))","v":"South"},{"$f":"IF(INDEX(campsByItinerary,numericItinerary($A16),BI$3-1)=\"\",\"\",VLOOKUP(INDEX(campsByItinerary,numericItinerary($A16),BI$3-1),campInfo,12))","v":"South"},{"$f":"IF(INDEX(campsByItinerary,numericItinerary($A16),BJ$3-1)=\"\",\"\",VLOOKUP(INDEX(campsByItinerary,numericItinerary($A16),BJ$3-1),campInfo,12))","v":"South"},{"$f":"IF(INDEX(campsByItinerary,numericItinerary($A16),BK$3-1)=\"\",\"\",VLOOKUP(INDEX(campsByItinerary,numericItinerary($A16),BK$3-1),campInfo,12))","v":""},{"$f":"IF(INDEX(campsByItinerary,numericItinerary($A16),BL$3-1)=\"\",\"\",VLOOKUP(INDEX(campsByItinerary,numericItinerary($A16),BL$3-1),campInfo,12))","v":""},{"$f":"IF(INDEX(campsByItinerary,numericItinerary($A16),BM$3-1)=\"\",\"\",VLOOKUP(INDEX(campsByItinerary,numericItinerary($A16),BM$3-1),campInfo,12))","v":""},{"$f":"getfoodPU(\"First\",numericItinerary($A16))","v":2},{"$f":"getfoodPU(\"Max\",numericItinerary($A16))","v":2}]
["9-14",null,"SS",56,"Flume Canyon","Pueblano","Ewells Park","Ewells Park","Head of Dean","Minnette Meadows","Harlan",null,null,null,"Camping HQ",null,null,"Baldy Town",null,"Cimarroncita",null,null,null,null,"Ponil","Turkey Creek","",{"$f":"IF(AC17=\"\",\"\",numericItinerary(A17) & \":\" & AC17)","v":""},null,null,null,"y",null,"",null,null,7715,8069,9373,9373,8754,7703,7550,"","","",354,1304,0,619,1051,153,"","","",{"$f":"IF(INDEX(campsByItinerary,numericItinerary($A17),BD$3-1)=\"\",\"\",VLOOKUP(INDEX(campsByItinerary,numericItinerary($A17),BD$3-1),campInfo,8))","v":""},{"$f":"IF(INDEX(campsByItinerary,numericItinerary($A17),BE$3-1)=\"\",\"\",VLOOKUP(INDEX(campsByItinerary,numericItinerary($A17),BE$3-1),campInfo,8))","v":"Y"},{"$f":"IF(INDEX(campsByItinerary,numericItinerary($A17),BF$3-1)=\"\",\"\",VLOOKUP(INDEX(campsByItinerary,numericItinerary($A17),BF$3-1),campInfo,8))","v":""},{"$f":"IF(INDEX(campsByItinerary,numericItinerary($A17),BG$3-1)=\"\",\"\",VLOOKUP(INDEX(campsByItinerary,numericItinerary($A17),BG$3-1),campInfo,8))","v":""},{"$f":"IF(INDEX(campsByItinerary,numericItinerary($A17),BH$3-1)=\"\",\"\",VLOOKUP(INDEX(campsByItinerary,numericItinerary($A17),BH$3-1),campInfo,8))","v":"Y"},{"$f":"IF(INDEX(campsByItinerary,numericItinerary($A17),BI$3-1)=\"\",\"\",VLOOKUP(INDEX(campsByItinerary,numericItinerary($A17),BI$3-1),campInfo,8))","v":""},{"$f":"IF(INDEX(campsByItinerary,numericItinerary($A17),BJ$3-1)=\"\",\"\",VLOOKUP(INDEX(campsByItinerary,numericItinerary($A17),BJ$3-1),campInfo,8))","v":"Y"},{"$f":"IF(INDEX(campsByItinerary,numericItinerary($A17),BK$3-1)=\"\",\"\",VLOOKUP(INDEX(campsByItinerary,numericItinerary($A17),BK$3-1),campInfo,8))","v":""},{"$f":"IF(INDEX(campsByItinerary,numericItinerary($A17),BL$3-1)=\"\",\"\",VLOOKUP(INDEX(campsByItinerary,numericItinerary($A17),BL$3-1),campInfo,8))","v":""},{"$f":"IF(INDEX(campsByItinerary,numericItinerary($A17),BM$3-1)=\"\",\"\",VLOOKUP(INDEX(campsByItinerary,numericItinerary($A17),BM$3-1),campInfo,8))","v":""},"Y","","Y","Y","","Y","","Y","Y","Y",{"$f":"IF(INDEX(campsByItinerary,numericItinerary($A17),BD$3-1)=\"\",\"\",VLOOKUP(INDEX(campsByItinerary,numericItinerary($A17),BD$3-1),campInfo,10))","v":""},{"$f":"IF(INDEX(campsByItinerary,numericItinerary($A17),BE$3-1)=\"\",\"\",VLOOKUP(INDEX(campsByItinerary,numericItinerary($A17),BE$3-1),campInfo,10))","v":""},{"$f":"IF(INDEX(campsByItinerary,numericItinerary($A17),BF$3-1)=\"\",\"\",VLOOKUP(INDEX(campsByItinerary,numericItinerary($A17),BF$3-1),campInfo,10))","v":""},{"$f":"IF(INDEX(campsByItinerary,numericItinerary($A17),BG$3-1)=\"\",\"\",VLOOKUP(INDEX(campsByItinerary,numericItinerary($A17),BG$3-1),campInfo,10))","v":""},{"$f":"IF(INDEX(campsByItinerary,numericItinerary($A17),BH$3-1)=\"\",\"\",VLOOKUP(INDEX(campsByItinerary,numericItinerary($A17),BH$3-1),campInfo,10))","v":""},{"$f":"IF(INDEX(campsByItinerary,numericItinerary($A17),BI$3-1)=\"\",\"\",VLOOKUP(INDEX(campsByItinerary,numericItinerary($A17),BI$3-1),campInfo,10))","v":"Y"},{"$f":"IF(INDEX(campsByItinerary,numericItinerary($A17),BJ$3-1)=\"\",\"\",VLOOKUP(INDEX(campsByItinerary,numericItinerary($A17),BJ$3-1),campInfo,10))","v":""},{"$f":"IF(INDEX(campsByItinerary,numericItinerary($A17),BK$3-1)=\"\",\"\",VLOOKUP(INDEX(campsByItinerary,numericItinerary($A17),BK$3-1),campInfo,10))","v":""},{"$f":"IF(INDEX(campsByItinerary,numericItinerary($A17),BL$3-1)=\"\",\"\",VLOOKUP(INDEX(campsByItinerary,numericItinerary($A17),BL$3-1),campInfo,10))","v":""},{"$f":"IF(INDEX(campsByItinerary,numericItinerary($A17),BM$3-1)=\"\",\"\",VLOOKUP(INDEX(campsByItinerary,numericItinerary($A17),BM$3-1),campInfo,10))","v":""},null,"","","Y","","","","","Y","Y",{"$f":"INDEX(campsByItinerary,numericItinerary($A17),BD$3-1)","v":"Flume Canyon"},{"$f":"IF(INDEX(campsByItinerary,numericItinerary($A17),BE$3-1)=\"\",\"\",VLOOKUP(INDEX(campsByItinerary,numericItinerary($A17),BE$3-1),campInfo,2))","v":"North"},{"$f":"IF(INDEX(campsByItinerary,numericItinerary($A17),BF$3-1)=\"\",\"\",VLOOKUP(INDEX(campsByItinerary,numericItinerary($A17),BF$3-1),campInfo,2))","v":"North"},{"$f":"IF(INDEX(campsByItinerary,numericItinerary($A17),BG$3-1)=\"\",\"\",VLOOKUP(INDEX(campsByItinerary,numericItinerary($A17),BG$3-1),campInfo,2))","v":"North"},{"$f":"IF(INDEX(campsByItinerary,numericItinerary($A17),BH$3-1)=\"\",\"\",VLOOKUP(INDEX(campsByItinerary,numericItinerary($A17),BH$3-1),campInfo,2))","v":"North"},{"$f":"IF(INDEX(campsByItinerary,numericItinerary($A17),BI$3-1)=\"\",\"\",VLOOKUP(INDEX(campsByItinerary,numericItinerary($A17),BI$3-1),campInfo,2))","v":"Central"},{"$f":"IF(INDEX(campsByItinerary,numericItinerary($A17),BJ$3-1)=\"\",\"\",VLOOKUP(INDEX(campsByItinerary,numericItinerary($A17),BJ$3-1),campInfo,2))","v":"Central"},{"$f":"IF(INDEX(campsByItinerary,numericItinerary($A17),BK$3-1)=\"\",\"\",VLOOKUP(INDEX(campsByItinerary,numericItinerary($A17),BK$3-1),campInfo,2))","v":""},{"$f":"IF(INDEX(campsByItinerary,numericItinerary($A17),BL$3-1)=\"\",\"\",VLOOKUP(INDEX(campsByItinerary,numericItinerary($A17),BL$3-1),campInfo,2))","v":""},{"$f":"IF(INDEX(campsByItinerary,numericItinerary($A17),BM$3-1)=\"\",\"\",VLOOKUP(INDEX(campsByItinerary,numericItinerary($A17),BM$3-1),campInfo,2))","v":""},{"$f":"IF(INDEX(campsByItinerary,numericItinerary($A17),BD$3-1)=\"\",\"\",VLOOKUP(INDEX(campsByItinerary,numericItinerary($A17),BD$3-1),campInfo,12))","v":"North"},{"$f":"IF(INDEX(campsByItinerary,numericItinerary($A17),BE$3-1)=\"\",\"\",VLOOKUP(INDEX(campsByItinerary,numericItinerary($A17),BE$3-1),campInfo,12))","v":"North"},{"$f":"IF(INDEX(campsByItinerary,numericItinerary($A17),BF$3-1)=\"\",\"\",VLOOKUP(INDEX(campsByItinerary,numericItinerary($A17),BF$3-1),campInfo,12))","v":"North"},{"$f":"IF(INDEX(campsByItinerary,numericItinerary($A17),BG$3-1)=\"\",\"\",VLOOKUP(INDEX(campsByItinerary,numericItinerary($A17),BG$3-1),campInfo,12))","v":"North"},{"$f":"IF(INDEX(campsByItinerary,numericItinerary($A17),BH$3-1)=\"\",\"\",VLOOKUP(INDEX(campsByItinerary,numericItinerary($A17),BH$3-1),campInfo,12))","v":"North"},{"$f":"IF(INDEX(campsByItinerary,numericItinerary($A17),BI$3-1)=\"\",\"\",VLOOKUP(INDEX(campsByItinerary,numericItinerary($A17),BI$3-1),campInfo,12))","v":"South"},{"$f":"IF(INDEX(campsByItinerary,numericItinerary($A17),BJ$3-1)=\"\",\"\",VLOOKUP(INDEX(campsByItinerary,numericItinerary($A17),BJ$3-1),campInfo,12))","v":"South"},{"$f":"IF(INDEX(campsByItinerary,numericItinerary($A17),BK$3-1)=\"\",\"\",VLOOKUP(INDEX(campsByItinerary,numericItinerary($A17),BK$3-1),campInfo,12))","v":""},{"$f":"IF(INDEX(campsByItinerary,numericItinerary($A17),BL$3-1)=\"\",\"\",VLOOKUP(INDEX(campsByItinerary,numericItinerary($A17),BL$3-1),campInfo,12))","v":""},{"$f":"IF(INDEX(campsByItinerary,numericItinerary($A17),BM$3-1)=\"\",\"\",VLOOKUP(INDEX(campsByItinerary,numericItinerary($A17),BM$3-1),campInfo,12))","v":""},{"$f":"getfoodPU(\"First\",numericItinerary($A17))","v":3},{"$f":"getfoodPU(\"Max\",numericItinerary($A17))","v":3}]
["9-15",null,"SS",70,"Bluestem","Pueblano","Copper Park","Head of Dean","Cimarroncita","Whistle Punk","Clarks Fork",null,null,null,"Camping HQ",null,null,null,"Cimarroncita",null,null,null,null,null,"Ponil","Hike In","y",{"$f":"IF(AC18=\"\",\"\",numericItinerary(A18) & \":\" & AC18)","v":""},null,null,null,"y",null,"y",null,"y",7495,8069,10530,8754,7373,10052,7515,"","","",574,2461,1776,1381,2679,2537,"","","",{"$f":"IF(INDEX(campsByItinerary,numericItinerary($A18),BD$3-1)=\"\",\"\",VLOOKUP(INDEX(campsByItinerary,numericItinerary($A18),BD$3-1),campInfo,8))","v":""},{"$f":"IF(INDEX(campsByItinerary,numericItinerary($A18),BE$3-1)=\"\",\"\",VLOOKUP(INDEX(campsByItinerary,numericItinerary($A18),BE$3-1),campInfo,8))","v":"Y"},{"$f":"IF(INDEX(campsByItinerary,numericItinerary($A18),BF$3-1)=\"\",\"\",VLOOKUP(INDEX(campsByItinerary,numericItinerary($A18),BF$3-1),campInfo,8))","v":""},{"$f":"IF(INDEX(campsByItinerary,numericItinerary($A18),BG$3-1)=\"\",\"\",VLOOKUP(INDEX(campsByItinerary,numericItinerary($A18),BG$3-1),campInfo,8))","v":"Y"},{"$f":"IF(INDEX(campsByItinerary,numericItinerary($A18),BH$3-1)=\"\",\"\",VLOOKUP(INDEX(campsByItinerary,numericItinerary($A18),BH$3-1),campInfo,8))","v":"Y"},{"$f":"IF(INDEX(campsByItinerary,numericItinerary($A18),BI$3-1)=\"\",\"\",VLOOKUP(INDEX(campsByItinerary,numericItinerary($A18),BI$3-1),campInfo,8))","v":""},{"$f":"IF(INDEX(campsByItinerary,numericItinerary($A18),BJ$3-1)=\"\",\"\",VLOOKUP(INDEX(campsByItinerary,numericItinerary($A18),BJ$3-1),campInfo,8))","v":"Y"},{"$f":"IF(INDEX(campsByItinerary,numericItinerary($A18),BK$3-1)=\"\",\"\",VLOOKUP(INDEX(campsByItinerary,numericItinerary($A18),BK$3-1),campInfo,8))","v":""},{"$f":"IF(INDEX(campsByItinerary,numericItinerary($A18),BL$3-1)=\"\",\"\",VLOOKUP(INDEX(campsByItinerary,numericItinerary($A18),BL$3-1),campInfo,8))","v":""},{"$f":"IF(INDEX(campsByItinerary,numericItinerary($A18),BM$3-1)=\"\",\"\",VLOOKUP(INDEX(campsByItinerary,numericItinerary($A18),BM$3-1),campInfo,8))","v":""},"Y","","Y","","","Y","","Y","Y","Y",{"$f":"IF(INDEX(campsByItinerary,numericItinerary($A18),BD$3-1)=\"\",\"\",VLOOKUP(INDEX(campsByItinerary,numericItinerary($A18),BD$3-1),campInfo,10))","v":"Y"},{"$f":"IF(INDEX(campsByItinerary,numericItinerary($A18),BE$3-1)=\"\",\"\",VLOOKUP(INDEX(campsByItinerary,numericItinerary($A18),BE$3-1),campInfo,10))","v":""},{"$f":"IF(INDEX(campsByItinerary,numericItinerary($A18),BF$3-1)=\"\",\"\",VLOOKUP(INDEX(campsByItinerary,numericItinerary($A18),BF$3-1),campInfo,10))","v":""},{"$f":"IF(INDEX(campsByItinerary,numericItinerary($A18),BG$3-1)=\"\",\"\",VLOOKUP(INDEX(campsByItinerary,numericItinerary($A18),BG$3-1),campInfo,10))","v":""},{"$f":"IF(INDEX(campsByItinerary,numericItinerary($A18),BH$3-1)=\"\",\"\",VLOOKUP(INDEX(campsByItinerary,numericItinerary($A18),BH$3-1),campInfo,10))","v":""},{"$f":"IF(INDEX(campsByItinerary,numericItinerary($A18),BI$3-1)=\"\",\"\",VLOOKUP(INDEX(campsByItinerary,numericItinerary($A18),BI$3-1),campInfo,10))","v":""},{"$f":"IF(INDEX(campsByItinerary,numericItinerary($A18),BJ$3-1)=\"\",\"\",VLOOKUP(INDEX(campsByItinerary,numericItinerary($A18),BJ$3-1),campInfo,10))","v":""},{"$f":"IF(INDEX(campsByItinerary,numericItinerary($A18),BK$3-1)=\"\",\"\",VLOOKUP(INDEX(campsByItinerary,numericItinerary($A18),BK$3-1),campInfo,10))","v":""},{"$f":"IF(INDEX(campsByItinerary,numericItinerary($A18),BL$3-1)=\"\",\"\",VLOOKUP(INDEX(campsByItinerary,numericItinerary($A18),BL$3-1),campInfo,10))","v":""},{"$f":"IF(INDEX(campsByItinerary,numericItinerary($A18),BM$3-1)=\"\",\"\",VLOOKUP(INDEX(campsByItinerary,numericItinerary($A18),BM$3-1),campInfo,10))","v":""},null,"","","","","","","","Y","Y",{"$f":"INDEX(campsByItinerary,numericItinerary($A18),BD$3-1)","v":"Bluestem"},{"$f":"IF(INDEX(campsByItinerary,numericItinerary($A18),BE$3-1)=\"\",\"\",VLOOKUP(INDEX(campsByItinerary,numericItinerary($A18),BE$3-1),campInfo,2))","v":"North"},{"$f":"IF(INDEX(campsByItinerary,numericItinerary($A18),BF$3-1)=\"\",\"\",VLOOKUP(INDEX(campsByItinerary,numericItinerary($A18),BF$3-1),campInfo,2))","v":"North"},{"$f":"IF(INDEX(campsByItinerary,numericItinerary($A18),BG$3-1)=\"\",\"\",VLOOKUP(INDEX(campsByItinerary,numericItinerary($A18),BG$3-1),campInfo,2))","v":"North"},{"$f":"IF(INDEX(campsByItinerary,numericItinerary($A18),BH$3-1)=\"\",\"\",VLOOKUP(INDEX(campsByItinerary,numericItinerary($A18),BH$3-1),campInfo,2))","v":"Central"},{"$f":"IF(INDEX(campsByItinerary,numericItinerary($A18),BI$3-1)=\"\",\"\",VLOOKUP(INDEX(campsByItinerary,numericItinerary($A18),BI$3-1),campInfo,2))","v":"Central"},{"$f":"IF(INDEX(campsByItinerary,numericItinerary($A18),BJ$3-1)=\"\",\"\",VLOOKUP(INDEX(campsByItinerary,numericItinerary($A18),BJ$3-1),campInfo,2))","v":"Central"},{"$f":"IF(INDEX(campsByItinerary,numericItinerary($A18),BK$3-1)=\"\",\"\",VLOOKUP(INDEX(campsByItinerary,numericItinerary($A18),BK$3-1),campInfo,2))","v":""},{"$f":"IF(INDEX(campsByItinerary,numericItinerary($A18),BL$3-1)=\"\",\"\",VLOOKUP(INDEX(campsByItinerary,numericItinerary($A18),BL$3-1),campInfo,2))","v":""},{"$f":"IF(INDEX(campsByItinerary,numericItinerary($A18),BM$3-1)=\"\",\"\",VLOOKUP(INDEX(campsByItinerary,numericItinerary($A18),BM$3-1),campInfo,2))","v":""},{"$f":"IF(INDEX(campsByItinerary,numericItinerary($A18),BD$3-1)=\"\",\"\",VLOOKUP(INDEX(campsByItinerary,numericItinerary($A18),BD$3-1),campInfo,12))","v":"North"},{"$f":"IF(INDEX(campsByItinerary,numericItinerary($A18),BE$3-1)=\"\",\"\",VLOOKUP(INDEX(campsByItinerary,numericItinerary($A18),BE$3-1),campInfo,12))","v":"North"},{"$f":"IF(INDEX(campsByItinerary,numericItinerary($A18),BF$3-1)=\"\",\"\",VLOOKUP(INDEX(campsByItinerary,numericItinerary($A18),BF$3-1),campInfo,12))","v":"North"},{"$f":"IF(INDEX(campsByItinerary,numericItinerary($A18),BG$3-1)=\"\",\"\",VLOOKUP(INDEX(campsByItinerary,numericItinerary($A18),BG$3-1),campInfo,12))","v":"North"},{"$f":"IF(INDEX(campsByItinerary,numericItinerary($A18),BH$3-1)=\"\",\"\",VLOOKUP(INDEX(campsByItinerary,numericItinerary($A18),BH$3-1),campInfo,12))","v":"North & South"},{"$f":"IF(INDEX(campsByItinerary,numericItinerary($A18),BI$3-1)=\"\",\"\",VLOOKUP(INDEX(campsByItinerary,numericItinerary($A18),BI$3-1),campInfo,12))","v":"South"},{"$f":"IF(INDEX(campsByItinerary,numericItinerary($A18),BJ$3-1)=\"\",\"\",VLOOKUP(INDEX(campsByItinerary,numericItinerary($A18),BJ$3-1),campInfo,12))","v":"South"},{"$f":"IF(INDEX(campsByItinerary,numericItinerary($A18),BK$3-1)=\"\",\"\",VLOOKUP(INDEX(campsByItinerary,numericItinerary($A18),BK$3-1),campInfo,12))","v":""},{"$f":"IF(INDEX(campsByItinerary,numericItinerary($A18),BL$3-1)=\"\",\"\",VLOOKUP(INDEX(campsByItinerary,numericItinerary($A18),BL$3-1),campInfo,12))","v":""},{"$f":"IF(INDEX(campsByItinerary,numericItinerary($A18),BM$3-1)=\"\",\"\",VLOOKUP(INDEX(campsByItinerary,numericItinerary($A18),BM$3-1),campInfo,12))","v":""},{"$f":"getfoodPU(\"First\",numericItinerary($A18))","v":4},{"$f":"getfoodPU(\"Max\",numericItinerary($A18))","v":4}]
["",null,null,null,null,null,null,null,null,null,null,null,null,null,null,null,null,null,null,null,null,null,null,null,null,null,"",null,null,null,null,null,null,"",null,null,"","","","","","","","","","","","","","","","","","","",{"$f":"IF(INDEX(campsByItinerary,numericItinerary($A19),BD$3-1)=\"\",\"\",VLOOKUP(INDEX(campsByItinerary,numericItinerary($A19),BD$3-1),campInfo,8))","v":{"$error":"#VALUE!"}},{"$f":"IF(INDEX(campsByItinerary,numericItinerary($A19),BE$3-1)=\"\",\"\",VLOOKUP(INDEX(campsByItinerary,numericItinerary($A19),BE$3-1),campInfo,8))","v":{"$error":"#VALUE!"}},{"$f":"IF(INDEX(campsByItinerary,numericItinerary($A19),BF$3-1)=\"\",\"\",VLOOKUP(INDEX(campsByItinerary,numericItinerary($A19),BF$3-1),campInfo,8))","v":{"$error":"#VALUE!"}},{"$f":"IF(INDEX(campsByItinerary,numericItinerary($A19),BG$3-1)=\"\",\"\",VLOOKUP(INDEX(campsByItinerary,numericItinerary($A19),BG$3-1),campInfo,8))","v":{"$error":"#VALUE!"}},{"$f":"IF(INDEX(campsByItinerary,numericItinerary($A19),BH$3-1)=\"\",\"\",VLOOKUP(INDEX(campsByItinerary,numericItinerary($A19),BH$3-1),campInfo,8))","v":{"$error":"#VALUE!"}},{"$f":"IF(INDEX(campsByItinerary,numericItinerary($A19),BI$3-1)=\"\",\"\",VLOOKUP(INDEX(campsByItinerary,numericItinerary($A19),BI$3-1),campInfo,8))","v":{"$error":"#VALUE!"}},{"$f":"IF(INDEX(campsByItinerary,numericItinerary($A19),BJ$3-1)=\"\",\"\",VLOOKUP(INDEX(campsByItinerary,numericItinerary($A19),BJ$3-1),campInfo,8))","v":{"$error":"#VALUE!"}},{"$f":"IF(INDEX(campsByItinerary,numericItinerary($A19),BK$3-1)=\"\",\"\",VLOOKUP(INDEX(campsByItinerary,numericItinerary($A19),BK$3-1),campInfo,8))","v":{"$error":"#VALUE!"}},{"$f":"IF(INDEX(campsByItinerary,numericItinerary($A19),BL$3-1)=\"\",\"\",VLOOKUP(INDEX(campsByItinerary,numericItinerary($A19),BL$3-1),campInfo,8))","v":{"$error":"#VALUE!"}},{"$f":"IF(INDEX(campsByItinerary,numericItinerary($A19),BM$3-1)=\"\",\"\",VLOOKUP(INDEX(campsByItinerary,numericItinerary($A19),BM$3-1),campInfo,8))","v":{"$error":"#VALUE!"}},{"$error":"#VALUE!"},{"$error":"#VALUE!"},{"$error":"#VALUE!"},{"$error":"#VALUE!"},{"$error":"#VALUE!"},{"$error":"#VALUE!"},{"$error":"#VALUE!"},{"$error":"#VALUE!"},{"$error":"#VALUE!"},{"$error":"#VALUE!"},{"$f":"IF(INDEX(campsByItinerary,numericItinerary($A19),BD$3-1)=\"\",\"\",VLOOKUP(INDEX(campsByItinerary,numericItinerary($A19),BD$3-1),campInfo,10))","v":{"$error":"#VALUE!"}},{"$f":"IF(INDEX(campsByItinerary,numericItinerary($A19),BE$3-1)=\"\",\"\",VLOOKUP(INDEX(campsByItinerary,numericItinerary($A19),BE$3-1),campInfo,10))","v":{"$error":"#VALUE!"}},{"$f":"IF(INDEX(campsByItinerary,numericItinerary($A19),BF$3-1)=\"\",\"\",VLOOKUP(INDEX(campsByItinerary,numericItinerary($A19),BF$3-1),campInfo,10))","v":{"$error":"#VALUE!"}},{"$f":"IF(INDEX(campsByItinerary,numericItinerary($A19),BG$3-1)=\"\",\"\",VLOOKUP(INDEX(campsByItinerary,numericItinerary($A19),BG$3-1),campInfo,10))","v":{"$error":"#VALUE!"}},{"$f":"IF(INDEX(campsByItinerary,numericItinerary($A19),BH$3-1)=\"\",\"\",VLOOKUP(INDEX(campsByItinerary,numericItinerary($A19),BH$3-1),campInfo,10))","v":{"$error":"#VALUE!"}},{"$f":"IF(INDEX(campsByItinerary,numericItinerary($A19),BI$3-1)=\"\",\"\",VLOOKUP(INDEX(campsByItinerary,numericItinerary($A19),BI$3-1),campInfo,10))","v":{"$error":"#VALUE!"}},{"$f":"IF(INDEX(campsByItinerary,numericItinerary($A19),BJ$3-1)=\"\",\"\",VLOOKUP(INDEX(campsByItinerary,numericItinerary($A19),BJ$3-1),campInfo,10))","v":{"$error":"#VALUE!"}},{"$f":"IF(INDEX(campsByItinerary,numericItinerary($A19),BK$3-1)=\"\",\"\",VLOOKUP(INDEX(campsByItinerary,numericItinerary($A19),BK$3-1),campInfo,10))","v":{"$error":"#VALUE!"}},{"$f":"IF(INDEX(campsByItinerary,numericItinerary($A19),BL$3-1)=\"\",\"\",VLOOKUP(INDEX(campsByItinerary,numericItinerary($A19),BL$3-1),campInfo,10))","v":{"$error":"#VALUE!"}},{"$f":"IF(INDEX(campsByItinerary,numericItinerary($A19),BM$3-1)=\"\",\"\",VLOOKUP(INDEX(campsByItinerary,numericItinerary($A19),BM$3-1),campInfo,10))","v":{"$error":"#VALUE!"}},null,"Y","Y","Y","Y","Y","Y","Y","Y","Y",{"$f":"INDEX(campsByItinerary,numericItinerary($A19),BD$3-1)","v":{"$error":"#VALUE!"}},{"$f":"IF(INDEX(campsByItinerary,numericItinerary($A19),BE$3-1)=\"\",\"\",VLOOKUP(INDEX(campsByItinerary,numericItinerary($A19),BE$3-1),campInfo,2))","v":{"$error":"#VALUE!"}},{"$f":"IF(INDEX(campsByItinerary,numericItinerary($A19),BF$3-1)=\"\",\"\",VLOOKUP(INDEX(campsByItinerary,numericItinerary($A19),BF$3-1),campInfo,2))","v":{"$error":"#VALUE!"}},{"$f":"IF(INDEX(campsByItinerary,numericItinerary($A19),BG$3-1)=\"\",\"\",VLOOKUP(INDEX(campsByItinerary,numericItinerary($A19),BG$3-1),campInfo,2))","v":{"$error":"#VALUE!"}},{"$f":"IF(INDEX(campsByItinerary,numericItinerary($A19),BH$3-1)=\"\",\"\",VLOOKUP(INDEX(campsByItinerary,numericItinerary($A19),BH$3-1),campInfo,2))","v":{"$error":"#VALUE!"}},{"$f":"IF(INDEX(campsByItinerary,numericItinerary($A19),BI$3-1)=\"\",\"\",VLOOKUP(INDEX(campsByItinerary,numericItinerary($A19),BI$3-1),campInfo,2))","v":{"$error":"#VALUE!"}},{"$f":"IF(INDEX(campsByItinerary,numericItinerary($A19),BJ$3-1)=\"\",\"\",VLOOKUP(INDEX(campsByItinerary,numericItinerary($A19),BJ$3-1),campInfo,2))","v":{"$error":"#VALUE!"}},{"$f":"IF(INDEX(campsByItinerary,numericItinerary($A19),BK$3-1)=\"\",\"\",VLOOKUP(INDEX(campsByItinerary,numericItinerary($A19),BK$3-1),campInfo,2))","v":{"$error":"#VALUE!"}},{"$f":"IF(INDEX(campsByItinerary,numericItinerary($A19),BL$3-1)=\"\",\"\",VLOOKUP(INDEX(campsByItinerary,numericItinerary($A19),BL$3-1),campInfo,2))","v":{"$error":"#VALUE!"}},{"$f":"IF(INDEX(campsByItinerary,numericItinerary($A19),BM$3-1)=\"\",\"\",VLOOKUP(INDEX(campsByItinerary,numericItinerary($A19),BM$3-1),campInfo,2))","v":{"$error":"#VALUE!"}},{"$f":"IF(INDEX(campsByItinerary,numericItinerary($A19),BD$3-1)=\"\",\"\",VLOOKUP(INDEX(campsByItinerary,numericItinerary($A19),BD$3-1),campInfo,12))","v":{"$error":"#VALUE!"}},{"$f":"IF(INDEX(campsByItinerary,numericItinerary($A19),BE$3-1)=\"\",\"\",VLOOKUP(INDEX(campsByItinerary,numericItinerary($A19),BE$3-1),campInfo,12))","v":{"$error":"#VALUE!"}},{"$f":"IF(INDEX(campsByItinerary,numericItinerary($A19),BF$3-1)=\"\",\"\",VLOOKUP(INDEX(campsByItinerary,numericItinerary($A19),BF$3-1),campInfo,12))","v":{"$error":"#VALUE!"}},{"$f":"IF(INDEX(campsByItinerary,numericItinerary($A19),BG$3-1)=\"\",\"\",VLOOKUP(INDEX(campsByItinerary,numericItinerary($A19),BG$3-1),campInfo,12))","v":{"$error":"#VALUE!"}},{"$f":"IF(INDEX(campsByItinerary,numericItinerary($A19),BH$3-1)=\"\",\"\",VLOOKUP(INDEX(campsByItinerary,numericItinerary($A19),BH$3-1),campInfo,12))","v":{"$error":"#VALUE!"}},{"$f":"IF(INDEX(campsByItinerary,numericItinerary($A19),BI$3-1)=\"\",\"\",VLOOKUP(INDEX(campsByItinerary,numericItinerary($A19),BI$3-1),campInfo,12))","v":{"$error":"#VALUE!"}},{"$f":"IF(INDEX(campsByItinerary,numericItinerary($A19),BJ$3-1)=\"\",\"\",VLOOKUP(INDEX(campsByItinerary,numericItinerary($A19),BJ$3-1),campInfo,12))","v":{"$error":"#VALUE!"}},{"$f":"IF(INDEX(campsByItinerary,numericItinerary($A19),BK$3-1)=\"\",\"\",VLOOKUP(INDEX(campsByItinerary,numericItinerary($A19),BK$3-1),campInfo,12))","v":{"$error":"#VALUE!"}},{"$f":"IF(INDEX(campsByItinerary,numericItinerary($A19),BL$3-1)=\"\",\"\",VLOOKUP(INDEX(campsByItinerary,numericItinerary($A19),BL$3-1),campInfo,12))","v":{"$error":"#VALUE!"}},{"$f":"IF(INDEX(campsByItinerary,numericItinerary($A19),BM$3-1)=\"\",\"\",VLOOKUP(INDEX(campsByItinerary,numericItinerary($A19),BM$3-1),campInfo,12))","v":{"$error":"#VALUE!"}},{"$f":"getfoodPU(\"First\",numericItinerary($A19))","v":{"$error":"#VALUE!"}},{"$f":"getfoodPU(\"Max\",numericItinerary($A19))","v":{"$error":"#VALUE!"}}]
["",null,null,null,null,null,null,null,null,null,null,null,null,null,null,null,null,null,null,null,null,null,null,null,null,null,"",null,null,null,null,null,null,"",null,null,"","","","","","","","","","","","","","","","","","","",{"$f":"IF(INDEX(campsByItinerary,numericItinerary($A20),BD$3-1)=\"\",\"\",VLOOKUP(INDEX(campsByItinerary,numericItinerary($A20),BD$3-1),campInfo,8))","v":{"$error":"#VALUE!"}},{"$f":"IF(INDEX(campsByItinerary,numericItinerary($A20),BE$3-1)=\"\",\"\",VLOOKUP(INDEX(campsByItinerary,numericItinerary($A20),BE$3-1),campInfo,8))","v":{"$error":"#VALUE!"}},{"$f":"IF(INDEX(campsByItinerary,numericItinerary($A20),BF$3-1)=\"\",\"\",VLOOKUP(INDEX(campsByItinerary,numericItinerary($A20),BF$3-1),campInfo,8))","v":{"$error":"#VALUE!"}},{"$f":"IF(INDEX(campsByItinerary,numericItinerary($A20),BG$3-1)=\"\",\"\",VLOOKUP(INDEX(campsByItinerary,numericItinerary($A20),BG$3-1),campInfo,8))","v":{"$error":"#VALUE!"}},{"$f":"IF(INDEX(campsByItinerary,numericItinerary($A20),BH$3-1)=\"\",\"\",VLOOKUP(INDEX(campsByItinerary,numericItinerary($A20),BH$3-1),campInfo,8))","v":{"$error":"#VALUE!"}},{"$f":"IF(INDEX(campsByItinerary,numericItinerary($A20),BI$3-1)=\"\",\"\",VLOOKUP(INDEX(campsByItinerary,numericItinerary($A20),BI$3-1),campInfo,8))","v":{"$error":"#VALUE!"}},{"$f":"IF(INDEX(campsByItinerary,numericItinerary($A20),BJ$3-1)=\"\",\"\",VLOOKUP(INDEX(campsByItinerary,numericItinerary($A20),BJ$3-1),campInfo,8))","v":{"$error":"#VALUE!"}},{"$f":"IF(INDEX(campsByItinerary,numericItinerary($A20),BK$3-1)=\"\",\"\",VLOOKUP(INDEX(campsByItinerary,numericItinerary($A20),BK$3-1),campInfo,8))","v":{"$error":"#VALUE!"}},{"$f":"IF(INDEX(campsByItinerary,numericItinerary($A20),BL$3-1)=\"\",\"\",VLOOKUP(INDEX(campsByItinerary,numericItinerary($A20),BL$3-1),campInfo,8))","v":{"$error":"#VALUE!"}},{"$f":"IF(INDEX(campsByItinerary,numericItinerary($A20),BM$3-1)=\"\",\"\",VLOOKUP(INDEX(campsByItinerary,numericItinerary($A20),BM$3-1),campInfo,8))","v":{"$error":"#VALUE!"}},{"$error":"#VALUE!"},{"$error":"#VALUE!"},{"$error":"#VALUE!"},{"$error":"#VALUE!"},{"$error":"#VALUE!"},{"$error":"#VALUE!"},{"$error":"#VALUE!"},{"$error":"#VALUE!"},{"$error":"#VALUE!"},{"$error":"#VALUE!"},{"$f":"IF(INDEX(campsByItinerary,numericItinerary($A20),BD$3-1)=\"\",\"\",VLOOKUP(INDEX(campsByItinerary,numericItinerary($A20),BD$3-1),campInfo,10))","v":{"$error":"#VALUE!"}},{"$f":"IF(INDEX(campsByItinerary,numericItinerary($A20),BE$3-1)=\"\",\"\",VLOOKUP(INDEX(campsByItinerary,numericItinerary($A20),BE$3-1),campInfo,10))","v":{"$error":"#VALUE!"}},{"$f":"IF(INDEX(campsByItinerary,numericItinerary($A20),BF$3-1)=\"\",\"\",VLOOKUP(INDEX(campsByItinerary,numericItinerary($A20),BF$3-1),campInfo,10))","v":{"$error":"#VALUE!"}},{"$f":"IF(INDEX(campsByItinerary,numericItinerary($A20),BG$3-1)=\"\",\"\",VLOOKUP(INDEX(campsByItinerary,numericItinerary($A20),BG$3-1),campInfo,10))","v":{"$error":"#VALUE!"}},{"$f":"IF(INDEX(campsByItinerary,numericItinerary($A20),BH$3-1)=\"\",\"\",VLOOKUP(INDEX(campsByItinerary,numericItinerary($A20),BH$3-1),campInfo,10))","v":{"$error":"#VALUE!"}},{"$f":"IF(INDEX(campsByItinerary,numericItinerary($A20),BI$3-1)=\"\",\"\",VLOOKUP(INDEX(campsByItinerary,numericItinerary($A20),BI$3-1),campInfo,10))","v":{"$error":"#VALUE!"}},{"$f":"IF(INDEX(campsByItinerary,numericItinerary($A20),BJ$3-1)=\"\",\"\",VLOOKUP(INDEX(campsByItinerary,numericItinerary($A20),BJ$3-1),campInfo,10))","v":{"$error":"#VALUE!"}},{"$f":"IF(INDEX(campsByItinerary,numericItinerary($A20),BK$3-1)=\"\",\"\",VLOOKUP(INDEX(campsByItinerary,numericItinerary($A20),BK$3-1),campInfo,10))","v":{"$error":"#VALUE!"}},{"$f":"IF(INDEX(campsByItinerary,numericItinerary($A20),BL$3-1)=\"\",\"\",VLOOKUP(INDEX(campsByItinerary,numericItinerary($A20),BL$3-1),campInfo,10))","v":{"$error":"#VALUE!"}},{"$f":"IF(INDEX(campsByItinerary,numericItinerary($A20),BM$3-1)=\"\",\"\",VLOOKUP(INDEX(campsByItinerary,numericItinerary($A20),BM$3-1),campInfo,10))","v":{"$error":"#VALUE!"}},null,"Y","Y","Y","Y","Y","Y","Y","Y","Y",{"$f":"INDEX(campsByItinerary,numericItinerary($A20),BD$3-1)","v":{"$error":"#VALUE!"}},{"$f":"IF(INDEX(campsByItinerary,numericItinerary($A20),BE$3-1)=\"\",\"\",VLOOKUP(INDEX(campsByItinerary,numericItinerary($A20),BE$3-1),campInfo,2))","v":{"$error":"#VALUE!"}},{"$f":"IF(INDEX(campsByItinerary,numericItinerary($A20),BF$3-1)=\"\",\"\",VLOOKUP(INDEX(campsByItinerary,numericItinerary($A20),BF$3-1),campInfo,2))","v":{"$error":"#VALUE!"}},{"$f":"IF(INDEX(campsByItinerary,numericItinerary($A20),BG$3-1)=\"\",\"\",VLOOKUP(INDEX(campsByItinerary,numericItinerary($A20),BG$3-1),campInfo,2))","v":{"$error":"#VALUE!"}},{"$f":"IF(INDEX(campsByItinerary,numericItinerary($A20),BH$3-1)=\"\",\"\",VLOOKUP(INDEX(campsByItinerary,numericItinerary($A20),BH$3-1),campInfo,2))","v":{"$error":"#VALUE!"}},{"$f":"IF(INDEX(campsByItinerary,numericItinerary($A20),BI$3-1)=\"\",\"\",VLOOKUP(INDEX(campsByItinerary,numericItinerary($A20),BI$3-1),campInfo,2))","v":{"$error":"#VALUE!"}},{"$f":"IF(INDEX(campsByItinerary,numericItinerary($A20),BJ$3-1)=\"\",\"\",VLOOKUP(INDEX(campsByItinerary,numericItinerary($A20),BJ$3-1),campInfo,2))","v":{"$error":"#VALUE!"}},{"$f":"IF(INDEX(campsByItinerary,numericItinerary($A20),BK$3-1)=\"\",\"\",VLOOKUP(INDEX(campsByItinerary,numericItinerary($A20),BK$3-1),campInfo,2))","v":{"$error":"#VALUE!"}},{"$f":"IF(INDEX(campsByItinerary,numericItinerary($A20),BL$3-1)=\"\",\"\",VLOOKUP(INDEX(campsByItinerary,numericItinerary($A20),BL$3-1),campInfo,2))","v":{"$error":"#VALUE!"}},{"$f":"IF(INDEX(campsByItinerary,numericItinerary($A20),BM$3-1)=\"\",\"\",VLOOKUP(INDEX(campsByItinerary,numericItinerary($A20),BM$3-1),campInfo,2))","v":{"$error":"#VALUE!"}},{"$f":"IF(INDEX(campsByItinerary,numericItinerary($A20),BD$3-1)=\"\",\"\",VLOOKUP(INDEX(campsByItinerary,numericItinerary($A20),BD$3-1),campInfo,12))","v":{"$error":"#VALUE!"}},{"$f":"IF(INDEX(campsByItinerary,numericItinerary($A20),BE$3-1)=\"\",\"\",VLOOKUP(INDEX(campsByItinerary,numericItinerary($A20),BE$3-1),campInfo,12))","v":{"$error":"#VALUE!"}},{"$f":"IF(INDEX(campsByItinerary,numericItinerary($A20),BF$3-1)=\"\",\"\",VLOOKUP(INDEX(campsByItinerary,numericItinerary($A20),BF$3-1),campInfo,12))","v":{"$error":"#VALUE!"}},{"$f":"IF(INDEX(campsByItinerary,numericItinerary($A20),BG$3-1)=\"\",\"\",VLOOKUP(INDEX(campsByItinerary,numericItinerary($A20),BG$3-1),campInfo,12))","v":{"$error":"#VALUE!"}},{"$f":"IF(INDEX(campsByItinerary,numericItinerary($A20),BH$3-1)=\"\",\"\",VLOOKUP(INDEX(campsByItinerary,numericItinerary($A20),BH$3-1),campInfo,12))","v":{"$error":"#VALUE!"}},{"$f":"IF(INDEX(campsByItinerary,numericItinerary($A20),BI$3-1)=\"\",\"\",VLOOKUP(INDEX(campsByItinerary,numericItinerary($A20),BI$3-1),campInfo,12))","v":{"$error":"#VALUE!"}},{"$f":"IF(INDEX(campsByItinerary,numericItinerary($A20),BJ$3-1)=\"\",\"\",VLOOKUP(INDEX(campsByItinerary,numericItinerary($A20),BJ$3-1),campInfo,12))","v":{"$error":"#VALUE!"}},{"$f":"IF(INDEX(campsByItinerary,numericItinerary($A20),BK$3-1)=\"\",\"\",VLOOKUP(INDEX(campsByItinerary,numericItinerary($A20),BK$3-1),campInfo,12))","v":{"$error":"#VALUE!"}},{"$f":"IF(INDEX(campsByItinerary,numericItinerary($A20),BL$3-1)=\"\",\"\",VLOOKUP(INDEX(campsByItinerary,numericItinerary($A20),BL$3-1),campInfo,12))","v":{"$error":"#VALUE!"}},{"$f":"IF(INDEX(campsByItinerary,numericItinerary($A20),BM$3-1)=\"\",\"\",VLOOKUP(INDEX(campsByItinerary,numericItinerary($A20),BM$3-1),campInfo,12))","v":{"$error":"#VALUE!"}},{"$f":"getfoodPU(\"First\",numericItinerary($A20))","v":{"$error":"#VALUE!"}},{"$f":"getfoodPU(\"Max\",numericItinerary($A20))","v":{"$error":"#VALUE!"}}]
["",null,null,null,null,null,null,null,null,null,null,null,null,null,null,null,null,null,null,null,null,null,null,null,null,null,"",null,null,null,null,null,null,"",null,null,"","","","","","","","","","","","","","","","","","","",{"$f":"IF(INDEX(campsByItinerary,numericItinerary($A21),BD$3-1)=\"\",\"\",VLOOKUP(INDEX(campsByItinerary,numericItinerary($A21),BD$3-1),campInfo,8))","v":{"$error":"#VALUE!"}},{"$f":"IF(INDEX(campsByItinerary,numericItinerary($A21),BE$3-1)=\"\",\"\",VLOOKUP(INDEX(campsByItinerary,numericItinerary($A21),BE$3-1),campInfo,8))","v":{"$error":"#VALUE!"}},{"$f":"IF(INDEX(campsByItinerary,numericItinerary($A21),BF$3-1)=\"\",\"\",VLOOKUP(INDEX(campsByItinerary,numericItinerary($A21),BF$3-1),campInfo,8))","v":{"$error":"#VALUE!"}},{"$f":"IF(INDEX(campsByItinerary,numericItinerary($A21),BG$3-1)=\"\",\"\",VLOOKUP(INDEX(campsByItinerary,numericItinerary($A21),BG$3-1),campInfo,8))","v":{"$error":"#VALUE!"}},{"$f":"IF(INDEX(campsByItinerary,numericItinerary($A21),BH$3-1)=\"\",\"\",VLOOKUP(INDEX(campsByItinerary,numericItinerary($A21),BH$3-1),campInfo,8))","v":{"$error":"#VALUE!"}},{"$f":"IF(INDEX(campsByItinerary,numericItinerary($A21),BI$3-1)=\"\",\"\",VLOOKUP(INDEX(campsByItinerary,numericItinerary($A21),BI$3-1),campInfo,8))","v":{"$error":"#VALUE!"}},{"$f":"IF(INDEX(campsByItinerary,numericItinerary($A21),BJ$3-1)=\"\",\"\",VLOOKUP(INDEX(campsByItinerary,numericItinerary($A21),BJ$3-1),campInfo,8))","v":{"$error":"#VALUE!"}},{"$f":"IF(INDEX(campsByItinerary,numericItinerary($A21),BK$3-1)=\"\",\"\",VLOOKUP(INDEX(campsByItinerary,numericItinerary($A21),BK$3-1),campInfo,8))","v":{"$error":"#VALUE!"}},{"$f":"IF(INDEX(campsByItinerary,numericItinerary($A21),BL$3-1)=\"\",\"\",VLOOKUP(INDEX(campsByItinerary,numericItinerary($A21),BL$3-1),campInfo,8))","v":{"$error":"#VALUE!"}},{"$f":"IF(INDEX(campsByItinerary,numericItinerary($A21),BM$3-1)=\"\",\"\",VLOOKUP(INDEX(campsByItinerary,numericItinerary($A21),BM$3-1),campInfo,8))","v":{"$error":"#VALUE!"}},{"$error":"#VALUE!"},{"$error":"#VALUE!"},{"$error":"#VALUE!"},{"$error":"#VALUE!"},{"$error":"#VALUE!"},{"$error":"#VALUE!"},{"$error":"#VALUE!"},{"$error":"#VALUE!"},{"$error":"#VALUE!"},{"$error":"#VALUE!"},{"$f":"IF(INDEX(campsByItinerary,numericItinerary($A21),BD$3-1)=\"\",\"\",VLOOKUP(INDEX(campsByItinerary,numericItinerary($A21),BD$3-1),campInfo,10))","v":{"$error":"#VALUE!"}},{"$f":"IF(INDEX(campsByItinerary,numericItinerary($A21),BE$3-1)=\"\",\"\",VLOOKUP(INDEX(campsByItinerary,numericItinerary($A21),BE$3-1),campInfo,10))","v":{"$error":"#VALUE!"}},{"$f":"IF(INDEX(campsByItinerary,numericItinerary($A21),BF$3-1)=\"\",\"\",VLOOKUP(INDEX(campsByItinerary,numericItinerary($A21),BF$3-1),campInfo,10))","v":{"$error":"#VALUE!"}},{"$f":"IF(INDEX(campsByItinerary,numericItinerary($A21),BG$3-1)=\"\",\"\",VLOOKUP(INDEX(campsByItinerary,numericItinerary($A21),BG$3-1),campInfo,10))","v":{"$error":"#VALUE!"}},{"$f":"IF(INDEX(campsByItinerary,numericItinerary($A21),BH$3-1)=\"\",\"\",VLOOKUP(INDEX(campsByItinerary,numericItinerary($A21),BH$3-1),campInfo,10))","v":{"$error":"#VALUE!"}},{"$f":"IF(INDEX(campsByItinerary,numericItinerary($A21),BI$3-1)=\"\",\"\",VLOOKUP(INDEX(campsByItinerary,numericItinerary($A21),BI$3-1),campInfo,10))","v":{"$error":"#VALUE!"}},{"$f":"IF(INDEX(campsByItinerary,numericItinerary($A21),BJ$3-1)=\"\",\"\",VLOOKUP(INDEX(campsByItinerary,numericItinerary($A21),BJ$3-1),campInfo,10))","v":{"$error":"#VALUE!"}},{"$f":"IF(INDEX(campsByItinerary,numericItinerary($A21),BK$3-1)=\"\",\"\",VLOOKUP(INDEX(campsByItinerary,numericItinerary($A21),BK$3-1),campInfo,10))","v":{"$error":"#VALUE!"}},{"$f":"IF(INDEX(campsByItinerary,numericItinerary($A21),BL$3-1)=\"\",\"\",VLOOKUP(INDEX(campsByItinerary,numericItinerary($A21),BL$3-1),campInfo,10))","v":{"$error":"#VALUE!"}},{"$f":"IF(INDEX(campsByItinerary,numericItinerary($A21),BM$3-1)=\"\",\"\",VLOOKUP(INDEX(campsByItinerary,numericItinerary($A21),BM$3-1),campInfo,10))","v":{"$error":"#VALUE!"}},null,"Y","Y","Y","Y","Y","Y","Y","Y","Y",{"$f":"INDEX(campsByItinerary,numericItinerary($A21),BD$3-1)","v":{"$error":"#VALUE!"}},{"$f":"IF(INDEX(campsByItinerary,numericItinerary($A21),BE$3-1)=\"\",\"\",VLOOKUP(INDEX(campsByItinerary,numericItinerary($A21),BE$3-1),campInfo,2))","v":{"$error":"#VALUE!"}},{"$f":"IF(INDEX(campsByItinerary,numericItinerary($A21),BF$3-1)=\"\",\"\",VLOOKUP(INDEX(campsByItinerary,numericItinerary($A21),BF$3-1),campInfo,2))","v":{"$error":"#VALUE!"}},{"$f":"IF(INDEX(campsByItinerary,numericItinerary($A21),BG$3-1)=\"\",\"\",VLOOKUP(INDEX(campsByItinerary,numericItinerary($A21),BG$3-1),campInfo,2))","v":{"$error":"#VALUE!"}},{"$f":"IF(INDEX(campsByItinerary,numericItinerary($A21),BH$3-1)=\"\",\"\",VLOOKUP(INDEX(campsByItinerary,numericItinerary($A21),BH$3-1),campInfo,2))","v":{"$error":"#VALUE!"}},{"$f":"IF(INDEX(campsByItinerary,numericItinerary($A21),BI$3-1)=\"\",\"\",VLOOKUP(INDEX(campsByItinerary,numericItinerary($A21),BI$3-1),campInfo,2))","v":{"$error":"#VALUE!"}},{"$f":"IF(INDEX(campsByItinerary,numericItinerary($A21),BJ$3-1)=\"\",\"\",VLOOKUP(INDEX(campsByItinerary,numericItinerary($A21),BJ$3-1),campInfo,2))","v":{"$error":"#VALUE!"}},{"$f":"IF(INDEX(campsByItinerary,numericItinerary($A21),BK$3-1)=\"\",\"\",VLOOKUP(INDEX(campsByItinerary,numericItinerary($A21),BK$3-1),campInfo,2))","v":{"$error":"#VALUE!"}},{"$f":"IF(INDEX(campsByItinerary,numericItinerary($A21),BL$3-1)=\"\",\"\",VLOOKUP(INDEX(campsByItinerary,numericItinerary($A21),BL$3-1),campInfo,2))","v":{"$error":"#VALUE!"}},{"$f":"IF(INDEX(campsByItinerary,numericItinerary($A21),BM$3-1)=\"\",\"\",VLOOKUP(INDEX(campsByItinerary,numericItinerary($A21),BM$3-1),campInfo,2))","v":{"$error":"#VALUE!"}},{"$f":"IF(INDEX(campsByItinerary,numericItinerary($A21),BD$3-1)=\"\",\"\",VLOOKUP(INDEX(campsByItinerary,numericItinerary($A21),BD$3-1),campInfo,12))","v":{"$error":"#VALUE!"}},{"$f":"IF(INDEX(campsByItinerary,numericItinerary($A21),BE$3-1)=\"\",\"\",VLOOKUP(INDEX(campsByItinerary,numericItinerary($A21),BE$3-1),campInfo,12))","v":{"$error":"#VALUE!"}},{"$f":"IF(INDEX(campsByItinerary,numericItinerary($A21),BF$3-1)=\"\",\"\",VLOOKUP(INDEX(campsByItinerary,numericItinerary($A21),BF$3-1),campInfo,12))","v":{"$error":"#VALUE!"}},{"$f":"IF(INDEX(campsByItinerary,numericItinerary($A21),BG$3-1)=\"\",\"\",VLOOKUP(INDEX(campsByItinerary,numericItinerary($A21),BG$3-1),campInfo,12))","v":{"$error":"#VALUE!"}},{"$f":"IF(INDEX(campsByItinerary,numericItinerary($A21),BH$3-1)=\"\",\"\",VLOOKUP(INDEX(campsByItinerary,numericItinerary($A21),BH$3-1),campInfo,12))","v":{"$error":"#VALUE!"}},{"$f":"IF(INDEX(campsByItinerary,numericItinerary($A21),BI$3-1)=\"\",\"\",VLOOKUP(INDEX(campsByItinerary,numericItinerary($A21),BI$3-1),campInfo,12))","v":{"$error":"#VALUE!"}},{"$f":"IF(INDEX(campsByItinerary,numericItinerary($A21),BJ$3-1)=\"\",\"\",VLOOKUP(INDEX(campsByItinerary,numericItinerary($A21),BJ$3-1),campInfo,12))","v":{"$error":"#VALUE!"}},{"$f":"IF(INDEX(campsByItinerary,numericItinerary($A21),BK$3-1)=\"\",\"\",VLOOKUP(INDEX(campsByItinerary,numericItinerary($A21),BK$3-1),campInfo,12))","v":{"$error":"#VALUE!"}},{"$f":"IF(INDEX(campsByItinerary,numericItinerary($A21),BL$3-1)=\"\",\"\",VLOOKUP(INDEX(campsByItinerary,numericItinerary($A21),BL$3-1),campInfo,12))","v":{"$error":"#VALUE!"}},{"$f":"IF(INDEX(campsByItinerary,numericItinerary($A21),BM$3-1)=\"\",\"\",VLOOKUP(INDEX(campsByItinerary,numericItinerary($A21),BM$3-1),campInfo,12))","v":{"$error":"#VALUE!"}},{"$f":"getfoodPU(\"First\",numericItinerary($A21))","v":{"$error":"#VALUE!"}},{"$f":"getfoodPU(\"Max\",numericItinerary($A21))","v":{"$error":"#VALUE!"}}]
["",null,null,null,null,null,null,null,null,null,null,null,null,null,null,null,null,null,null,null,null,null,null,null,null,null,"",null,null,null,null,null,null,"",null,null,"","","","","","","","","","","","","","","","","","","",{"$f":"IF(INDEX(campsByItinerary,numericItinerary($A22),BD$3-1)=\"\",\"\",VLOOKUP(INDEX(campsByItinerary,numericItinerary($A22),BD$3-1),campInfo,8))","v":{"$error":"#VALUE!"}},{"$f":"IF(INDEX(campsByItinerary,numericItinerary($A22),BE$3-1)=\"\",\"\",VLOOKUP(INDEX(campsByItinerary,numericItinerary($A22),BE$3-1),campInfo,8))","v":{"$error":"#VALUE!"}},{"$f":"IF(INDEX(campsByItinerary,numericItinerary($A22),BF$3-1)=\"\",\"\",VLOOKUP(INDEX(campsByItinerary,numericItinerary($A22),BF$3-1),campInfo,8))","v":{"$error":"#VALUE!"}},{"$f":"IF(INDEX(campsByItinerary,numericItinerary($A22),BG$3-1)=\"\",\"\",VLOOKUP(INDEX(campsByItinerary,numericItinerary($A22),BG$3-1),campInfo,8))","v":{"$error":"#VALUE!"}},{"$f":"IF(INDEX(campsByItinerary,numericItinerary($A22),BH$3-1)=\"\",\"\",VLOOKUP(INDEX(campsByItinerary,numericItinerary($A22),BH$3-1),campInfo,8))","v":{"$error":"#VALUE!"}},{"$f":"IF(INDEX(campsByItinerary,numericItinerary($A22),BI$3-1)=\"\",\"\",VLOOKUP(INDEX(campsByItinerary,numericItinerary($A22),BI$3-1),campInfo,8))","v":{"$error":"#VALUE!"}},{"$f":"IF(INDEX(campsByItinerary,numericItinerary($A22),BJ$3-1)=\"\",\"\",VLOOKUP(INDEX(campsByItinerary,numericItinerary($A22),BJ$3-1),campInfo,8))","v":{"$error":"#VALUE!"}},{"$f":"IF(INDEX(campsByItinerary,numericItinerary($A22),BK$3-1)=\"\",\"\",VLOOKUP(INDEX(campsByItinerary,numericItinerary($A22),BK$3-1),campInfo,8))","v":{"$error":"#VALUE!"}},{"$f":"IF(INDEX(campsByItinerary,numericItinerary($A22),BL$3-1)=\"\",\"\",VLOOKUP(INDEX(campsByItinerary,numericItinerary($A22),BL$3-1),campInfo,8))","v":{"$error":"#VALUE!"}},{"$f":"IF(INDEX(campsByItinerary,numericItinerary($A22),BM$3-1)=\"\",\"\",VLOOKUP(INDEX(campsByItinerary,numericItinerary($A22),BM$3-1),campInfo,8))","v":{"$error":"#VALUE!"}},{"$error":"#VALUE!"},{"$error":"#VALUE!"},{"$error":"#VALUE!"},{"$error":"#VALUE!"},{"$error":"#VALUE!"},{"$error":"#VALUE!"},{"$error":"#VALUE!"},{"$error":"#VALUE!"},{"$error":"#VALUE!"},{"$error":"#VALUE!"},{"$f":"IF(INDEX(campsByItinerary,numericItinerary($A22),BD$3-1)=\"\",\"\",VLOOKUP(INDEX(campsByItinerary,numericItinerary($A22),BD$3-1),campInfo,10))","v":{"$error":"#VALUE!"}},{"$f":"IF(INDEX(campsByItinerary,numericItinerary($A22),BE$3-1)=\"\",\"\",VLOOKUP(INDEX(campsByItinerary,numericItinerary($A22),BE$3-1),campInfo,10))","v":{"$error":"#VALUE!"}},{"$f":"IF(INDEX(campsByItinerary,numericItinerary($A22),BF$3-1)=\"\",\"\",VLOOKUP(INDEX(campsByItinerary,numericItinerary($A22),BF$3-1),campInfo,10))","v":{"$error":"#VALUE!"}},{"$f":"IF(INDEX(campsByItinerary,numericItinerary($A22),BG$3-1)=\"\",\"\",VLOOKUP(INDEX(campsByItinerary,numericItinerary($A22),BG$3-1),campInfo,10))","v":{"$error":"#VALUE!"}},{"$f":"IF(INDEX(campsByItinerary,numericItinerary($A22),BH$3-1)=\"\",\"\",VLOOKUP(INDEX(campsByItinerary,numericItinerary($A22),BH$3-1),campInfo,10))","v":{"$error":"#VALUE!"}},{"$f":"IF(INDEX(campsByItinerary,numericItinerary($A22),BI$3-1)=\"\",\"\",VLOOKUP(INDEX(campsByItinerary,numericItinerary($A22),BI$3-1),campInfo,10))","v":{"$error":"#VALUE!"}},{"$f":"IF(INDEX(campsByItinerary,numericItinerary($A22),BJ$3-1)=\"\",\"\",VLOOKUP(INDEX(campsByItinerary,numericItinerary($A22),BJ$3-1),campInfo,10))","v":{"$error":"#VALUE!"}},{"$f":"IF(INDEX(campsByItinerary,numericItinerary($A22),BK$3-1)=\"\",\"\",VLOOKUP(INDEX(campsByItinerary,numericItinerary($A22),BK$3-1),campInfo,10))","v":{"$error":"#VALUE!"}},{"$f":"IF(INDEX(campsByItinerary,numericItinerary($A22),BL$3-1)=\"\",\"\",VLOOKUP(INDEX(campsByItinerary,numericItinerary($A22),BL$3-1),campInfo,10))","v":{"$error":"#VALUE!"}},{"$f":"IF(INDEX(campsByItinerary,numericItinerary($A22),BM$3-1)=\"\",\"\",VLOOKUP(INDEX(campsByItinerary,numericItinerary($A22),BM$3-1),campInfo,10))","v":{"$error":"#VALUE!"}},null,"Y","Y","Y","Y","Y","Y","Y","Y","Y",{"$f":"INDEX(campsByItinerary,numericItinerary($A22),BD$3-1)","v":{"$error":"#VALUE!"}},{"$f":"IF(INDEX(campsByItinerary,numericItinerary($A22),BE$3-1)=\"\",\"\",VLOOKUP(INDEX(campsByItinerary,numericItinerary($A22),BE$3-1),campInfo,2))","v":{"$error":"#VALUE!"}},{"$f":"IF(INDEX(campsByItinerary,numericItinerary($A22),BF$3-1)=\"\",\"\",VLOOKUP(INDEX(campsByItinerary,numericItinerary($A22),BF$3-1),campInfo,2))","v":{"$error":"#VALUE!"}},{"$f":"IF(INDEX(campsByItinerary,numericItinerary($A22),BG$3-1)=\"\",\"\",VLOOKUP(INDEX(campsByItinerary,numericItinerary($A22),BG$3-1),campInfo,2))","v":{"$error":"#VALUE!"}},{"$f":"IF(INDEX(campsByItinerary,numericItinerary($A22),BH$3-1)=\"\",\"\",VLOOKUP(INDEX(campsByItinerary,numericItinerary($A22),BH$3-1),campInfo,2))","v":{"$error":"#VALUE!"}},{"$f":"IF(INDEX(campsByItinerary,numericItinerary($A22),BI$3-1)=\"\",\"\",VLOOKUP(INDEX(campsByItinerary,numericItinerary($A22),BI$3-1),campInfo,2))","v":{"$error":"#VALUE!"}},{"$f":"IF(INDEX(campsByItinerary,numericItinerary($A22),BJ$3-1)=\"\",\"\",VLOOKUP(INDEX(campsByItinerary,numericItinerary($A22),BJ$3-1),campInfo,2))","v":{"$error":"#VALUE!"}},{"$f":"IF(INDEX(campsByItinerary,numericItinerary($A22),BK$3-1)=\"\",\"\",VLOOKUP(INDEX(campsByItinerary,numericItinerary($A22),BK$3-1),campInfo,2))","v":{"$error":"#VALUE!"}},{"$f":"IF(INDEX(campsByItinerary,numericItinerary($A22),BL$3-1)=\"\",\"\",VLOOKUP(INDEX(campsByItinerary,numericItinerary($A22),BL$3-1),campInfo,2))","v":{"$error":"#VALUE!"}},{"$f":"IF(INDEX(campsByItinerary,numericItinerary($A22),BM$3-1)=\"\",\"\",VLOOKUP(INDEX(campsByItinerary,numericItinerary($A22),BM$3-1),campInfo,2))","v":{"$error":"#VALUE!"}},{"$f":"IF(INDEX(campsByItinerary,numericItinerary($A22),BD$3-1)=\"\",\"\",VLOOKUP(INDEX(campsByItinerary,numericItinerary($A22),BD$3-1),campInfo,12))","v":{"$error":"#VALUE!"}},{"$f":"IF(INDEX(campsByItinerary,numericItinerary($A22),BE$3-1)=\"\",\"\",VLOOKUP(INDEX(campsByItinerary,numericItinerary($A22),BE$3-1),campInfo,12))","v":{"$error":"#VALUE!"}},{"$f":"IF(INDEX(campsByItinerary,numericItinerary($A22),BF$3-1)=\"\",\"\",VLOOKUP(INDEX(campsByItinerary,numericItinerary($A22),BF$3-1),campInfo,12))","v":{"$error":"#VALUE!"}},{"$f":"IF(INDEX(campsByItinerary,numericItinerary($A22),BG$3-1)=\"\",\"\",VLOOKUP(INDEX(campsByItinerary,numericItinerary($A22),BG$3-1),campInfo,12))","v":{"$error":"#VALUE!"}},{"$f":"IF(INDEX(campsByItinerary,numericItinerary($A22),BH$3-1)=\"\",\"\",VLOOKUP(INDEX(campsByItinerary,numericItinerary($A22),BH$3-1),campInfo,12))","v":{"$error":"#VALUE!"}},{"$f":"IF(INDEX(campsByItinerary,numericItinerary($A22),BI$3-1)=\"\",\"\",VLOOKUP(INDEX(campsByItinerary,numericItinerary($A22),BI$3-1),campInfo,12))","v":{"$error":"#VALUE!"}},{"$f":"IF(INDEX(campsByItinerary,numericItinerary($A22),BJ$3-1)=\"\",\"\",VLOOKUP(INDEX(campsByItinerary,numericItinerary($A22),BJ$3-1),campInfo,12))","v":{"$error":"#VALUE!"}},{"$f":"IF(INDEX(campsByItinerary,numericItinerary($A22),BK$3-1)=\"\",\"\",VLOOKUP(INDEX(campsByItinerary,numericItinerary($A22),BK$3-1),campInfo,12))","v":{"$error":"#VALUE!"}},{"$f":"IF(INDEX(campsByItinerary,numericItinerary($A22),BL$3-1)=\"\",\"\",VLOOKUP(INDEX(campsByItinerary,numericItinerary($A22),BL$3-1),campInfo,12))","v":{"$error":"#VALUE!"}},{"$f":"IF(INDEX(campsByItinerary,numericItinerary($A22),BM$3-1)=\"\",\"\",VLOOKUP(INDEX(campsByItinerary,numericItinerary($A22),BM$3-1),campInfo,12))","v":{"$error":"#VALUE!"}},{"$f":"getfoodPU(\"First\",numericItinerary($A22))","v":{"$error":"#VALUE!"}},{"$f":"getfoodPU(\"Max\",numericItinerary($A22))","v":{"$error":"#VALUE!"}}]
["",null,null,null,null,null,null,null,null,null,null,null,null,null,null,null,null,null,null,null,null,null,null,null,null,null,"",null,null,null,null,null,null,"",null,null,"","","","","","","","","","","","","","","","","","","",{"$f":"IF(INDEX(campsByItinerary,numericItinerary($A23),BD$3-1)=\"\",\"\",VLOOKUP(INDEX(campsByItinerary,numericItinerary($A23),BD$3-1),campInfo,8))","v":{"$error":"#VALUE!"}},{"$f":"IF(INDEX(campsByItinerary,numericItinerary($A23),BE$3-1)=\"\",\"\",VLOOKUP(INDEX(campsByItinerary,numericItinerary($A23),BE$3-1),campInfo,8))","v":{"$error":"#VALUE!"}},{"$f":"IF(INDEX(campsByItinerary,numericItinerary($A23),BF$3-1)=\"\",\"\",VLOOKUP(INDEX(campsByItinerary,numericItinerary($A23),BF$3-1),campInfo,8))","v":{"$error":"#VALUE!"}},{"$f":"IF(INDEX(campsByItinerary,numericItinerary($A23),BG$3-1)=\"\",\"\",VLOOKUP(INDEX(campsByItinerary,numericItinerary($A23),BG$3-1),campInfo,8))","v":{"$error":"#VALUE!"}},{"$f":"IF(INDEX(campsByItinerary,numericItinerary($A23),BH$3-1)=\"\",\"\",VLOOKUP(INDEX(campsByItinerary,numericItinerary($A23),BH$3-1),campInfo,8))","v":{"$error":"#VALUE!"}},{"$f":"IF(INDEX(campsByItinerary,numericItinerary($A23),BI$3-1)=\"\",\"\",VLOOKUP(INDEX(campsByItinerary,numericItinerary($A23),BI$3-1),campInfo,8))","v":{"$error":"#VALUE!"}},{"$f":"IF(INDEX(campsByItinerary,numericItinerary($A23),BJ$3-1)=\"\",\"\",VLOOKUP(INDEX(campsByItinerary,numericItinerary($A23),BJ$3-1),campInfo,8))","v":{"$error":"#VALUE!"}},{"$f":"IF(INDEX(campsByItinerary,numericItinerary($A23),BK$3-1)=\"\",\"\",VLOOKUP(INDEX(campsByItinerary,numericItinerary($A23),BK$3-1),campInfo,8))","v":{"$error":"#VALUE!"}},{"$f":"IF(INDEX(campsByItinerary,numericItinerary($A23),BL$3-1)=\"\",\"\",VLOOKUP(INDEX(campsByItinerary,numericItinerary($A23),BL$3-1),campInfo,8))","v":{"$error":"#VALUE!"}},{"$f":"IF(INDEX(campsByItinerary,numericItinerary($A23),BM$3-1)=\"\",\"\",VLOOKUP(INDEX(campsByItinerary,numericItinerary($A23),BM$3-1),campInfo,8))","v":{"$error":"#VALUE!"}},{"$error":"#VALUE!"},{"$error":"#VALUE!"},{"$error":"#VALUE!"},{"$error":"#VALUE!"},{"$error":"#VALUE!"},{"$error":"#VALUE!"},{"$error":"#VALUE!"},{"$error":"#VALUE!"},{"$error":"#VALUE!"},{"$error":"#VALUE!"},{"$f":"IF(INDEX(campsByItinerary,numericItinerary($A23),BD$3-1)=\"\",\"\",VLOOKUP(INDEX(campsByItinerary,numericItinerary($A23),BD$3-1),campInfo,10))","v":{"$error":"#VALUE!"}},{"$f":"IF(INDEX(campsByItinerary,numericItinerary($A23),BE$3-1)=\"\",\"\",VLOOKUP(INDEX(campsByItinerary,numericItinerary($A23),BE$3-1),campInfo,10))","v":{"$error":"#VALUE!"}},{"$f":"IF(INDEX(campsByItinerary,numericItinerary($A23),BF$3-1)=\"\",\"\",VLOOKUP(INDEX(campsByItinerary,numericItinerary($A23),BF$3-1),campInfo,10))","v":{"$error":"#VALUE!"}},{"$f":"IF(INDEX(campsByItinerary,numericItinerary($A23),BG$3-1)=\"\",\"\",VLOOKUP(INDEX(campsByItinerary,numericItinerary($A23),BG$3-1),campInfo,10))","v":{"$error":"#VALUE!"}},{"$f":"IF(INDEX(campsByItinerary,numericItinerary($A23),BH$3-1)=\"\",\"\",VLOOKUP(INDEX(campsByItinerary,numericItinerary($A23),BH$3-1),campInfo,10))","v":{"$error":"#VALUE!"}},{"$f":"IF(INDEX(campsByItinerary,numericItinerary($A23),BI$3-1)=\"\",\"\",VLOOKUP(INDEX(campsByItinerary,numericItinerary($A23),BI$3-1),campInfo,10))","v":{"$error":"#VALUE!"}},{"$f":"IF(INDEX(campsByItinerary,numericItinerary($A23),BJ$3-1)=\"\",\"\",VLOOKUP(INDEX(campsByItinerary,numericItinerary($A23),BJ$3-1),campInfo,10))","v":{"$error":"#VALUE!"}},{"$f":"IF(INDEX(campsByItinerary,numericItinerary($A23),BK$3-1)=\"\",\"\",VLOOKUP(INDEX(campsByItinerary,numericItinerary($A23),BK$3-1),campInfo,10))","v":{"$error":"#VALUE!"}},{"$f":"IF(INDEX(campsByItinerary,numericItinerary($A23),BL$3-1)=\"\",\"\",VLOOKUP(INDEX(campsByItinerary,numericItinerary($A23),BL$3-1),campInfo,10))","v":{"$error":"#VALUE!"}},{"$f":"IF(INDEX(campsByItinerary,numericItinerary($A23),BM$3-1)=\"\",\"\",VLOOKUP(INDEX(campsByItinerary,numericItinerary($A23),BM$3-1),campInfo,10))","v":{"$error":"#VALUE!"}},null,"Y","Y","Y","Y","Y","Y","Y","Y","Y",{"$f":"INDEX(campsByItinerary,numericItinerary($A23),BD$3-1)","v":{"$error":"#VALUE!"}},{"$f":"IF(INDEX(campsByItinerary,numericItinerary($A23),BE$3-1)=\"\",\"\",VLOOKUP(INDEX(campsByItinerary,numericItinerary($A23),BE$3-1),campInfo,2))","v":{"$error":"#VALUE!"}},{"$f":"IF(INDEX(campsByItinerary,numericItinerary($A23),BF$3-1)=\"\",\"\",VLOOKUP(INDEX(campsByItinerary,numericItinerary($A23),BF$3-1),campInfo,2))","v":{"$error":"#VALUE!"}},{"$f":"IF(INDEX(campsByItinerary,numericItinerary($A23),BG$3-1)=\"\",\"\",VLOOKUP(INDEX(campsByItinerary,numericItinerary($A23),BG$3-1),campInfo,2))","v":{"$error":"#VALUE!"}},{"$f":"IF(INDEX(campsByItinerary,numericItinerary($A23),BH$3-1)=\"\",\"\",VLOOKUP(INDEX(campsByItinerary,numericItinerary($A23),BH$3-1),campInfo,2))","v":{"$error":"#VALUE!"}},{"$f":"IF(INDEX(campsByItinerary,numericItinerary($A23),BI$3-1)=\"\",\"\",VLOOKUP(INDEX(campsByItinerary,numericItinerary($A23),BI$3-1),campInfo,2))","v":{"$error":"#VALUE!"}},{"$f":"IF(INDEX(campsByItinerary,numericItinerary($A23),BJ$3-1)=\"\",\"\",VLOOKUP(INDEX(campsByItinerary,numericItinerary($A23),BJ$3-1),campInfo,2))","v":{"$error":"#VALUE!"}},{"$f":"IF(INDEX(campsByItinerary,numericItinerary($A23),BK$3-1)=\"\",\"\",VLOOKUP(INDEX(campsByItinerary,numericItinerary($A23),BK$3-1),campInfo,2))","v":{"$error":"#VALUE!"}},{"$f":"IF(INDEX(campsByItinerary,numericItinerary($A23),BL$3-1)=\"\",\"\",VLOOKUP(INDEX(campsByItinerary,numericItinerary($A23),BL$3-1),campInfo,2))","v":{"$error":"#VALUE!"}},{"$f":"IF(INDEX(campsByItinerary,numericItinerary($A23),BM$3-1)=\"\",\"\",VLOOKUP(INDEX(campsByItinerary,numericItinerary($A23),BM$3-1),campInfo,2))","v":{"$error":"#VALUE!"}},{"$f":"IF(INDEX(campsByItinerary,numericItinerary($A23),BD$3-1)=\"\",\"\",VLOOKUP(INDEX(campsByItinerary,numericItinerary($A23),BD$3-1),campInfo,12))","v":{"$error":"#VALUE!"}},{"$f":"IF(INDEX(campsByItinerary,numericItinerary($A23),BE$3-1)=\"\",\"\",VLOOKUP(INDEX(campsByItinerary,numericItinerary($A23),BE$3-1),campInfo,12))","v":{"$error":"#VALUE!"}},{"$f":"IF(INDEX(campsByItinerary,numericItinerary($A23),BF$3-1)=\"\",\"\",VLOOKUP(INDEX(campsByItinerary,numericItinerary($A23),BF$3-1),campInfo,12))","v":{"$error":"#VALUE!"}},{"$f":"IF(INDEX(campsByItinerary,numericItinerary($A23),BG$3-1)=\"\",\"\",VLOOKUP(INDEX(campsByItinerary,numericItinerary($A23),BG$3-1),campInfo,12))","v":{"$error":"#VALUE!"}},{"$f":"IF(INDEX(campsByItinerary,numericItinerary($A23),BH$3-1)=\"\",\"\",VLOOKUP(INDEX(campsByItinerary,numericItinerary($A23),BH$3-1),campInfo,12))","v":{"$error":"#VALUE!"}},{"$f":"IF(INDEX(campsByItinerary,numericItinerary($A23),BI$3-1)=\"\",\"\",VLOOKUP(INDEX(campsByItinerary,numericItinerary($A23),BI$3-1),campInfo,12))","v":{"$error":"#VALUE!"}},{"$f":"IF(INDEX(campsByItinerary,numericItinerary($A23),BJ$3-1)=\"\",\"\",VLOOKUP(INDEX(campsByItinerary,numericItinerary($A23),BJ$3-1),campInfo,12))","v":{"$error":"#VALUE!"}},{"$f":"IF(INDEX(campsByItinerary,numericItinerary($A23),BK$3-1)=\"\",\"\",VLOOKUP(INDEX(campsByItinerary,numericItinerary($A23),BK$3-1),campInfo,12))","v":{"$error":"#VALUE!"}},{"$f":"IF(INDEX(campsByItinerary,numericItinerary($A23),BL$3-1)=\"\",\"\",VLOOKUP(INDEX(campsByItinerary,numericItinerary($A23),BL$3-1),campInfo,12))","v":{"$error":"#VALUE!"}},{"$f":"IF(INDEX(campsByItinerary,numericItinerary($A23),BM$3-1)=\"\",\"\",VLOOKUP(INDEX(campsByItinerary,numericItinerary($A23),BM$3-1),campInfo,12))","v":{"$error":"#VALUE!"}},{"$f":"getfoodPU(\"First\",numericItinerary($A23))","v":{"$error":"#VALUE!"}},{"$f":"getfoodPU(\"Max\",numericItinerary($A23))","v":{"$error":"#VALUE!"}}]
["",null,null,null,null,null,null,null,null,null,null,null,null,null,null,null,null,null,null,null,null,null,null,null,null,null,"",null,null,null,null,null,null,"",null,null,"","","","","","","","","","","","","","","","","","","",{"$f":"IF(INDEX(campsByItinerary,numericItinerary($A24),BD$3-1)=\"\",\"\",VLOOKUP(INDEX(campsByItinerary,numericItinerary($A24),BD$3-1),campInfo,8))","v":{"$error":"#VALUE!"}},{"$f":"IF(INDEX(campsByItinerary,numericItinerary($A24),BE$3-1)=\"\",\"\",VLOOKUP(INDEX(campsByItinerary,numericItinerary($A24),BE$3-1),campInfo,8))","v":{"$error":"#VALUE!"}},{"$f":"IF(INDEX(campsByItinerary,numericItinerary($A24),BF$3-1)=\"\",\"\",VLOOKUP(INDEX(campsByItinerary,numericItinerary($A24),BF$3-1),campInfo,8))","v":{"$error":"#VALUE!"}},{"$f":"IF(INDEX(campsByItinerary,numericItinerary($A24),BG$3-1)=\"\",\"\",VLOOKUP(INDEX(campsByItinerary,numericItinerary($A24),BG$3-1),campInfo,8))","v":{"$error":"#VALUE!"}},{"$f":"IF(INDEX(campsByItinerary,numericItinerary($A24),BH$3-1)=\"\",\"\",VLOOKUP(INDEX(campsByItinerary,numericItinerary($A24),BH$3-1),campInfo,8))","v":{"$error":"#VALUE!"}},{"$f":"IF(INDEX(campsByItinerary,numericItinerary($A24),BI$3-1)=\"\",\"\",VLOOKUP(INDEX(campsByItinerary,numericItinerary($A24),BI$3-1),campInfo,8))","v":{"$error":"#VALUE!"}},{"$f":"IF(INDEX(campsByItinerary,numericItinerary($A24),BJ$3-1)=\"\",\"\",VLOOKUP(INDEX(campsByItinerary,numericItinerary($A24),BJ$3-1),campInfo,8))","v":{"$error":"#VALUE!"}},{"$f":"IF(INDEX(campsByItinerary,numericItinerary($A24),BK$3-1)=\"\",\"\",VLOOKUP(INDEX(campsByItinerary,numericItinerary($A24),BK$3-1),campInfo,8))","v":{"$error":"#VALUE!"}},{"$f":"IF(INDEX(campsByItinerary,numericItinerary($A24),BL$3-1)=\"\",\"\",VLOOKUP(INDEX(campsByItinerary,numericItinerary($A24),BL$3-1),campInfo,8))","v":{"$error":"#VALUE!"}},{"$f":"IF(INDEX(campsByItinerary,numericItinerary($A24),BM$3-1)=\"\",\"\",VLOOKUP(INDEX(campsByItinerary,numericItinerary($A24),BM$3-1),campInfo,8))","v":{"$error":"#VALUE!"}},{"$error":"#VALUE!"},{"$error":"#VALUE!"},{"$error":"#VALUE!"},{"$error":"#VALUE!"},{"$error":"#VALUE!"},{"$error":"#VALUE!"},{"$error":"#VALUE!"},{"$error":"#VALUE!"},{"$error":"#VALUE!"},{"$error":"#VALUE!"},{"$f":"IF(INDEX(campsByItinerary,numericItinerary($A24),BD$3-1)=\"\",\"\",VLOOKUP(INDEX(campsByItinerary,numericItinerary($A24),BD$3-1),campInfo,10))","v":{"$error":"#VALUE!"}},{"$f":"IF(INDEX(campsByItinerary,numericItinerary($A24),BE$3-1)=\"\",\"\",VLOOKUP(INDEX(campsByItinerary,numericItinerary($A24),BE$3-1),campInfo,10))","v":{"$error":"#VALUE!"}},{"$f":"IF(INDEX(campsByItinerary,numericItinerary($A24),BF$3-1)=\"\",\"\",VLOOKUP(INDEX(campsByItinerary,numericItinerary($A24),BF$3-1),campInfo,10))","v":{"$error":"#VALUE!"}},{"$f":"IF(INDEX(campsByItinerary,numericItinerary($A24),BG$3-1)=\"\",\"\",VLOOKUP(INDEX(campsByItinerary,numericItinerary($A24),BG$3-1),campInfo,10))","v":{"$error":"#VALUE!"}},{"$f":"IF(INDEX(campsByItinerary,numericItinerary($A24),BH$3-1)=\"\",\"\",VLOOKUP(INDEX(campsByItinerary,numericItinerary($A24),BH$3-1),campInfo,10))","v":{"$error":"#VALUE!"}},{"$f":"IF(INDEX(campsByItinerary,numericItinerary($A24),BI$3-1)=\"\",\"\",VLOOKUP(INDEX(campsByItinerary,numericItinerary($A24),BI$3-1),campInfo,10))","v":{"$error":"#VALUE!"}},{"$f":"IF(INDEX(campsByItinerary,numericItinerary($A24),BJ$3-1)=\"\",\"\",VLOOKUP(INDEX(campsByItinerary,numericItinerary($A24),BJ$3-1),campInfo,10))","v":{"$error":"#VALUE!"}},{"$f":"IF(INDEX(campsByItinerary,numericItinerary($A24),BK$3-1)=\"\",\"\",VLOOKUP(INDEX(campsByItinerary,numericItinerary($A24),BK$3-1),campInfo,10))","v":{"$error":"#VALUE!"}},{"$f":"IF(INDEX(campsByItinerary,numericItinerary($A24),BL$3-1)=\"\",\"\",VLOOKUP(INDEX(campsByItinerary,numericItinerary($A24),BL$3-1),campInfo,10))","v":{"$error":"#VALUE!"}},{"$f":"IF(INDEX(campsByItinerary,numericItinerary($A24),BM$3-1)=\"\",\"\",VLOOKUP(INDEX(campsByItinerary,numericItinerary($A24),BM$3-1),campInfo,10))","v":{"$error":"#VALUE!"}},null,"Y","Y","Y","Y","Y","Y","Y","Y","Y",{"$f":"INDEX(campsByItinerary,numericItinerary($A24),BD$3-1)","v":{"$error":"#VALUE!"}},{"$f":"IF(INDEX(campsByItinerary,numericItinerary($A24),BE$3-1)=\"\",\"\",VLOOKUP(INDEX(campsByItinerary,numericItinerary($A24),BE$3-1),campInfo,2))","v":{"$error":"#VALUE!"}},{"$f":"IF(INDEX(campsByItinerary,numericItinerary($A24),BF$3-1)=\"\",\"\",VLOOKUP(INDEX(campsByItinerary,numericItinerary($A24),BF$3-1),campInfo,2))","v":{"$error":"#VALUE!"}},{"$f":"IF(INDEX(campsByItinerary,numericItinerary($A24),BG$3-1)=\"\",\"\",VLOOKUP(INDEX(campsByItinerary,numericItinerary($A24),BG$3-1),campInfo,2))","v":{"$error":"#VALUE!"}},{"$f":"IF(INDEX(campsByItinerary,numericItinerary($A24),BH$3-1)=\"\",\"\",VLOOKUP(INDEX(campsByItinerary,numericItinerary($A24),BH$3-1),campInfo,2))","v":{"$error":"#VALUE!"}},{"$f":"IF(INDEX(campsByItinerary,numericItinerary($A24),BI$3-1)=\"\",\"\",VLOOKUP(INDEX(campsByItinerary,numericItinerary($A24),BI$3-1),campInfo,2))","v":{"$error":"#VALUE!"}},{"$f":"IF(INDEX(campsByItinerary,numericItinerary($A24),BJ$3-1)=\"\",\"\",VLOOKUP(INDEX(campsByItinerary,numericItinerary($A24),BJ$3-1),campInfo,2))","v":{"$error":"#VALUE!"}},{"$f":"IF(INDEX(campsByItinerary,numericItinerary($A24),BK$3-1)=\"\",\"\",VLOOKUP(INDEX(campsByItinerary,numericItinerary($A24),BK$3-1),campInfo,2))","v":{"$error":"#VALUE!"}},{"$f":"IF(INDEX(campsByItinerary,numericItinerary($A24),BL$3-1)=\"\",\"\",VLOOKUP(INDEX(campsByItinerary,numericItinerary($A24),BL$3-1),campInfo,2))","v":{"$error":"#VALUE!"}},{"$f":"IF(INDEX(campsByItinerary,numericItinerary($A24),BM$3-1)=\"\",\"\",VLOOKUP(INDEX(campsByItinerary,numericItinerary($A24),BM$3-1),campInfo,2))","v":{"$error":"#VALUE!"}},{"$f":"IF(INDEX(campsByItinerary,numericItinerary($A24),BD$3-1)=\"\",\"\",VLOOKUP(INDEX(campsByItinerary,numericItinerary($A24),BD$3-1),campInfo,12))","v":{"$error":"#VALUE!"}},{"$f":"IF(INDEX(campsByItinerary,numericItinerary($A24),BE$3-1)=\"\",\"\",VLOOKUP(INDEX(campsByItinerary,numericItinerary($A24),BE$3-1),campInfo,12))","v":{"$error":"#VALUE!"}},{"$f":"IF(INDEX(campsByItinerary,numericItinerary($A24),BF$3-1)=\"\",\"\",VLOOKUP(INDEX(campsByItinerary,numericItinerary($A24),BF$3-1),campInfo,12))","v":{"$error":"#VALUE!"}},{"$f":"IF(INDEX(campsByItinerary,numericItinerary($A24),BG$3-1)=\"\",\"\",VLOOKUP(INDEX(campsByItinerary,numericItinerary($A24),BG$3-1),campInfo,12))","v":{"$error":"#VALUE!"}},{"$f":"IF(INDEX(campsByItinerary,numericItinerary($A24),BH$3-1)=\"\",\"\",VLOOKUP(INDEX(campsByItinerary,numericItinerary($A24),BH$3-1),campInfo,12))","v":{"$error":"#VALUE!"}},{"$f":"IF(INDEX(campsByItinerary,numericItinerary($A24),BI$3-1)=\"\",\"\",VLOOKUP(INDEX(campsByItinerary,numericItinerary($A24),BI$3-1),campInfo,12))","v":{"$error":"#VALUE!"}},{"$f":"IF(INDEX(campsByItinerary,numericItinerary($A24),BJ$3-1)=\"\",\"\",VLOOKUP(INDEX(campsByItinerary,numericItinerary($A24),BJ$3-1),campInfo,12))","v":{"$error":"#VALUE!"}},{"$f":"IF(INDEX(campsByItinerary,numericItinerary($A24),BK$3-1)=\"\",\"\",VLOOKUP(INDEX(campsByItinerary,numericItinerary($A24),BK$3-1),campInfo,12))","v":{"$error":"#VALUE!"}},{"$f":"IF(INDEX(campsByItinerary,numericItinerary($A24),BL$3-1)=\"\",\"\",VLOOKUP(INDEX(campsByItinerary,numericItinerary($A24),BL$3-1),campInfo,12))","v":{"$error":"#VALUE!"}},{"$f":"IF(INDEX(campsByItinerary,numericItinerary($A24),BM$3-1)=\"\",\"\",VLOOKUP(INDEX(campsByItinerary,numericItinerary($A24),BM$3-1),campInfo,12))","v":{"$error":"#VALUE!"}},{"$f":"getfoodPU(\"First\",numericItinerary($A24))","v":{"$error":"#VALUE!"}},{"$f":"getfoodPU(\"Max\",numericItinerary($A24))","v":{"$error":"#VALUE!"}}]
["",null,null,null,null,null,null,null,null,null,null,null,null,null,null,null,null,null,null,null,null,null,null,null,null,null,"",null,null,null,null,null,null,"",null,null,"","","","","","","","","","","","","","","","","","","",{"$f":"IF(INDEX(campsByItinerary,numericItinerary($A25),BD$3-1)=\"\",\"\",VLOOKUP(INDEX(campsByItinerary,numericItinerary($A25),BD$3-1),campInfo,8))","v":{"$error":"#VALUE!"}},{"$f":"IF(INDEX(campsByItinerary,numericItinerary($A25),BE$3-1)=\"\",\"\",VLOOKUP(INDEX(campsByItinerary,numericItinerary($A25),BE$3-1),campInfo,8))","v":{"$error":"#VALUE!"}},{"$f":"IF(INDEX(campsByItinerary,numericItinerary($A25),BF$3-1)=\"\",\"\",VLOOKUP(INDEX(campsByItinerary,numericItinerary($A25),BF$3-1),campInfo,8))","v":{"$error":"#VALUE!"}},{"$f":"IF(INDEX(campsByItinerary,numericItinerary($A25),BG$3-1)=\"\",\"\",VLOOKUP(INDEX(campsByItinerary,numericItinerary($A25),BG$3-1),campInfo,8))","v":{"$error":"#VALUE!"}},{"$f":"IF(INDEX(campsByItinerary,numericItinerary($A25),BH$3-1)=\"\",\"\",VLOOKUP(INDEX(campsByItinerary,numericItinerary($A25),BH$3-1),campInfo,8))","v":{"$error":"#VALUE!"}},{"$f":"IF(INDEX(campsByItinerary,numericItinerary($A25),BI$3-1)=\"\",\"\",VLOOKUP(INDEX(campsByItinerary,numericItinerary($A25),BI$3-1),campInfo,8))","v":{"$error":"#VALUE!"}},{"$f":"IF(INDEX(campsByItinerary,numericItinerary($A25),BJ$3-1)=\"\",\"\",VLOOKUP(INDEX(campsByItinerary,numericItinerary($A25),BJ$3-1),campInfo,8))","v":{"$error":"#VALUE!"}},{"$f":"IF(INDEX(campsByItinerary,numericItinerary($A25),BK$3-1)=\"\",\"\",VLOOKUP(INDEX(campsByItinerary,numericItinerary($A25),BK$3-1),campInfo,8))","v":{"$error":"#VALUE!"}},{"$f":"IF(INDEX(campsByItinerary,numericItinerary($A25),BL$3-1)=\"\",\"\",VLOOKUP(INDEX(campsByItinerary,numericItinerary($A25),BL$3-1),campInfo,8))","v":{"$error":"#VALUE!"}},{"$f":"IF(INDEX(campsByItinerary,numericItinerary($A25),BM$3-1)=\"\",\"\",VLOOKUP(INDEX(campsByItinerary,numericItinerary($A25),BM$3-1),campInfo,8))","v":{"$error":"#VALUE!"}},{"$error":"#VALUE!"},{"$error":"#VALUE!"},{"$error":"#VALUE!"},{"$error":"#VALUE!"},{"$error":"#VALUE!"},{"$error":"#VALUE!"},{"$error":"#VALUE!"},{"$error":"#VALUE!"},{"$error":"#VALUE!"},{"$error":"#VALUE!"},{"$f":"IF(INDEX(campsByItinerary,numericItinerary($A25),BD$3-1)=\"\",\"\",VLOOKUP(INDEX(campsByItinerary,numericItinerary($A25),BD$3-1),campInfo,10))","v":{"$error":"#VALUE!"}},{"$f":"IF(INDEX(campsByItinerary,numericItinerary($A25),BE$3-1)=\"\",\"\",VLOOKUP(INDEX(campsByItinerary,numericItinerary($A25),BE$3-1),campInfo,10))","v":{"$error":"#VALUE!"}},{"$f":"IF(INDEX(campsByItinerary,numericItinerary($A25),BF$3-1)=\"\",\"\",VLOOKUP(INDEX(campsByItinerary,numericItinerary($A25),BF$3-1),campInfo,10))","v":{"$error":"#VALUE!"}},{"$f":"IF(INDEX(campsByItinerary,numericItinerary($A25),BG$3-1)=\"\",\"\",VLOOKUP(INDEX(campsByItinerary,numericItinerary($A25),BG$3-1),campInfo,10))","v":{"$error":"#VALUE!"}},{"$f":"IF(INDEX(campsByItinerary,numericItinerary($A25),BH$3-1)=\"\",\"\",VLOOKUP(INDEX(campsByItinerary,numericItinerary($A25),BH$3-1),campInfo,10))","v":{"$error":"#VALUE!"}},{"$f":"IF(INDEX(campsByItinerary,numericItinerary($A25),BI$3-1)=\"\",\"\",VLOOKUP(INDEX(campsByItinerary,numericItinerary($A25),BI$3-1),campInfo,10))","v":{"$error":"#VALUE!"}},{"$f":"IF(INDEX(campsByItinerary,numericItinerary($A25),BJ$3-1)=\"\",\"\",VLOOKUP(INDEX(campsByItinerary,numericItinerary($A25),BJ$3-1),campInfo,10))","v":{"$error":"#VALUE!"}},{"$f":"IF(INDEX(campsByItinerary,numericItinerary($A25),BK$3-1)=\"\",\"\",VLOOKUP(INDEX(campsByItinerary,numericItinerary($A25),BK$3-1),campInfo,10))","v":{"$error":"#VALUE!"}},{"$f":"IF(INDEX(campsByItinerary,numericItinerary($A25),BL$3-1)=\"\",\"\",VLOOKUP(INDEX(campsByItinerary,numericItinerary($A25),BL$3-1),campInfo,10))","v":{"$error":"#VALUE!"}},{"$f":"IF(INDEX(campsByItinerary,numericItinerary($A25),BM$3-1)=\"\",\"\",VLOOKUP(INDEX(campsByItinerary,numericItinerary($A25),BM$3-1),campInfo,10))","v":{"$error":"#VALUE!"}},null,"Y","Y","Y","Y","Y","Y","Y","Y","Y",{"$f":"INDEX(campsByItinerary,numericItinerary($A25),BD$3-1)","v":{"$error":"#VALUE!"}},{"$f":"IF(INDEX(campsByItinerary,numericItinerary($A25),BE$3-1)=\"\",\"\",VLOOKUP(INDEX(campsByItinerary,numericItinerary($A25),BE$3-1),campInfo,2))","v":{"$error":"#VALUE!"}},{"$f":"IF(INDEX(campsByItinerary,numericItinerary($A25),BF$3-1)=\"\",\"\",VLOOKUP(INDEX(campsByItinerary,numericItinerary($A25),BF$3-1),campInfo,2))","v":{"$error":"#VALUE!"}},{"$f":"IF(INDEX(campsByItinerary,numericItinerary($A25),BG$3-1)=\"\",\"\",VLOOKUP(INDEX(campsByItinerary,numericItinerary($A25),BG$3-1),campInfo,2))","v":{"$error":"#VALUE!"}},{"$f":"IF(INDEX(campsByItinerary,numericItinerary($A25),BH$3-1)=\"\",\"\",VLOOKUP(INDEX(campsByItinerary,numericItinerary($A25),BH$3-1),campInfo,2))","v":{"$error":"#VALUE!"}},{"$f":"IF(INDEX(campsByItinerary,numericItinerary($A25),BI$3-1)=\"\",\"\",VLOOKUP(INDEX(campsByItinerary,numericItinerary($A25),BI$3-1),campInfo,2))","v":{"$error":"#VALUE!"}},{"$f":"IF(INDEX(campsByItinerary,numericItinerary($A25),BJ$3-1)=\"\",\"\",VLOOKUP(INDEX(campsByItinerary,numericItinerary($A25),BJ$3-1),campInfo,2))","v":{"$error":"#VALUE!"}},{"$f":"IF(INDEX(campsByItinerary,numericItinerary($A25),BK$3-1)=\"\",\"\",VLOOKUP(INDEX(campsByItinerary,numericItinerary($A25),BK$3-1),campInfo,2))","v":{"$error":"#VALUE!"}},{"$f":"IF(INDEX(campsByItinerary,numericItinerary($A25),BL$3-1)=\"\",\"\",VLOOKUP(INDEX(campsByItinerary,numericItinerary($A25),BL$3-1),campInfo,2))","v":{"$error":"#VALUE!"}},{"$f":"IF(INDEX(campsByItinerary,numericItinerary($A25),BM$3-1)=\"\",\"\",VLOOKUP(INDEX(campsByItinerary,numericItinerary($A25),BM$3-1),campInfo,2))","v":{"$error":"#VALUE!"}},{"$f":"IF(INDEX(campsByItinerary,numericItinerary($A25),BD$3-1)=\"\",\"\",VLOOKUP(INDEX(campsByItinerary,numericItinerary($A25),BD$3-1),campInfo,12))","v":{"$error":"#VALUE!"}},{"$f":"IF(INDEX(campsByItinerary,numericItinerary($A25),BE$3-1)=\"\",\"\",VLOOKUP(INDEX(campsByItinerary,numericItinerary($A25),BE$3-1),campInfo,12))","v":{"$error":"#VALUE!"}},{"$f":"IF(INDEX(campsByItinerary,numericItinerary($A25),BF$3-1)=\"\",\"\",VLOOKUP(INDEX(campsByItinerary,numericItinerary($A25),BF$3-1),campInfo,12))","v":{"$error":"#VALUE!"}},{"$f":"IF(INDEX(campsByItinerary,numericItinerary($A25),BG$3-1)=\"\",\"\",VLOOKUP(INDEX(campsByItinerary,numericItinerary($A25),BG$3-1),campInfo,12))","v":{"$error":"#VALUE!"}},{"$f":"IF(INDEX(campsByItinerary,numericItinerary($A25),BH$3-1)=\"\",\"\",VLOOKUP(INDEX(campsByItinerary,numericItinerary($A25),BH$3-1),campInfo,12))","v":{"$error":"#VALUE!"}},{"$f":"IF(INDEX(campsByItinerary,numericItinerary($A25),BI$3-1)=\"\",\"\",VLOOKUP(INDEX(campsByItinerary,numericItinerary($A25),BI$3-1),campInfo,12))","v":{"$error":"#VALUE!"}},{"$f":"IF(INDEX(campsByItinerary,numericItinerary($A25),BJ$3-1)=\"\",\"\",VLOOKUP(INDEX(campsByItinerary,numericItinerary($A25),BJ$3-1),campInfo,12))","v":{"$error":"#VALUE!"}},{"$f":"IF(INDEX(campsByItinerary,numericItinerary($A25),BK$3-1)=\"\",\"\",VLOOKUP(INDEX(campsByItinerary,numericItinerary($A25),BK$3-1),campInfo,12))","v":{"$error":"#VALUE!"}},{"$f":"IF(INDEX(campsByItinerary,numericItinerary($A25),BL$3-1)=\"\",\"\",VLOOKUP(INDEX(campsByItinerary,numericItinerary($A25),BL$3-1),campInfo,12))","v":{"$error":"#VALUE!"}},{"$f":"IF(INDEX(campsByItinerary,numericItinerary($A25),BM$3-1)=\"\",\"\",VLOOKUP(INDEX(campsByItinerary,numericItinerary($A25),BM$3-1),campInfo,12))","v":{"$error":"#VALUE!"}},{"$f":"getfoodPU(\"First\",numericItinerary($A25))","v":{"$error":"#VALUE!"}},{"$f":"getfoodPU(\"Max\",numericItinerary($A25))","v":{"$error":"#VALUE!"}}]
["",null,null,null,null,null,null,null,null,null,null,null,null,null,null,null,null,null,null,null,null,null,null,null,null,null,"",null,null,null,null,null,null,"",null,null,"","","","","","","","","","","","","","","","","","","",{"$f":"IF(INDEX(campsByItinerary,numericItinerary($A26),BD$3-1)=\"\",\"\",VLOOKUP(INDEX(campsByItinerary,numericItinerary($A26),BD$3-1),campInfo,8))","v":{"$error":"#VALUE!"}},{"$f":"IF(INDEX(campsByItinerary,numericItinerary($A26),BE$3-1)=\"\",\"\",VLOOKUP(INDEX(campsByItinerary,numericItinerary($A26),BE$3-1),campInfo,8))","v":{"$error":"#VALUE!"}},{"$f":"IF(INDEX(campsByItinerary,numericItinerary($A26),BF$3-1)=\"\",\"\",VLOOKUP(INDEX(campsByItinerary,numericItinerary($A26),BF$3-1),campInfo,8))","v":{"$error":"#VALUE!"}},{"$f":"IF(INDEX(campsByItinerary,numericItinerary($A26),BG$3-1)=\"\",\"\",VLOOKUP(INDEX(campsByItinerary,numericItinerary($A26),BG$3-1),campInfo,8))","v":{"$error":"#VALUE!"}},{"$f":"IF(INDEX(campsByItinerary,numericItinerary($A26),BH$3-1)=\"\",\"\",VLOOKUP(INDEX(campsByItinerary,numericItinerary($A26),BH$3-1),campInfo,8))","v":{"$error":"#VALUE!"}},{"$f":"IF(INDEX(campsByItinerary,numericItinerary($A26),BI$3-1)=\"\",\"\",VLOOKUP(INDEX(campsByItinerary,numericItinerary($A26),BI$3-1),campInfo,8))","v":{"$error":"#VALUE!"}},{"$f":"IF(INDEX(campsByItinerary,numericItinerary($A26),BJ$3-1)=\"\",\"\",VLOOKUP(INDEX(campsByItinerary,numericItinerary($A26),BJ$3-1),campInfo,8))","v":{"$error":"#VALUE!"}},{"$f":"IF(INDEX(campsByItinerary,numericItinerary($A26),BK$3-1)=\"\",\"\",VLOOKUP(INDEX(campsByItinerary,numericItinerary($A26),BK$3-1),campInfo,8))","v":{"$error":"#VALUE!"}},{"$f":"IF(INDEX(campsByItinerary,numericItinerary($A26),BL$3-1)=\"\",\"\",VLOOKUP(INDEX(campsByItinerary,numericItinerary($A26),BL$3-1),campInfo,8))","v":{"$error":"#VALUE!"}},{"$f":"IF(INDEX(campsByItinerary,numericItinerary($A26),BM$3-1)=\"\",\"\",VLOOKUP(INDEX(campsByItinerary,numericItinerary($A26),BM$3-1),campInfo,8))","v":{"$error":"#VALUE!"}},{"$error":"#VALUE!"},{"$error":"#VALUE!"},{"$error":"#VALUE!"},{"$error":"#VALUE!"},{"$error":"#VALUE!"},{"$error":"#VALUE!"},{"$error":"#VALUE!"},{"$error":"#VALUE!"},{"$error":"#VALUE!"},{"$error":"#VALUE!"},{"$f":"IF(INDEX(campsByItinerary,numericItinerary($A26),BD$3-1)=\"\",\"\",VLOOKUP(INDEX(campsByItinerary,numericItinerary($A26),BD$3-1),campInfo,10))","v":{"$error":"#VALUE!"}},{"$f":"IF(INDEX(campsByItinerary,numericItinerary($A26),BE$3-1)=\"\",\"\",VLOOKUP(INDEX(campsByItinerary,numericItinerary($A26),BE$3-1),campInfo,10))","v":{"$error":"#VALUE!"}},{"$f":"IF(INDEX(campsByItinerary,numericItinerary($A26),BF$3-1)=\"\",\"\",VLOOKUP(INDEX(campsByItinerary,numericItinerary($A26),BF$3-1),campInfo,10))","v":{"$error":"#VALUE!"}},{"$f":"IF(INDEX(campsByItinerary,numericItinerary($A26),BG$3-1)=\"\",\"\",VLOOKUP(INDEX(campsByItinerary,numericItinerary($A26),BG$3-1),campInfo,10))","v":{"$error":"#VALUE!"}},{"$f":"IF(INDEX(campsByItinerary,numericItinerary($A26),BH$3-1)=\"\",\"\",VLOOKUP(INDEX(campsByItinerary,numericItinerary($A26),BH$3-1),campInfo,10))","v":{"$error":"#VALUE!"}},{"$f":"IF(INDEX(campsByItinerary,numericItinerary($A26),BI$3-1)=\"\",\"\",VLOOKUP(INDEX(campsByItinerary,numericItinerary($A26),BI$3-1),campInfo,10))","v":{"$error":"#VALUE!"}},{"$f":"IF(INDEX(campsByItinerary,numericItinerary($A26),BJ$3-1)=\"\",\"\",VLOOKUP(INDEX(campsByItinerary,numericItinerary($A26),BJ$3-1),campInfo,10))","v":{"$error":"#VALUE!"}},{"$f":"IF(INDEX(campsByItinerary,numericItinerary($A26),BK$3-1)=\"\",\"\",VLOOKUP(INDEX(campsByItinerary,numericItinerary($A26),BK$3-1),campInfo,10))","v":{"$error":"#VALUE!"}},{"$f":"IF(INDEX(campsByItinerary,numericItinerary($A26),BL$3-1)=\"\",\"\",VLOOKUP(INDEX(campsByItinerary,numericItinerary($A26),BL$3-1),campInfo,10))","v":{"$error":"#VALUE!"}},{"$f":"IF(INDEX(campsByItinerary,numericItinerary($A26),BM$3-1)=\"\",\"\",VLOOKUP(INDEX(campsByItinerary,numericItinerary($A26),BM$3-1),campInfo,10))","v":{"$error":"#VALUE!"}},null,"Y","Y","Y","Y","Y","Y","Y","Y","Y",{"$f":"INDEX(campsByItinerary,numericItinerary($A26),BD$3-1)","v":{"$error":"#VALUE!"}},{"$f":"IF(INDEX(campsByItinerary,numericItinerary($A26),BE$3-1)=\"\",\"\",VLOOKUP(INDEX(campsByItinerary,numericItinerary($A26),BE$3-1),campInfo,2))","v":{"$error":"#VALUE!"}},{"$f":"IF(INDEX(campsByItinerary,numericItinerary($A26),BF$3-1)=\"\",\"\",VLOOKUP(INDEX(campsByItinerary,numericItinerary($A26),BF$3-1),campInfo,2))","v":{"$error":"#VALUE!"}},{"$f":"IF(INDEX(campsByItinerary,numericItinerary($A26),BG$3-1)=\"\",\"\",VLOOKUP(INDEX(campsByItinerary,numericItinerary($A26),BG$3-1),campInfo,2))","v":{"$error":"#VALUE!"}},{"$f":"IF(INDEX(campsByItinerary,numericItinerary($A26),BH$3-1)=\"\",\"\",VLOOKUP(INDEX(campsByItinerary,numericItinerary($A26),BH$3-1),campInfo,2))","v":{"$error":"#VALUE!"}},{"$f":"IF(INDEX(campsByItinerary,numericItinerary($A26),BI$3-1)=\"\",\"\",VLOOKUP(INDEX(campsByItinerary,numericItinerary($A26),BI$3-1),campInfo,2))","v":{"$error":"#VALUE!"}},{"$f":"IF(INDEX(campsByItinerary,numericItinerary($A26),BJ$3-1)=\"\",\"\",VLOOKUP(INDEX(campsByItinerary,numericItinerary($A26),BJ$3-1),campInfo,2))","v":{"$error":"#VALUE!"}},{"$f":"IF(INDEX(campsByItinerary,numericItinerary($A26),BK$3-1)=\"\",\"\",VLOOKUP(INDEX(campsByItinerary,numericItinerary($A26),BK$3-1),campInfo,2))","v":{"$error":"#VALUE!"}},{"$f":"IF(INDEX(campsByItinerary,numericItinerary($A26),BL$3-1)=\"\",\"\",VLOOKUP(INDEX(campsByItinerary,numericItinerary($A26),BL$3-1),campInfo,2))","v":{"$error":"#VALUE!"}},{"$f":"IF(INDEX(campsByItinerary,numericItinerary($A26),BM$3-1)=\"\",\"\",VLOOKUP(INDEX(campsByItinerary,numericItinerary($A26),BM$3-1),campInfo,2))","v":{"$error":"#VALUE!"}},{"$f":"IF(INDEX(campsByItinerary,numericItinerary($A26),BD$3-1)=\"\",\"\",VLOOKUP(INDEX(campsByItinerary,numericItinerary($A26),BD$3-1),campInfo,12))","v":{"$error":"#VALUE!"}},{"$f":"IF(INDEX(campsByItinerary,numericItinerary($A26),BE$3-1)=\"\",\"\",VLOOKUP(INDEX(campsByItinerary,numericItinerary($A26),BE$3-1),campInfo,12))","v":{"$error":"#VALUE!"}},{"$f":"IF(INDEX(campsByItinerary,numericItinerary($A26),BF$3-1)=\"\",\"\",VLOOKUP(INDEX(campsByItinerary,numericItinerary($A26),BF$3-1),campInfo,12))","v":{"$error":"#VALUE!"}},{"$f":"IF(INDEX(campsByItinerary,numericItinerary($A26),BG$3-1)=\"\",\"\",VLOOKUP(INDEX(campsByItinerary,numericItinerary($A26),BG$3-1),campInfo,12))","v":{"$error":"#VALUE!"}},{"$f":"IF(INDEX(campsByItinerary,numericItinerary($A26),BH$3-1)=\"\",\"\",VLOOKUP(INDEX(campsByItinerary,numericItinerary($A26),BH$3-1),campInfo,12))","v":{"$error":"#VALUE!"}},{"$f":"IF(INDEX(campsByItinerary,numericItinerary($A26),BI$3-1)=\"\",\"\",VLOOKUP(INDEX(campsByItinerary,numericItinerary($A26),BI$3-1),campInfo,12))","v":{"$error":"#VALUE!"}},{"$f":"IF(INDEX(campsByItinerary,numericItinerary($A26),BJ$3-1)=\"\",\"\",VLOOKUP(INDEX(campsByItinerary,numericItinerary($A26),BJ$3-1),campInfo,12))","v":{"$error":"#VALUE!"}},{"$f":"IF(INDEX(campsByItinerary,numericItinerary($A26),BK$3-1)=\"\",\"\",VLOOKUP(INDEX(campsByItinerary,numericItinerary($A26),BK$3-1),campInfo,12))","v":{"$error":"#VALUE!"}},{"$f":"IF(INDEX(campsByItinerary,numericItinerary($A26),BL$3-1)=\"\",\"\",VLOOKUP(INDEX(campsByItinerary,numericItinerary($A26),BL$3-1),campInfo,12))","v":{"$error":"#VALUE!"}},{"$f":"IF(INDEX(campsByItinerary,numericItinerary($A26),BM$3-1)=\"\",\"\",VLOOKUP(INDEX(campsByItinerary,numericItinerary($A26),BM$3-1),campInfo,12))","v":{"$error":"#VALUE!"}},{"$f":"getfoodPU(\"First\",numericItinerary($A26))","v":{"$error":"#VALUE!"}},{"$f":"getfoodPU(\"Max\",numericItinerary($A26))","v":{"$error":"#VALUE!"}}]
["",null,null,null,null,null,null,null,null,null,null,null,null,null,null,null,null,null,null,null,null,null,null,null,null,null,"",null,null,null,null,null,null,"",null,null,"","","","","","","","","","","","","","","","","","","",{"$f":"IF(INDEX(campsByItinerary,numericItinerary($A27),BD$3-1)=\"\",\"\",VLOOKUP(INDEX(campsByItinerary,numericItinerary($A27),BD$3-1),campInfo,8))","v":{"$error":"#VALUE!"}},{"$f":"IF(INDEX(campsByItinerary,numericItinerary($A27),BE$3-1)=\"\",\"\",VLOOKUP(INDEX(campsByItinerary,numericItinerary($A27),BE$3-1),campInfo,8))","v":{"$error":"#VALUE!"}},{"$f":"IF(INDEX(campsByItinerary,numericItinerary($A27),BF$3-1)=\"\",\"\",VLOOKUP(INDEX(campsByItinerary,numericItinerary($A27),BF$3-1),campInfo,8))","v":{"$error":"#VALUE!"}},{"$f":"IF(INDEX(campsByItinerary,numericItinerary($A27),BG$3-1)=\"\",\"\",VLOOKUP(INDEX(campsByItinerary,numericItinerary($A27),BG$3-1),campInfo,8))","v":{"$error":"#VALUE!"}},{"$f":"IF(INDEX(campsByItinerary,numericItinerary($A27),BH$3-1)=\"\",\"\",VLOOKUP(INDEX(campsByItinerary,numericItinerary($A27),BH$3-1),campInfo,8))","v":{"$error":"#VALUE!"}},{"$f":"IF(INDEX(campsByItinerary,numericItinerary($A27),BI$3-1)=\"\",\"\",VLOOKUP(INDEX(campsByItinerary,numericItinerary($A27),BI$3-1),campInfo,8))","v":{"$error":"#VALUE!"}},{"$f":"IF(INDEX(campsByItinerary,numericItinerary($A27),BJ$3-1)=\"\",\"\",VLOOKUP(INDEX(campsByItinerary,numericItinerary($A27),BJ$3-1),campInfo,8))","v":{"$error":"#VALUE!"}},{"$f":"IF(INDEX(campsByItinerary,numericItinerary($A27),BK$3-1)=\"\",\"\",VLOOKUP(INDEX(campsByItinerary,numericItinerary($A27),BK$3-1),campInfo,8))","v":{"$error":"#VALUE!"}},{"$f":"IF(INDEX(campsByItinerary,numericItinerary($A27),BL$3-1)=\"\",\"\",VLOOKUP(INDEX(campsByItinerary,numericItinerary($A27),BL$3-1),campInfo,8))","v":{"$error":"#VALUE!"}},{"$f":"IF(INDEX(campsByItinerary,numericItinerary($A27),BM$3-1)=\"\",\"\",VLOOKUP(INDEX(campsByItinerary,numericItinerary($A27),BM$3-1),campInfo,8))","v":{"$error":"#VALUE!"}},{"$error":"#VALUE!"},{"$error":"#VALUE!"},{"$error":"#VALUE!"},{"$error":"#VALUE!"},{"$error":"#VALUE!"},{"$error":"#VALUE!"},{"$error":"#VALUE!"},{"$error":"#VALUE!"},{"$error":"#VALUE!"},{"$error":"#VALUE!"},{"$f":"IF(INDEX(campsByItinerary,numericItinerary($A27),BD$3-1)=\"\",\"\",VLOOKUP(INDEX(campsByItinerary,numericItinerary($A27),BD$3-1),campInfo,10))","v":{"$error":"#VALUE!"}},{"$f":"IF(INDEX(campsByItinerary,numericItinerary($A27),BE$3-1)=\"\",\"\",VLOOKUP(INDEX(campsByItinerary,numericItinerary($A27),BE$3-1),campInfo,10))","v":{"$error":"#VALUE!"}},{"$f":"IF(INDEX(campsByItinerary,numericItinerary($A27),BF$3-1)=\"\",\"\",VLOOKUP(INDEX(campsByItinerary,numericItinerary($A27),BF$3-1),campInfo,10))","v":{"$error":"#VALUE!"}},{"$f":"IF(INDEX(campsByItinerary,numericItinerary($A27),BG$3-1)=\"\",\"\",VLOOKUP(INDEX(campsByItinerary,numericItinerary($A27),BG$3-1),campInfo,10))","v":{"$error":"#VALUE!"}},{"$f":"IF(INDEX(campsByItinerary,numericItinerary($A27),BH$3-1)=\"\",\"\",VLOOKUP(INDEX(campsByItinerary,numericItinerary($A27),BH$3-1),campInfo,10))","v":{"$error":"#VALUE!"}},{"$f":"IF(INDEX(campsByItinerary,numericItinerary($A27),BI$3-1)=\"\",\"\",VLOOKUP(INDEX(campsByItinerary,numericItinerary($A27),BI$3-1),campInfo,10))","v":{"$error":"#VALUE!"}},{"$f":"IF(INDEX(campsByItinerary,numericItinerary($A27),BJ$3-1)=\"\",\"\",VLOOKUP(INDEX(campsByItinerary,numericItinerary($A27),BJ$3-1),campInfo,10))","v":{"$error":"#VALUE!"}},{"$f":"IF(INDEX(campsByItinerary,numericItinerary($A27),BK$3-1)=\"\",\"\",VLOOKUP(INDEX(campsByItinerary,numericItinerary($A27),BK$3-1),campInfo,10))","v":{"$error":"#VALUE!"}},{"$f":"IF(INDEX(campsByItinerary,numericItinerary($A27),BL$3-1)=\"\",\"\",VLOOKUP(INDEX(campsByItinerary,numericItinerary($A27),BL$3-1),campInfo,10))","v":{"$error":"#VALUE!"}},{"$f":"IF(INDEX(campsByItinerary,numericItinerary($A27),BM$3-1)=\"\",\"\",VLOOKUP(INDEX(campsByItinerary,numericItinerary($A27),BM$3-1),campInfo,10))","v":{"$error":"#VALUE!"}},null,"Y","Y","Y","Y","Y","Y","Y","Y","Y",{"$f":"INDEX(campsByItinerary,numericItinerary($A27),BD$3-1)","v":{"$error":"#VALUE!"}},{"$f":"IF(INDEX(campsByItinerary,numericItinerary($A27),BE$3-1)=\"\",\"\",VLOOKUP(INDEX(campsByItinerary,numericItinerary($A27),BE$3-1),campInfo,2))","v":{"$error":"#VALUE!"}},{"$f":"IF(INDEX(campsByItinerary,numericItinerary($A27),BF$3-1)=\"\",\"\",VLOOKUP(INDEX(campsByItinerary,numericItinerary($A27),BF$3-1),campInfo,2))","v":{"$error":"#VALUE!"}},{"$f":"IF(INDEX(campsByItinerary,numericItinerary($A27),BG$3-1)=\"\",\"\",VLOOKUP(INDEX(campsByItinerary,numericItinerary($A27),BG$3-1),campInfo,2))","v":{"$error":"#VALUE!"}},{"$f":"IF(INDEX(campsByItinerary,numericItinerary($A27),BH$3-1)=\"\",\"\",VLOOKUP(INDEX(campsByItinerary,numericItinerary($A27),BH$3-1),campInfo,2))","v":{"$error":"#VALUE!"}},{"$f":"IF(INDEX(campsByItinerary,numericItinerary($A27),BI$3-1)=\"\",\"\",VLOOKUP(INDEX(campsByItinerary,numericItinerary($A27),BI$3-1),campInfo,2))","v":{"$error":"#VALUE!"}},{"$f":"IF(INDEX(campsByItinerary,numericItinerary($A27),BJ$3-1)=\"\",\"\",VLOOKUP(INDEX(campsByItinerary,numericItinerary($A27),BJ$3-1),campInfo,2))","v":{"$error":"#VALUE!"}},{"$f":"IF(INDEX(campsByItinerary,numericItinerary($A27),BK$3-1)=\"\",\"\",VLOOKUP(INDEX(campsByItinerary,numericItinerary($A27),BK$3-1),campInfo,2))","v":{"$error":"#VALUE!"}},{"$f":"IF(INDEX(campsByItinerary,numericItinerary($A27),BL$3-1)=\"\",\"\",VLOOKUP(INDEX(campsByItinerary,numericItinerary($A27),BL$3-1),campInfo,2))","v":{"$error":"#VALUE!"}},{"$f":"IF(INDEX(campsByItinerary,numericItinerary($A27),BM$3-1)=\"\",\"\",VLOOKUP(INDEX(campsByItinerary,numericItinerary($A27),BM$3-1),campInfo,2))","v":{"$error":"#VALUE!"}},{"$f":"IF(INDEX(campsByItinerary,numericItinerary($A27),BD$3-1)=\"\",\"\",VLOOKUP(INDEX(campsByItinerary,numericItinerary($A27),BD$3-1),campInfo,12))","v":{"$error":"#VALUE!"}},{"$f":"IF(INDEX(campsByItinerary,numericItinerary($A27),BE$3-1)=\"\",\"\",VLOOKUP(INDEX(campsByItinerary,numericItinerary($A27),BE$3-1),campInfo,12))","v":{"$error":"#VALUE!"}},{"$f":"IF(INDEX(campsByItinerary,numericItinerary($A27),BF$3-1)=\"\",\"\",VLOOKUP(INDEX(campsByItinerary,numericItinerary($A27),BF$3-1),campInfo,12))","v":{"$error":"#VALUE!"}},{"$f":"IF(INDEX(campsByItinerary,numericItinerary($A27),BG$3-1)=\"\",\"\",VLOOKUP(INDEX(campsByItinerary,numericItinerary($A27),BG$3-1),campInfo,12))","v":{"$error":"#VALUE!"}},{"$f":"IF(INDEX(campsByItinerary,numericItinerary($A27),BH$3-1)=\"\",\"\",VLOOKUP(INDEX(campsByItinerary,numericItinerary($A27),BH$3-1),campInfo,12))","v":{"$error":"#VALUE!"}},{"$f":"IF(INDEX(campsByItinerary,numericItinerary($A27),BI$3-1)=\"\",\"\",VLOOKUP(INDEX(campsByItinerary,numericItinerary($A27),BI$3-1),campInfo,12))","v":{"$error":"#VALUE!"}},{"$f":"IF(INDEX(campsByItinerary,numericItinerary($A27),BJ$3-1)=\"\",\"\",VLOOKUP(INDEX(campsByItinerary,numericItinerary($A27),BJ$3-1),campInfo,12))","v":{"$error":"#VALUE!"}},{"$f":"IF(INDEX(campsByItinerary,numericItinerary($A27),BK$3-1)=\"\",\"\",VLOOKUP(INDEX(campsByItinerary,numericItinerary($A27),BK$3-1),campInfo,12))","v":{"$error":"#VALUE!"}},{"$f":"IF(INDEX(campsByItinerary,numericItinerary($A27),BL$3-1)=\"\",\"\",VLOOKUP(INDEX(campsByItinerary,numericItinerary($A27),BL$3-1),campInfo,12))","v":{"$error":"#VALUE!"}},{"$f":"IF(INDEX(campsByItinerary,numericItinerary($A27),BM$3-1)=\"\",\"\",VLOOKUP(INDEX(campsByItinerary,numericItinerary($A27),BM$3-1),campInfo,12))","v":{"$error":"#VALUE!"}},{"$f":"getfoodPU(\"First\",numericItinerary($A27))","v":{"$error":"#VALUE!"}},{"$f":"getfoodPU(\"Max\",numericItinerary($A27))","v":{"$error":"#VALUE!"}}]
["",null,null,null,null,null,null,null,null,null,null,null,null,null,null,null,null,null,null,null,null,null,null,null,null,null,"",null,null,null,null,null,null,"",null,null,"","","","","","","","","","","","","","","","","","","",{"$f":"IF(INDEX(campsByItinerary,numericItinerary($A28),BD$3-1)=\"\",\"\",VLOOKUP(INDEX(campsByItinerary,numericItinerary($A28),BD$3-1),campInfo,8))","v":{"$error":"#VALUE!"}},{"$f":"IF(INDEX(campsByItinerary,numericItinerary($A28),BE$3-1)=\"\",\"\",VLOOKUP(INDEX(campsByItinerary,numericItinerary($A28),BE$3-1),campInfo,8))","v":{"$error":"#VALUE!"}},{"$f":"IF(INDEX(campsByItinerary,numericItinerary($A28),BF$3-1)=\"\",\"\",VLOOKUP(INDEX(campsByItinerary,numericItinerary($A28),BF$3-1),campInfo,8))","v":{"$error":"#VALUE!"}},{"$f":"IF(INDEX(campsByItinerary,numericItinerary($A28),BG$3-1)=\"\",\"\",VLOOKUP(INDEX(campsByItinerary,numericItinerary($A28),BG$3-1),campInfo,8))","v":{"$error":"#VALUE!"}},{"$f":"IF(INDEX(campsByItinerary,numericItinerary($A28),BH$3-1)=\"\",\"\",VLOOKUP(INDEX(campsByItinerary,numericItinerary($A28),BH$3-1),campInfo,8))","v":{"$error":"#VALUE!"}},{"$f":"IF(INDEX(campsByItinerary,numericItinerary($A28),BI$3-1)=\"\",\"\",VLOOKUP(INDEX(campsByItinerary,numericItinerary($A28),BI$3-1),campInfo,8))","v":{"$error":"#VALUE!"}},{"$f":"IF(INDEX(campsByItinerary,numericItinerary($A28),BJ$3-1)=\"\",\"\",VLOOKUP(INDEX(campsByItinerary,numericItinerary($A28),BJ$3-1),campInfo,8))","v":{"$error":"#VALUE!"}},{"$f":"IF(INDEX(campsByItinerary,numericItinerary($A28),BK$3-1)=\"\",\"\",VLOOKUP(INDEX(campsByItinerary,numericItinerary($A28),BK$3-1),campInfo,8))","v":{"$error":"#VALUE!"}},{"$f":"IF(INDEX(campsByItinerary,numericItinerary($A28),BL$3-1)=\"\",\"\",VLOOKUP(INDEX(campsByItinerary,numericItinerary($A28),BL$3-1),campInfo,8))","v":{"$error":"#VALUE!"}},{"$f":"IF(INDEX(campsByItinerary,numericItinerary($A28),BM$3-1)=\"\",\"\",VLOOKUP(INDEX(campsByItinerary,numericItinerary($A28),BM$3-1),campInfo,8))","v":{"$error":"#VALUE!"}},{"$error":"#VALUE!"},{"$error":"#VALUE!"},{"$error":"#VALUE!"},{"$error":"#VALUE!"},{"$error":"#VALUE!"},{"$error":"#VALUE!"},{"$error":"#VALUE!"},{"$error":"#VALUE!"},{"$error":"#VALUE!"},{"$error":"#VALUE!"},{"$f":"IF(INDEX(campsByItinerary,numericItinerary($A28),BD$3-1)=\"\",\"\",VLOOKUP(INDEX(campsByItinerary,numericItinerary($A28),BD$3-1),campInfo,10))","v":{"$error":"#VALUE!"}},{"$f":"IF(INDEX(campsByItinerary,numericItinerary($A28),BE$3-1)=\"\",\"\",VLOOKUP(INDEX(campsByItinerary,numericItinerary($A28),BE$3-1),campInfo,10))","v":{"$error":"#VALUE!"}},{"$f":"IF(INDEX(campsByItinerary,numericItinerary($A28),BF$3-1)=\"\",\"\",VLOOKUP(INDEX(campsByItinerary,numericItinerary($A28),BF$3-1),campInfo,10))","v":{"$error":"#VALUE!"}},{"$f":"IF(INDEX(campsByItinerary,numericItinerary($A28),BG$3-1)=\"\",\"\",VLOOKUP(INDEX(campsByItinerary,numericItinerary($A28),BG$3-1),campInfo,10))","v":{"$error":"#VALUE!"}},{"$f":"IF(INDEX(campsByItinerary,numericItinerary($A28),BH$3-1)=\"\",\"\",VLOOKUP(INDEX(campsByItinerary,numericItinerary($A28),BH$3-1),campInfo,10))","v":{"$error":"#VALUE!"}},{"$f":"IF(INDEX(campsByItinerary,numericItinerary($A28),BI$3-1)=\"\",\"\",VLOOKUP(INDEX(campsByItinerary,numericItinerary($A28),BI$3-1),campInfo,10))","v":{"$error":"#VALUE!"}},{"$f":"IF(INDEX(campsByItinerary,numericItinerary($A28),BJ$3-1)=\"\",\"\",VLOOKUP(INDEX(campsByItinerary,numericItinerary($A28),BJ$3-1),campInfo,10))","v":{"$error":"#VALUE!"}},{"$f":"IF(INDEX(campsByItinerary,numericItinerary($A28),BK$3-1)=\"\",\"\",VLOOKUP(INDEX(campsByItinerary,numericItinerary($A28),BK$3-1),campInfo,10))","v":{"$error":"#VALUE!"}},{"$f":"IF(INDEX(campsByItinerary,numericItinerary($A28),BL$3-1)=\"\",\"\",VLOOKUP(INDEX(campsByItinerary,numericItinerary($A28),BL$3-1),campInfo,10))","v":{"$error":"#VALUE!"}},{"$f":"IF(INDEX(campsByItinerary,numericItinerary($A28),BM$3-1)=\"\",\"\",VLOOKUP(INDEX(campsByItinerary,numericItinerary($A28),BM$3-1),campInfo,10))","v":{"$error":"#VALUE!"}},null,"Y","Y","Y","Y","Y","Y","Y","Y","Y",{"$f":"INDEX(campsByItinerary,numericItinerary($A28),BD$3-1)","v":{"$error":"#VALUE!"}},{"$f":"IF(INDEX(campsByItinerary,numericItinerary($A28),BE$3-1)=\"\",\"\",VLOOKUP(INDEX(campsByItinerary,numericItinerary($A28),BE$3-1),campInfo,2))","v":{"$error":"#VALUE!"}},{"$f":"IF(INDEX(campsByItinerary,numericItinerary($A28),BF$3-1)=\"\",\"\",VLOOKUP(INDEX(campsByItinerary,numericItinerary($A28),BF$3-1),campInfo,2))","v":{"$error":"#VALUE!"}},{"$f":"IF(INDEX(campsByItinerary,numericItinerary($A28),BG$3-1)=\"\",\"\",VLOOKUP(INDEX(campsByItinerary,numericItinerary($A28),BG$3-1),campInfo,2))","v":{"$error":"#VALUE!"}},{"$f":"IF(INDEX(campsByItinerary,numericItinerary($A28),BH$3-1)=\"\",\"\",VLOOKUP(INDEX(campsByItinerary,numericItinerary($A28),BH$3-1),campInfo,2))","v":{"$error":"#VALUE!"}},{"$f":"IF(INDEX(campsByItinerary,numericItinerary($A28),BI$3-1)=\"\",\"\",VLOOKUP(INDEX(campsByItinerary,numericItinerary($A28),BI$3-1),campInfo,2))","v":{"$error":"#VALUE!"}},{"$f":"IF(INDEX(campsByItinerary,numericItinerary($A28),BJ$3-1)=\"\",\"\",VLOOKUP(INDEX(campsByItinerary,numericItinerary($A28),BJ$3-1),campInfo,2))","v":{"$error":"#VALUE!"}},{"$f":"IF(INDEX(campsByItinerary,numericItinerary($A28),BK$3-1)=\"\",\"\",VLOOKUP(INDEX(campsByItinerary,numericItinerary($A28),BK$3-1),campInfo,2))","v":{"$error":"#VALUE!"}},{"$f":"IF(INDEX(campsByItinerary,numericItinerary($A28),BL$3-1)=\"\",\"\",VLOOKUP(INDEX(campsByItinerary,numericItinerary($A28),BL$3-1),campInfo,2))","v":{"$error":"#VALUE!"}},{"$f":"IF(INDEX(campsByItinerary,numericItinerary($A28),BM$3-1)=\"\",\"\",VLOOKUP(INDEX(campsByItinerary,numericItinerary($A28),BM$3-1),campInfo,2))","v":{"$error":"#VALUE!"}},{"$f":"IF(INDEX(campsByItinerary,numericItinerary($A28),BD$3-1)=\"\",\"\",VLOOKUP(INDEX(campsByItinerary,numericItinerary($A28),BD$3-1),campInfo,12))","v":{"$error":"#VALUE!"}},{"$f":"IF(INDEX(campsByItinerary,numericItinerary($A28),BE$3-1)=\"\",\"\",VLOOKUP(INDEX(campsByItinerary,numericItinerary($A28),BE$3-1),campInfo,12))","v":{"$error":"#VALUE!"}},{"$f":"IF(INDEX(campsByItinerary,numericItinerary($A28),BF$3-1)=\"\",\"\",VLOOKUP(INDEX(campsByItinerary,numericItinerary($A28),BF$3-1),campInfo,12))","v":{"$error":"#VALUE!"}},{"$f":"IF(INDEX(campsByItinerary,numericItinerary($A28),BG$3-1)=\"\",\"\",VLOOKUP(INDEX(campsByItinerary,numericItinerary($A28),BG$3-1),campInfo,12))","v":{"$error":"#VALUE!"}},{"$f":"IF(INDEX(campsByItinerary,numericItinerary($A28),BH$3-1)=\"\",\"\",VLOOKUP(INDEX(campsByItinerary,numericItinerary($A28),BH$3-1),campInfo,12))","v":{"$error":"#VALUE!"}},{"$f":"IF(INDEX(campsByItinerary,numericItinerary($A28),BI$3-1)=\"\",\"\",VLOOKUP(INDEX(campsByItinerary,numericItinerary($A28),BI$3-1),campInfo,12))","v":{"$error":"#VALUE!"}},{"$f":"IF(INDEX(campsByItinerary,numericItinerary($A28),BJ$3-1)=\"\",\"\",VLOOKUP(INDEX(campsByItinerary,numericItinerary($A28),BJ$3-1),campInfo,12))","v":{"$error":"#VALUE!"}},{"$f":"IF(INDEX(campsByItinerary,numericItinerary($A28),BK$3-1)=\"\",\"\",VLOOKUP(INDEX(campsByItinerary,numericItinerary($A28),BK$3-1),campInfo,12))","v":{"$error":"#VALUE!"}},{"$f":"IF(INDEX(campsByItinerary,numericItinerary($A28),BL$3-1)=\"\",\"\",VLOOKUP(INDEX(campsByItinerary,numericItinerary($A28),BL$3-1),campInfo,12))","v":{"$error":"#VALUE!"}},{"$f":"IF(INDEX(campsByItinerary,numericItinerary($A28),BM$3-1)=\"\",\"\",VLOOKUP(INDEX(campsByItinerary,numericItinerary($A28),BM$3-1),campInfo,12))","v":{"$error":"#VALUE!"}},{"$f":"getfoodPU(\"First\",numericItinerary($A28))","v":{"$error":"#VALUE!"}},{"$f":"getfoodPU(\"Max\",numericItinerary($A28))","v":{"$error":"#VALUE!"}}]
["",null,null,null,null,null,null,null,null,null,null,null,null,null,null,null,null,null,null,null,null,null,null,null,null,null,"",null,null,null,null,null,null,"",null,null,"","","","","","","","","","","","","","","","","","","",{"$f":"IF(INDEX(campsByItinerary,numericItinerary($A29),BD$3-1)=\"\",\"\",VLOOKUP(INDEX(campsByItinerary,numericItinerary($A29),BD$3-1),campInfo,8))","v":{"$error":"#VALUE!"}},{"$f":"IF(INDEX(campsByItinerary,numericItinerary($A29),BE$3-1)=\"\",\"\",VLOOKUP(INDEX(campsByItinerary,numericItinerary($A29),BE$3-1),campInfo,8))","v":{"$error":"#VALUE!"}},{"$f":"IF(INDEX(campsByItinerary,numericItinerary($A29),BF$3-1)=\"\",\"\",VLOOKUP(INDEX(campsByItinerary,numericItinerary($A29),BF$3-1),campInfo,8))","v":{"$error":"#VALUE!"}},{"$f":"IF(INDEX(campsByItinerary,numericItinerary($A29),BG$3-1)=\"\",\"\",VLOOKUP(INDEX(campsByItinerary,numericItinerary($A29),BG$3-1),campInfo,8))","v":{"$error":"#VALUE!"}},{"$f":"IF(INDEX(campsByItinerary,numericItinerary($A29),BH$3-1)=\"\",\"\",VLOOKUP(INDEX(campsByItinerary,numericItinerary($A29),BH$3-1),campInfo,8))","v":{"$error":"#VALUE!"}},{"$f":"IF(INDEX(campsByItinerary,numericItinerary($A29),BI$3-1)=\"\",\"\",VLOOKUP(INDEX(campsByItinerary,numericItinerary($A29),BI$3-1),campInfo,8))","v":{"$error":"#VALUE!"}},{"$f":"IF(INDEX(campsByItinerary,numericItinerary($A29),BJ$3-1)=\"\",\"\",VLOOKUP(INDEX(campsByItinerary,numericItinerary($A29),BJ$3-1),campInfo,8))","v":{"$error":"#VALUE!"}},{"$f":"IF(INDEX(campsByItinerary,numericItinerary($A29),BK$3-1)=\"\",\"\",VLOOKUP(INDEX(campsByItinerary,numericItinerary($A29),BK$3-1),campInfo,8))","v":{"$error":"#VALUE!"}},{"$f":"IF(INDEX(campsByItinerary,numericItinerary($A29),BL$3-1)=\"\",\"\",VLOOKUP(INDEX(campsByItinerary,numericItinerary($A29),BL$3-1),campInfo,8))","v":{"$error":"#VALUE!"}},{"$f":"IF(INDEX(campsByItinerary,numericItinerary($A29),BM$3-1)=\"\",\"\",VLOOKUP(INDEX(campsByItinerary,numericItinerary($A29),BM$3-1),campInfo,8))","v":{"$error":"#VALUE!"}},{"$error":"#VALUE!"},{"$error":"#VALUE!"},{"$error":"#VALUE!"},{"$error":"#VALUE!"},{"$error":"#VALUE!"},{"$error":"#VALUE!"},{"$error":"#VALUE!"},{"$error":"#VALUE!"},{"$error":"#VALUE!"},{"$error":"#VALUE!"},{"$f":"IF(INDEX(campsByItinerary,numericItinerary($A29),BD$3-1)=\"\",\"\",VLOOKUP(INDEX(campsByItinerary,numericItinerary($A29),BD$3-1),campInfo,10))","v":{"$error":"#VALUE!"}},{"$f":"IF(INDEX(campsByItinerary,numericItinerary($A29),BE$3-1)=\"\",\"\",VLOOKUP(INDEX(campsByItinerary,numericItinerary($A29),BE$3-1),campInfo,10))","v":{"$error":"#VALUE!"}},{"$f":"IF(INDEX(campsByItinerary,numericItinerary($A29),BF$3-1)=\"\",\"\",VLOOKUP(INDEX(campsByItinerary,numericItinerary($A29),BF$3-1),campInfo,10))","v":{"$error":"#VALUE!"}},{"$f":"IF(INDEX(campsByItinerary,numericItinerary($A29),BG$3-1)=\"\",\"\",VLOOKUP(INDEX(campsByItinerary,numericItinerary($A29),BG$3-1),campInfo,10))","v":{"$error":"#VALUE!"}},{"$f":"IF(INDEX(campsByItinerary,numericItinerary($A29),BH$3-1)=\"\",\"\",VLOOKUP(INDEX(campsByItinerary,numericItinerary($A29),BH$3-1),campInfo,10))","v":{"$error":"#VALUE!"}},{"$f":"IF(INDEX(campsByItinerary,numericItinerary($A29),BI$3-1)=\"\",\"\",VLOOKUP(INDEX(campsByItinerary,numericItinerary($A29),BI$3-1),campInfo,10))","v":{"$error":"#VALUE!"}},{"$f":"IF(INDEX(campsByItinerary,numericItinerary($A29),BJ$3-1)=\"\",\"\",VLOOKUP(INDEX(campsByItinerary,numericItinerary($A29),BJ$3-1),campInfo,10))","v":{"$error":"#VALUE!"}},{"$f":"IF(INDEX(campsByItinerary,numericItinerary($A29),BK$3-1)=\"\",\"\",VLOOKUP(INDEX(campsByItinerary,numericItinerary($A29),BK$3-1),campInfo,10))","v":{"$error":"#VALUE!"}},{"$f":"IF(INDEX(campsByItinerary,numericItinerary($A29),BL$3-1)=\"\",\"\",VLOOKUP(INDEX(campsByItinerary,numericItinerary($A29),BL$3-1),campInfo,10))","v":{"$error":"#VALUE!"}},{"$f":"IF(INDEX(campsByItinerary,numericItinerary($A29),BM$3-1)=\"\",\"\",VLOOKUP(INDEX(campsByItinerary,numericItinerary($A29),BM$3-1),campInfo,10))","v":{"$error":"#VALUE!"}},null,"Y","Y","Y","Y","Y","Y","Y","Y","Y",{"$f":"INDEX(campsByItinerary,numericItinerary($A29),BD$3-1)","v":{"$error":"#VALUE!"}},{"$f":"IF(INDEX(campsByItinerary,numericItinerary($A29),BE$3-1)=\"\",\"\",VLOOKUP(INDEX(campsByItinerary,numericItinerary($A29),BE$3-1),campInfo,2))","v":{"$error":"#VALUE!"}},{"$f":"IF(INDEX(campsByItinerary,numericItinerary($A29),BF$3-1)=\"\",\"\",VLOOKUP(INDEX(campsByItinerary,numericItinerary($A29),BF$3-1),campInfo,2))","v":{"$error":"#VALUE!"}},{"$f":"IF(INDEX(campsByItinerary,numericItinerary($A29),BG$3-1)=\"\",\"\",VLOOKUP(INDEX(campsByItinerary,numericItinerary($A29),BG$3-1),campInfo,2))","v":{"$error":"#VALUE!"}},{"$f":"IF(INDEX(campsByItinerary,numericItinerary($A29),BH$3-1)=\"\",\"\",VLOOKUP(INDEX(campsByItinerary,numericItinerary($A29),BH$3-1),campInfo,2))","v":{"$error":"#VALUE!"}},{"$f":"IF(INDEX(campsByItinerary,numericItinerary($A29),BI$3-1)=\"\",\"\",VLOOKUP(INDEX(campsByItinerary,numericItinerary($A29),BI$3-1),campInfo,2))","v":{"$error":"#VALUE!"}},{"$f":"IF(INDEX(campsByItinerary,numericItinerary($A29),BJ$3-1)=\"\",\"\",VLOOKUP(INDEX(campsByItinerary,numericItinerary($A29),BJ$3-1),campInfo,2))","v":{"$error":"#VALUE!"}},{"$f":"IF(INDEX(campsByItinerary,numericItinerary($A29),BK$3-1)=\"\",\"\",VLOOKUP(INDEX(campsByItinerary,numericItinerary($A29),BK$3-1),campInfo,2))","v":{"$error":"#VALUE!"}},{"$f":"IF(INDEX(campsByItinerary,numericItinerary($A29),BL$3-1)=\"\",\"\",VLOOKUP(INDEX(campsByItinerary,numericItinerary($A29),BL$3-1),campInfo,2))","v":{"$error":"#VALUE!"}},{"$f":"IF(INDEX(campsByItinerary,numericItinerary($A29),BM$3-1)=\"\",\"\",VLOOKUP(INDEX(campsByItinerary,numericItinerary($A29),BM$3-1),campInfo,2))","v":{"$error":"#VALUE!"}},{"$f":"IF(INDEX(campsByItinerary,numericItinerary($A29),BD$3-1)=\"\",\"\",VLOOKUP(INDEX(campsByItinerary,numericItinerary($A29),BD$3-1),campInfo,12))","v":{"$error":"#VALUE!"}},{"$f":"IF(INDEX(campsByItinerary,numericItinerary($A29),BE$3-1)=\"\",\"\",VLOOKUP(INDEX(campsByItinerary,numericItinerary($A29),BE$3-1),campInfo,12))","v":{"$error":"#VALUE!"}},{"$f":"IF(INDEX(campsByItinerary,numericItinerary($A29),BF$3-1)=\"\",\"\",VLOOKUP(INDEX(campsByItinerary,numericItinerary($A29),BF$3-1),campInfo,12))","v":{"$error":"#VALUE!"}},{"$f":"IF(INDEX(campsByItinerary,numericItinerary($A29),BG$3-1)=\"\",\"\",VLOOKUP(INDEX(campsByItinerary,numericItinerary($A29),BG$3-1),campInfo,12))","v":{"$error":"#VALUE!"}},{"$f":"IF(INDEX(campsByItinerary,numericItinerary($A29),BH$3-1)=\"\",\"\",VLOOKUP(INDEX(campsByItinerary,numericItinerary($A29),BH$3-1),campInfo,12))","v":{"$error":"#VALUE!"}},{"$f":"IF(INDEX(campsByItinerary,numericItinerary($A29),BI$3-1)=\"\",\"\",VLOOKUP(INDEX(campsByItinerary,numericItinerary($A29),BI$3-1),campInfo,12))","v":{"$error":"#VALUE!"}},{"$f":"IF(INDEX(campsByItinerary,numericItinerary($A29),BJ$3-1)=\"\",\"\",VLOOKUP(INDEX(campsByItinerary,numericItinerary($A29),BJ$3-1),campInfo,12))","v":{"$error":"#VALUE!"}},{"$f":"IF(INDEX(campsByItinerary,numericItinerary($A29),BK$3-1)=\"\",\"\",VLOOKUP(INDEX(campsByItinerary,numericItinerary($A29),BK$3-1),campInfo,12))","v":{"$error":"#VALUE!"}},{"$f":"IF(INDEX(campsByItinerary,numericItinerary($A29),BL$3-1)=\"\",\"\",VLOOKUP(INDEX(campsByItinerary,numericItinerary($A29),BL$3-1),campInfo,12))","v":{"$error":"#VALUE!"}},{"$f":"IF(INDEX(campsByItinerary,numericItinerary($A29),BM$3-1)=\"\",\"\",VLOOKUP(INDEX(campsByItinerary,numericItinerary($A29),BM$3-1),campInfo,12))","v":{"$error":"#VALUE!"}},{"$f":"getfoodPU(\"First\",numericItinerary($A29))","v":{"$error":"#VALUE!"}},{"$f":"getfoodPU(\"Max\",numericItinerary($A29))","v":{"$error":"#VALUE!"}}]
["",null,null,null,null,null,null,null,null,null,null,null,null,null,null,null,null,null,null,null,null,null,null,null,null,null,"",null,null,null,null,null,null,"",null,null,"","","","","","","","","","","","","","","","","","","",{"$f":"IF(INDEX(campsByItinerary,numericItinerary($A30),BD$3-1)=\"\",\"\",VLOOKUP(INDEX(campsByItinerary,numericItinerary($A30),BD$3-1),campInfo,8))","v":{"$error":"#VALUE!"}},{"$f":"IF(INDEX(campsByItinerary,numericItinerary($A30),BE$3-1)=\"\",\"\",VLOOKUP(INDEX(campsByItinerary,numericItinerary($A30),BE$3-1),campInfo,8))","v":{"$error":"#VALUE!"}},{"$f":"IF(INDEX(campsByItinerary,numericItinerary($A30),BF$3-1)=\"\",\"\",VLOOKUP(INDEX(campsByItinerary,numericItinerary($A30),BF$3-1),campInfo,8))","v":{"$error":"#VALUE!"}},{"$f":"IF(INDEX(campsByItinerary,numericItinerary($A30),BG$3-1)=\"\",\"\",VLOOKUP(INDEX(campsByItinerary,numericItinerary($A30),BG$3-1),campInfo,8))","v":{"$error":"#VALUE!"}},{"$f":"IF(INDEX(campsByItinerary,numericItinerary($A30),BH$3-1)=\"\",\"\",VLOOKUP(INDEX(campsByItinerary,numericItinerary($A30),BH$3-1),campInfo,8))","v":{"$error":"#VALUE!"}},{"$f":"IF(INDEX(campsByItinerary,numericItinerary($A30),BI$3-1)=\"\",\"\",VLOOKUP(INDEX(campsByItinerary,numericItinerary($A30),BI$3-1),campInfo,8))","v":{"$error":"#VALUE!"}},{"$f":"IF(INDEX(campsByItinerary,numericItinerary($A30),BJ$3-1)=\"\",\"\",VLOOKUP(INDEX(campsByItinerary,numericItinerary($A30),BJ$3-1),campInfo,8))","v":{"$error":"#VALUE!"}},{"$f":"IF(INDEX(campsByItinerary,numericItinerary($A30),BK$3-1)=\"\",\"\",VLOOKUP(INDEX(campsByItinerary,numericItinerary($A30),BK$3-1),campInfo,8))","v":{"$error":"#VALUE!"}},{"$f":"IF(INDEX(campsByItinerary,numericItinerary($A30),BL$3-1)=\"\",\"\",VLOOKUP(INDEX(campsByItinerary,numericItinerary($A30),BL$3-1),campInfo,8))","v":{"$error":"#VALUE!"}},{"$f":"IF(INDEX(campsByItinerary,numericItinerary($A30),BM$3-1)=\"\",\"\",VLOOKUP(INDEX(campsByItinerary,numericItinerary($A30),BM$3-1),campInfo,8))","v":{"$error":"#VALUE!"}},{"$error":"#VALUE!"},{"$error":"#VALUE!"},{"$error":"#VALUE!"},{"$error":"#VALUE!"},{"$error":"#VALUE!"},{"$error":"#VALUE!"},{"$error":"#VALUE!"},{"$error":"#VALUE!"},{"$error":"#VALUE!"},{"$error":"#VALUE!"},{"$f":"IF(INDEX(campsByItinerary,numericItinerary($A30),BD$3-1)=\"\",\"\",VLOOKUP(INDEX(campsByItinerary,numericItinerary($A30),BD$3-1),campInfo,10))","v":{"$error":"#VALUE!"}},{"$f":"IF(INDEX(campsByItinerary,numericItinerary($A30),BE$3-1)=\"\",\"\",VLOOKUP(INDEX(campsByItinerary,numericItinerary($A30),BE$3-1),campInfo,10))","v":{"$error":"#VALUE!"}},{"$f":"IF(INDEX(campsByItinerary,numericItinerary($A30),BF$3-1)=\"\",\"\",VLOOKUP(INDEX(campsByItinerary,numericItinerary($A30),BF$3-1),campInfo,10))","v":{"$error":"#VALUE!"}},{"$f":"IF(INDEX(campsByItinerary,numericItinerary($A30),BG$3-1)=\"\",\"\",VLOOKUP(INDEX(campsByItinerary,numericItinerary($A30),BG$3-1),campInfo,10))","v":{"$error":"#VALUE!"}},{"$f":"IF(INDEX(campsByItinerary,numericItinerary($A30),BH$3-1)=\"\",\"\",VLOOKUP(INDEX(campsByItinerary,numericItinerary($A30),BH$3-1),campInfo,10))","v":{"$error":"#VALUE!"}},{"$f":"IF(INDEX(campsByItinerary,numericItinerary($A30),BI$3-1)=\"\",\"\",VLOOKUP(INDEX(campsByItinerary,numericItinerary($A30),BI$3-1),campInfo,10))","v":{"$error":"#VALUE!"}},{"$f":"IF(INDEX(campsByItinerary,numericItinerary($A30),BJ$3-1)=\"\",\"\",VLOOKUP(INDEX(campsByItinerary,numericItinerary($A30),BJ$3-1),campInfo,10))","v":{"$error":"#VALUE!"}},{"$f":"IF(INDEX(campsByItinerary,numericItinerary($A30),BK$3-1)=\"\",\"\",VLOOKUP(INDEX(campsByItinerary,numericItinerary($A30),BK$3-1),campInfo,10))","v":{"$error":"#VALUE!"}},{"$f":"IF(INDEX(campsByItinerary,numericItinerary($A30),BL$3-1)=\"\",\"\",VLOOKUP(INDEX(campsByItinerary,numericItinerary($A30),BL$3-1),campInfo,10))","v":{"$error":"#VALUE!"}},{"$f":"IF(INDEX(campsByItinerary,numericItinerary($A30),BM$3-1)=\"\",\"\",VLOOKUP(INDEX(campsByItinerary,numericItinerary($A30),BM$3-1),campInfo,10))","v":{"$error":"#VALUE!"}},null,"Y","Y","Y","Y","Y","Y","Y","Y","Y",{"$f":"INDEX(campsByItinerary,numericItinerary($A30),BD$3-1)","v":{"$error":"#VALUE!"}},{"$f":"IF(INDEX(campsByItinerary,numericItinerary($A30),BE$3-1)=\"\",\"\",VLOOKUP(INDEX(campsByItinerary,numericItinerary($A30),BE$3-1),campInfo,2))","v":{"$error":"#VALUE!"}},{"$f":"IF(INDEX(campsByItinerary,numericItinerary($A30),BF$3-1)=\"\",\"\",VLOOKUP(INDEX(campsByItinerary,numericItinerary($A30),BF$3-1),campInfo,2))","v":{"$error":"#VALUE!"}},{"$f":"IF(INDEX(campsByItinerary,numericItinerary($A30),BG$3-1)=\"\",\"\",VLOOKUP(INDEX(campsByItinerary,numericItinerary($A30),BG$3-1),campInfo,2))","v":{"$error":"#VALUE!"}},{"$f":"IF(INDEX(campsByItinerary,numericItinerary($A30),BH$3-1)=\"\",\"\",VLOOKUP(INDEX(campsByItinerary,numericItinerary($A30),BH$3-1),campInfo,2))","v":{"$error":"#VALUE!"}},{"$f":"IF(INDEX(campsByItinerary,numericItinerary($A30),BI$3-1)=\"\",\"\",VLOOKUP(INDEX(campsByItinerary,numericItinerary($A30),BI$3-1),campInfo,2))","v":{"$error":"#VALUE!"}},{"$f":"IF(INDEX(campsByItinerary,numericItinerary($A30),BJ$3-1)=\"\",\"\",VLOOKUP(INDEX(campsByItinerary,numericItinerary($A30),BJ$3-1),campInfo,2))","v":{"$error":"#VALUE!"}},{"$f":"IF(INDEX(campsByItinerary,numericItinerary($A30),BK$3-1)=\"\",\"\",VLOOKUP(INDEX(campsByItinerary,numericItinerary($A30),BK$3-1),campInfo,2))","v":{"$error":"#VALUE!"}},{"$f":"IF(INDEX(campsByItinerary,numericItinerary($A30),BL$3-1)=\"\",\"\",VLOOKUP(INDEX(campsByItinerary,numericItinerary($A30),BL$3-1),campInfo,2))","v":{"$error":"#VALUE!"}},{"$f":"IF(INDEX(campsByItinerary,numericItinerary($A30),BM$3-1)=\"\",\"\",VLOOKUP(INDEX(campsByItinerary,numericItinerary($A30),BM$3-1),campInfo,2))","v":{"$error":"#VALUE!"}},{"$f":"IF(INDEX(campsByItinerary,numericItinerary($A30),BD$3-1)=\"\",\"\",VLOOKUP(INDEX(campsByItinerary,numericItinerary($A30),BD$3-1),campInfo,12))","v":{"$error":"#VALUE!"}},{"$f":"IF(INDEX(campsByItinerary,numericItinerary($A30),BE$3-1)=\"\",\"\",VLOOKUP(INDEX(campsByItinerary,numericItinerary($A30),BE$3-1),campInfo,12))","v":{"$error":"#VALUE!"}},{"$f":"IF(INDEX(campsByItinerary,numericItinerary($A30),BF$3-1)=\"\",\"\",VLOOKUP(INDEX(campsByItinerary,numericItinerary($A30),BF$3-1),campInfo,12))","v":{"$error":"#VALUE!"}},{"$f":"IF(INDEX(campsByItinerary,numericItinerary($A30),BG$3-1)=\"\",\"\",VLOOKUP(INDEX(campsByItinerary,numericItinerary($A30),BG$3-1),campInfo,12))","v":{"$error":"#VALUE!"}},{"$f":"IF(INDEX(campsByItinerary,numericItinerary($A30),BH$3-1)=\"\",\"\",VLOOKUP(INDEX(campsByItinerary,numericItinerary($A30),BH$3-1),campInfo,12))","v":{"$error":"#VALUE!"}},{"$f":"IF(INDEX(campsByItinerary,numericItinerary($A30),BI$3-1)=\"\",\"\",VLOOKUP(INDEX(campsByItinerary,numericItinerary($A30),BI$3-1),campInfo,12))","v":{"$error":"#VALUE!"}},{"$f":"IF(INDEX(campsByItinerary,numericItinerary($A30),BJ$3-1)=\"\",\"\",VLOOKUP(INDEX(campsByItinerary,numericItinerary($A30),BJ$3-1),campInfo,12))","v":{"$error":"#VALUE!"}},{"$f":"IF(INDEX(campsByItinerary,numericItinerary($A30),BK$3-1)=\"\",\"\",VLOOKUP(INDEX(campsByItinerary,numericItinerary($A30),BK$3-1),campInfo,12))","v":{"$error":"#VALUE!"}},{"$f":"IF(INDEX(campsByItinerary,numericItinerary($A30),BL$3-1)=\"\",\"\",VLOOKUP(INDEX(campsByItinerary,numericItinerary($A30),BL$3-1),campInfo,12))","v":{"$error":"#VALUE!"}},{"$f":"IF(INDEX(campsByItinerary,numericItinerary($A30),BM$3-1)=\"\",\"\",VLOOKUP(INDEX(campsByItinerary,numericItinerary($A30),BM$3-1),campInfo,12))","v":{"$error":"#VALUE!"}},{"$f":"getfoodPU(\"First\",numericItinerary($A30))","v":{"$error":"#VALUE!"}},{"$f":"getfoodPU(\"Max\",numericItinerary($A30))","v":{"$error":"#VALUE!"}}]
["",null,null,null,null,null,null,null,null,null,null,null,null,null,null,null,null,null,null,null,null,null,null,null,null,null,"",null,null,null,null,null,null,"",null,null,"","","","","","","","","","","","","","","","","","","",{"$f":"IF(INDEX(campsByItinerary,numericItinerary($A31),BD$3-1)=\"\",\"\",VLOOKUP(INDEX(campsByItinerary,numericItinerary($A31),BD$3-1),campInfo,8))","v":{"$error":"#VALUE!"}},{"$f":"IF(INDEX(campsByItinerary,numericItinerary($A31),BE$3-1)=\"\",\"\",VLOOKUP(INDEX(campsByItinerary,numericItinerary($A31),BE$3-1),campInfo,8))","v":{"$error":"#VALUE!"}},{"$f":"IF(INDEX(campsByItinerary,numericItinerary($A31),BF$3-1)=\"\",\"\",VLOOKUP(INDEX(campsByItinerary,numericItinerary($A31),BF$3-1),campInfo,8))","v":{"$error":"#VALUE!"}},{"$f":"IF(INDEX(campsByItinerary,numericItinerary($A31),BG$3-1)=\"\",\"\",VLOOKUP(INDEX(campsByItinerary,numericItinerary($A31),BG$3-1),campInfo,8))","v":{"$error":"#VALUE!"}},{"$f":"IF(INDEX(campsByItinerary,numericItinerary($A31),BH$3-1)=\"\",\"\",VLOOKUP(INDEX(campsByItinerary,numericItinerary($A31),BH$3-1),campInfo,8))","v":{"$error":"#VALUE!"}},{"$f":"IF(INDEX(campsByItinerary,numericItinerary($A31),BI$3-1)=\"\",\"\",VLOOKUP(INDEX(campsByItinerary,numericItinerary($A31),BI$3-1),campInfo,8))","v":{"$error":"#VALUE!"}},{"$f":"IF(INDEX(campsByItinerary,numericItinerary($A31),BJ$3-1)=\"\",\"\",VLOOKUP(INDEX(campsByItinerary,numericItinerary($A31),BJ$3-1),campInfo,8))","v":{"$error":"#VALUE!"}},{"$f":"IF(INDEX(campsByItinerary,numericItinerary($A31),BK$3-1)=\"\",\"\",VLOOKUP(INDEX(campsByItinerary,numericItinerary($A31),BK$3-1),campInfo,8))","v":{"$error":"#VALUE!"}},{"$f":"IF(INDEX(campsByItinerary,numericItinerary($A31),BL$3-1)=\"\",\"\",VLOOKUP(INDEX(campsByItinerary,numericItinerary($A31),BL$3-1),campInfo,8))","v":{"$error":"#VALUE!"}},{"$f":"IF(INDEX(campsByItinerary,numericItinerary($A31),BM$3-1)=\"\",\"\",VLOOKUP(INDEX(campsByItinerary,numericItinerary($A31),BM$3-1),campInfo,8))","v":{"$error":"#VALUE!"}},{"$error":"#VALUE!"},{"$error":"#VALUE!"},{"$error":"#VALUE!"},{"$error":"#VALUE!"},{"$error":"#VALUE!"},{"$error":"#VALUE!"},{"$error":"#VALUE!"},{"$error":"#VALUE!"},{"$error":"#VALUE!"},{"$error":"#VALUE!"},{"$f":"IF(INDEX(campsByItinerary,numericItinerary($A31),BD$3-1)=\"\",\"\",VLOOKUP(INDEX(campsByItinerary,numericItinerary($A31),BD$3-1),campInfo,10))","v":{"$error":"#VALUE!"}},{"$f":"IF(INDEX(campsByItinerary,numericItinerary($A31),BE$3-1)=\"\",\"\",VLOOKUP(INDEX(campsByItinerary,numericItinerary($A31),BE$3-1),campInfo,10))","v":{"$error":"#VALUE!"}},{"$f":"IF(INDEX(campsByItinerary,numericItinerary($A31),BF$3-1)=\"\",\"\",VLOOKUP(INDEX(campsByItinerary,numericItinerary($A31),BF$3-1),campInfo,10))","v":{"$error":"#VALUE!"}},{"$f":"IF(INDEX(campsByItinerary,numericItinerary($A31),BG$3-1)=\"\",\"\",VLOOKUP(INDEX(campsByItinerary,numericItinerary($A31),BG$3-1),campInfo,10))","v":{"$error":"#VALUE!"}},{"$f":"IF(INDEX(campsByItinerary,numericItinerary($A31),BH$3-1)=\"\",\"\",VLOOKUP(INDEX(campsByItinerary,numericItinerary($A31),BH$3-1),campInfo,10))","v":{"$error":"#VALUE!"}},{"$f":"IF(INDEX(campsByItinerary,numericItinerary($A31),BI$3-1)=\"\",\"\",VLOOKUP(INDEX(campsByItinerary,numericItinerary($A31),BI$3-1),campInfo,10))","v":{"$error":"#VALUE!"}},{"$f":"IF(INDEX(campsByItinerary,numericItinerary($A31),BJ$3-1)=\"\",\"\",VLOOKUP(INDEX(campsByItinerary,numericItinerary($A31),BJ$3-1),campInfo,10))","v":{"$error":"#VALUE!"}},{"$f":"IF(INDEX(campsByItinerary,numericItinerary($A31),BK$3-1)=\"\",\"\",VLOOKUP(INDEX(campsByItinerary,numericItinerary($A31),BK$3-1),campInfo,10))","v":{"$error":"#VALUE!"}},{"$f":"IF(INDEX(campsByItinerary,numericItinerary($A31),BL$3-1)=\"\",\"\",VLOOKUP(INDEX(campsByItinerary,numericItinerary($A31),BL$3-1),campInfo,10))","v":{"$error":"#VALUE!"}},{"$f":"IF(INDEX(campsByItinerary,numericItinerary($A31),BM$3-1)=\"\",\"\",VLOOKUP(INDEX(campsByItinerary,numericItinerary($A31),BM$3-1),campInfo,10))","v":{"$error":"#VALUE!"}},null,"Y","Y","Y","Y","Y","Y","Y","Y","Y",{"$f":"INDEX(campsByItinerary,numericItinerary($A31),BD$3-1)","v":{"$error":"#VALUE!"}},{"$f":"IF(INDEX(campsByItinerary,numericItinerary($A31),BE$3-1)=\"\",\"\",VLOOKUP(INDEX(campsByItinerary,numericItinerary($A31),BE$3-1),campInfo,2))","v":{"$error":"#VALUE!"}},{"$f":"IF(INDEX(campsByItinerary,numericItinerary($A31),BF$3-1)=\"\",\"\",VLOOKUP(INDEX(campsByItinerary,numericItinerary($A31),BF$3-1),campInfo,2))","v":{"$error":"#VALUE!"}},{"$f":"IF(INDEX(campsByItinerary,numericItinerary($A31),BG$3-1)=\"\",\"\",VLOOKUP(INDEX(campsByItinerary,numericItinerary($A31),BG$3-1),campInfo,2))","v":{"$error":"#VALUE!"}},{"$f":"IF(INDEX(campsByItinerary,numericItinerary($A31),BH$3-1)=\"\",\"\",VLOOKUP(INDEX(campsByItinerary,numericItinerary($A31),BH$3-1),campInfo,2))","v":{"$error":"#VALUE!"}},{"$f":"IF(INDEX(campsByItinerary,numericItinerary($A31),BI$3-1)=\"\",\"\",VLOOKUP(INDEX(campsByItinerary,numericItinerary($A31),BI$3-1),campInfo,2))","v":{"$error":"#VALUE!"}},{"$f":"IF(INDEX(campsByItinerary,numericItinerary($A31),BJ$3-1)=\"\",\"\",VLOOKUP(INDEX(campsByItinerary,numericItinerary($A31),BJ$3-1),campInfo,2))","v":{"$error":"#VALUE!"}},{"$f":"IF(INDEX(campsByItinerary,numericItinerary($A31),BK$3-1)=\"\",\"\",VLOOKUP(INDEX(campsByItinerary,numericItinerary($A31),BK$3-1),campInfo,2))","v":{"$error":"#VALUE!"}},{"$f":"IF(INDEX(campsByItinerary,numericItinerary($A31),BL$3-1)=\"\",\"\",VLOOKUP(INDEX(campsByItinerary,numericItinerary($A31),BL$3-1),campInfo,2))","v":{"$error":"#VALUE!"}},{"$f":"IF(INDEX(campsByItinerary,numericItinerary($A31),BM$3-1)=\"\",\"\",VLOOKUP(INDEX(campsByItinerary,numericItinerary($A31),BM$3-1),campInfo,2))","v":{"$error":"#VALUE!"}},{"$f":"IF(INDEX(campsByItinerary,numericItinerary($A31),BD$3-1)=\"\",\"\",VLOOKUP(INDEX(campsByItinerary,numericItinerary($A31),BD$3-1),campInfo,12))","v":{"$error":"#VALUE!"}},{"$f":"IF(INDEX(campsByItinerary,numericItinerary($A31),BE$3-1)=\"\",\"\",VLOOKUP(INDEX(campsByItinerary,numericItinerary($A31),BE$3-1),campInfo,12))","v":{"$error":"#VALUE!"}},{"$f":"IF(INDEX(campsByItinerary,numericItinerary($A31),BF$3-1)=\"\",\"\",VLOOKUP(INDEX(campsByItinerary,numericItinerary($A31),BF$3-1),campInfo,12))","v":{"$error":"#VALUE!"}},{"$f":"IF(INDEX(campsByItinerary,numericItinerary($A31),BG$3-1)=\"\",\"\",VLOOKUP(INDEX(campsByItinerary,numericItinerary($A31),BG$3-1),campInfo,12))","v":{"$error":"#VALUE!"}},{"$f":"IF(INDEX(campsByItinerary,numericItinerary($A31),BH$3-1)=\"\",\"\",VLOOKUP(INDEX(campsByItinerary,numericItinerary($A31),BH$3-1),campInfo,12))","v":{"$error":"#VALUE!"}},{"$f":"IF(INDEX(campsByItinerary,numericItinerary($A31),BI$3-1)=\"\",\"\",VLOOKUP(INDEX(campsByItinerary,numericItinerary($A31),BI$3-1),campInfo,12))","v":{"$error":"#VALUE!"}},{"$f":"IF(INDEX(campsByItinerary,numericItinerary($A31),BJ$3-1)=\"\",\"\",VLOOKUP(INDEX(campsByItinerary,numericItinerary($A31),BJ$3-1),campInfo,12))","v":{"$error":"#VALUE!"}},{"$f":"IF(INDEX(campsByItinerary,numericItinerary($A31),BK$3-1)=\"\",\"\",VLOOKUP(INDEX(campsByItinerary,numericItinerary($A31),BK$3-1),campInfo,12))","v":{"$error":"#VALUE!"}},{"$f":"IF(INDEX(campsByItinerary,numericItinerary($A31),BL$3-1)=\"\",\"\",VLOOKUP(INDEX(campsByItinerary,numericItinerary($A31),BL$3-1),campInfo,12))","v":{"$error":"#VALUE!"}},{"$f":"IF(INDEX(campsByItinerary,numericItinerary($A31),BM$3-1)=\"\",\"\",VLOOKUP(INDEX(campsByItinerary,numericItinerary($A31),BM$3-1),campInfo,12))","v":{"$error":"#VALUE!"}},{"$f":"getfoodPU(\"First\",numericItinerary($A31))","v":{"$error":"#VALUE!"}},{"$f":"getfoodPU(\"Max\",numericItinerary($A31))","v":{"$error":"#VALUE!"}}]
["",null,null,null,null,null,null,null,null,null,null,null,null,null,null,null,null,null,null,null,null,null,null,null,null,null,"",null,null,null,null,null,null,"",null,null,"","","","","","","","","","","","","","","","","","","",{"$f":"IF(INDEX(campsByItinerary,numericItinerary($A32),BD$3-1)=\"\",\"\",VLOOKUP(INDEX(campsByItinerary,numericItinerary($A32),BD$3-1),campInfo,8))","v":{"$error":"#VALUE!"}},{"$f":"IF(INDEX(campsByItinerary,numericItinerary($A32),BE$3-1)=\"\",\"\",VLOOKUP(INDEX(campsByItinerary,numericItinerary($A32),BE$3-1),campInfo,8))","v":{"$error":"#VALUE!"}},{"$f":"IF(INDEX(campsByItinerary,numericItinerary($A32),BF$3-1)=\"\",\"\",VLOOKUP(INDEX(campsByItinerary,numericItinerary($A32),BF$3-1),campInfo,8))","v":{"$error":"#VALUE!"}},{"$f":"IF(INDEX(campsByItinerary,numericItinerary($A32),BG$3-1)=\"\",\"\",VLOOKUP(INDEX(campsByItinerary,numericItinerary($A32),BG$3-1),campInfo,8))","v":{"$error":"#VALUE!"}},{"$f":"IF(INDEX(campsByItinerary,numericItinerary($A32),BH$3-1)=\"\",\"\",VLOOKUP(INDEX(campsByItinerary,numericItinerary($A32),BH$3-1),campInfo,8))","v":{"$error":"#VALUE!"}},{"$f":"IF(INDEX(campsByItinerary,numericItinerary($A32),BI$3-1)=\"\",\"\",VLOOKUP(INDEX(campsByItinerary,numericItinerary($A32),BI$3-1),campInfo,8))","v":{"$error":"#VALUE!"}},{"$f":"IF(INDEX(campsByItinerary,numericItinerary($A32),BJ$3-1)=\"\",\"\",VLOOKUP(INDEX(campsByItinerary,numericItinerary($A32),BJ$3-1),campInfo,8))","v":{"$error":"#VALUE!"}},{"$f":"IF(INDEX(campsByItinerary,numericItinerary($A32),BK$3-1)=\"\",\"\",VLOOKUP(INDEX(campsByItinerary,numericItinerary($A32),BK$3-1),campInfo,8))","v":{"$error":"#VALUE!"}},{"$f":"IF(INDEX(campsByItinerary,numericItinerary($A32),BL$3-1)=\"\",\"\",VLOOKUP(INDEX(campsByItinerary,numericItinerary($A32),BL$3-1),campInfo,8))","v":{"$error":"#VALUE!"}},{"$f":"IF(INDEX(campsByItinerary,numericItinerary($A32),BM$3-1)=\"\",\"\",VLOOKUP(INDEX(campsByItinerary,numericItinerary($A32),BM$3-1),campInfo,8))","v":{"$error":"#VALUE!"}},{"$error":"#VALUE!"},{"$error":"#VALUE!"},{"$error":"#VALUE!"},{"$error":"#VALUE!"},{"$error":"#VALUE!"},{"$error":"#VALUE!"},{"$error":"#VALUE!"},{"$error":"#VALUE!"},{"$error":"#VALUE!"},{"$error":"#VALUE!"},{"$f":"IF(INDEX(campsByItinerary,numericItinerary($A32),BD$3-1)=\"\",\"\",VLOOKUP(INDEX(campsByItinerary,numericItinerary($A32),BD$3-1),campInfo,10))","v":{"$error":"#VALUE!"}},{"$f":"IF(INDEX(campsByItinerary,numericItinerary($A32),BE$3-1)=\"\",\"\",VLOOKUP(INDEX(campsByItinerary,numericItinerary($A32),BE$3-1),campInfo,10))","v":{"$error":"#VALUE!"}},{"$f":"IF(INDEX(campsByItinerary,numericItinerary($A32),BF$3-1)=\"\",\"\",VLOOKUP(INDEX(campsByItinerary,numericItinerary($A32),BF$3-1),campInfo,10))","v":{"$error":"#VALUE!"}},{"$f":"IF(INDEX(campsByItinerary,numericItinerary($A32),BG$3-1)=\"\",\"\",VLOOKUP(INDEX(campsByItinerary,numericItinerary($A32),BG$3-1),campInfo,10))","v":{"$error":"#VALUE!"}},{"$f":"IF(INDEX(campsByItinerary,numericItinerary($A32),BH$3-1)=\"\",\"\",VLOOKUP(INDEX(campsByItinerary,numericItinerary($A32),BH$3-1),campInfo,10))","v":{"$error":"#VALUE!"}},{"$f":"IF(INDEX(campsByItinerary,numericItinerary($A32),BI$3-1)=\"\",\"\",VLOOKUP(INDEX(campsByItinerary,numericItinerary($A32),BI$3-1),campInfo,10))","v":{"$error":"#VALUE!"}},{"$f":"IF(INDEX(campsByItinerary,numericItinerary($A32),BJ$3-1)=\"\",\"\",VLOOKUP(INDEX(campsByItinerary,numericItinerary($A32),BJ$3-1),campInfo,10))","v":{"$error":"#VALUE!"}},{"$f":"IF(INDEX(campsByItinerary,numericItinerary($A32),BK$3-1)=\"\",\"\",VLOOKUP(INDEX(campsByItinerary,numericItinerary($A32),BK$3-1),campInfo,10))","v":{"$error":"#VALUE!"}},{"$f":"IF(INDEX(campsByItinerary,numericItinerary($A32),BL$3-1)=\"\",\"\",VLOOKUP(INDEX(campsByItinerary,numericItinerary($A32),BL$3-1),campInfo,10))","v":{"$error":"#VALUE!"}},{"$f":"IF(INDEX(campsByItinerary,numericItinerary($A32),BM$3-1)=\"\",\"\",VLOOKUP(INDEX(campsByItinerary,numericItinerary($A32),BM$3-1),campInfo,10))","v":{"$error":"#VALUE!"}},null,"Y","Y","Y","Y","Y","Y","Y","Y","Y",{"$f":"INDEX(campsByItinerary,numericItinerary($A32),BD$3-1)","v":{"$error":"#VALUE!"}},{"$f":"IF(INDEX(campsByItinerary,numericItinerary($A32),BE$3-1)=\"\",\"\",VLOOKUP(INDEX(campsByItinerary,numericItinerary($A32),BE$3-1),campInfo,2))","v":{"$error":"#VALUE!"}},{"$f":"IF(INDEX(campsByItinerary,numericItinerary($A32),BF$3-1)=\"\",\"\",VLOOKUP(INDEX(campsByItinerary,numericItinerary($A32),BF$3-1),campInfo,2))","v":{"$error":"#VALUE!"}},{"$f":"IF(INDEX(campsByItinerary,numericItinerary($A32),BG$3-1)=\"\",\"\",VLOOKUP(INDEX(campsByItinerary,numericItinerary($A32),BG$3-1),campInfo,2))","v":{"$error":"#VALUE!"}},{"$f":"IF(INDEX(campsByItinerary,numericItinerary($A32),BH$3-1)=\"\",\"\",VLOOKUP(INDEX(campsByItinerary,numericItinerary($A32),BH$3-1),campInfo,2))","v":{"$error":"#VALUE!"}},{"$f":"IF(INDEX(campsByItinerary,numericItinerary($A32),BI$3-1)=\"\",\"\",VLOOKUP(INDEX(campsByItinerary,numericItinerary($A32),BI$3-1),campInfo,2))","v":{"$error":"#VALUE!"}},{"$f":"IF(INDEX(campsByItinerary,numericItinerary($A32),BJ$3-1)=\"\",\"\",VLOOKUP(INDEX(campsByItinerary,numericItinerary($A32),BJ$3-1),campInfo,2))","v":{"$error":"#VALUE!"}},{"$f":"IF(INDEX(campsByItinerary,numericItinerary($A32),BK$3-1)=\"\",\"\",VLOOKUP(INDEX(campsByItinerary,numericItinerary($A32),BK$3-1),campInfo,2))","v":{"$error":"#VALUE!"}},{"$f":"IF(INDEX(campsByItinerary,numericItinerary($A32),BL$3-1)=\"\",\"\",VLOOKUP(INDEX(campsByItinerary,numericItinerary($A32),BL$3-1),campInfo,2))","v":{"$error":"#VALUE!"}},{"$f":"IF(INDEX(campsByItinerary,numericItinerary($A32),BM$3-1)=\"\",\"\",VLOOKUP(INDEX(campsByItinerary,numericItinerary($A32),BM$3-1),campInfo,2))","v":{"$error":"#VALUE!"}},{"$f":"IF(INDEX(campsByItinerary,numericItinerary($A32),BD$3-1)=\"\",\"\",VLOOKUP(INDEX(campsByItinerary,numericItinerary($A32),BD$3-1),campInfo,12))","v":{"$error":"#VALUE!"}},{"$f":"IF(INDEX(campsByItinerary,numericItinerary($A32),BE$3-1)=\"\",\"\",VLOOKUP(INDEX(campsByItinerary,numericItinerary($A32),BE$3-1),campInfo,12))","v":{"$error":"#VALUE!"}},{"$f":"IF(INDEX(campsByItinerary,numericItinerary($A32),BF$3-1)=\"\",\"\",VLOOKUP(INDEX(campsByItinerary,numericItinerary($A32),BF$3-1),campInfo,12))","v":{"$error":"#VALUE!"}},{"$f":"IF(INDEX(campsByItinerary,numericItinerary($A32),BG$3-1)=\"\",\"\",VLOOKUP(INDEX(campsByItinerary,numericItinerary($A32),BG$3-1),campInfo,12))","v":{"$error":"#VALUE!"}},{"$f":"IF(INDEX(campsByItinerary,numericItinerary($A32),BH$3-1)=\"\",\"\",VLOOKUP(INDEX(campsByItinerary,numericItinerary($A32),BH$3-1),campInfo,12))","v":{"$error":"#VALUE!"}},{"$f":"IF(INDEX(campsByItinerary,numericItinerary($A32),BI$3-1)=\"\",\"\",VLOOKUP(INDEX(campsByItinerary,numericItinerary($A32),BI$3-1),campInfo,12))","v":{"$error":"#VALUE!"}},{"$f":"IF(INDEX(campsByItinerary,numericItinerary($A32),BJ$3-1)=\"\",\"\",VLOOKUP(INDEX(campsByItinerary,numericItinerary($A32),BJ$3-1),campInfo,12))","v":{"$error":"#VALUE!"}},{"$f":"IF(INDEX(campsByItinerary,numericItinerary($A32),BK$3-1)=\"\",\"\",VLOOKUP(INDEX(campsByItinerary,numericItinerary($A32),BK$3-1),campInfo,12))","v":{"$error":"#VALUE!"}},{"$f":"IF(INDEX(campsByItinerary,numericItinerary($A32),BL$3-1)=\"\",\"\",VLOOKUP(INDEX(campsByItinerary,numericItinerary($A32),BL$3-1),campInfo,12))","v":{"$error":"#VALUE!"}},{"$f":"IF(INDEX(campsByItinerary,numericItinerary($A32),BM$3-1)=\"\",\"\",VLOOKUP(INDEX(campsByItinerary,numericItinerary($A32),BM$3-1),campInfo,12))","v":{"$error":"#VALUE!"}},{"$f":"getfoodPU(\"First\",numericItinerary($A32))","v":{"$error":"#VALUE!"}},{"$f":"getfoodPU(\"Max\",numericItinerary($A32))","v":{"$error":"#VALUE!"}}]
["",null,null,null,null,null,null,null,null,null,null,null,null,null,null,null,null,null,null,null,null,null,null,null,null,null,"",null,null,null,null,null,null,"",null,null,"","","","","","","","","","","","","","","","","","","",{"$f":"IF(INDEX(campsByItinerary,numericItinerary($A33),BD$3-1)=\"\",\"\",VLOOKUP(INDEX(campsByItinerary,numericItinerary($A33),BD$3-1),campInfo,8))","v":{"$error":"#VALUE!"}},{"$f":"IF(INDEX(campsByItinerary,numericItinerary($A33),BE$3-1)=\"\",\"\",VLOOKUP(INDEX(campsByItinerary,numericItinerary($A33),BE$3-1),campInfo,8))","v":{"$error":"#VALUE!"}},{"$f":"IF(INDEX(campsByItinerary,numericItinerary($A33),BF$3-1)=\"\",\"\",VLOOKUP(INDEX(campsByItinerary,numericItinerary($A33),BF$3-1),campInfo,8))","v":{"$error":"#VALUE!"}},{"$f":"IF(INDEX(campsByItinerary,numericItinerary($A33),BG$3-1)=\"\",\"\",VLOOKUP(INDEX(campsByItinerary,numericItinerary($A33),BG$3-1),campInfo,8))","v":{"$error":"#VALUE!"}},{"$f":"IF(INDEX(campsByItinerary,numericItinerary($A33),BH$3-1)=\"\",\"\",VLOOKUP(INDEX(campsByItinerary,numericItinerary($A33),BH$3-1),campInfo,8))","v":{"$error":"#VALUE!"}},{"$f":"IF(INDEX(campsByItinerary,numericItinerary($A33),BI$3-1)=\"\",\"\",VLOOKUP(INDEX(campsByItinerary,numericItinerary($A33),BI$3-1),campInfo,8))","v":{"$error":"#VALUE!"}},{"$f":"IF(INDEX(campsByItinerary,numericItinerary($A33),BJ$3-1)=\"\",\"\",VLOOKUP(INDEX(campsByItinerary,numericItinerary($A33),BJ$3-1),campInfo,8))","v":{"$error":"#VALUE!"}},{"$f":"IF(INDEX(campsByItinerary,numericItinerary($A33),BK$3-1)=\"\",\"\",VLOOKUP(INDEX(campsByItinerary,numericItinerary($A33),BK$3-1),campInfo,8))","v":{"$error":"#VALUE!"}},{"$f":"IF(INDEX(campsByItinerary,numericItinerary($A33),BL$3-1)=\"\",\"\",VLOOKUP(INDEX(campsByItinerary,numericItinerary($A33),BL$3-1),campInfo,8))","v":{"$error":"#VALUE!"}},{"$f":"IF(INDEX(campsByItinerary,numericItinerary($A33),BM$3-1)=\"\",\"\",VLOOKUP(INDEX(campsByItinerary,numericItinerary($A33),BM$3-1),campInfo,8))","v":{"$error":"#VALUE!"}},{"$error":"#VALUE!"},{"$error":"#VALUE!"},{"$error":"#VALUE!"},{"$error":"#VALUE!"},{"$error":"#VALUE!"},{"$error":"#VALUE!"},{"$error":"#VALUE!"},{"$error":"#VALUE!"},{"$error":"#VALUE!"},{"$error":"#VALUE!"},{"$f":"IF(INDEX(campsByItinerary,numericItinerary($A33),BD$3-1)=\"\",\"\",VLOOKUP(INDEX(campsByItinerary,numericItinerary($A33),BD$3-1),campInfo,10))","v":{"$error":"#VALUE!"}},{"$f":"IF(INDEX(campsByItinerary,numericItinerary($A33),BE$3-1)=\"\",\"\",VLOOKUP(INDEX(campsByItinerary,numericItinerary($A33),BE$3-1),campInfo,10))","v":{"$error":"#VALUE!"}},{"$f":"IF(INDEX(campsByItinerary,numericItinerary($A33),BF$3-1)=\"\",\"\",VLOOKUP(INDEX(campsByItinerary,numericItinerary($A33),BF$3-1),campInfo,10))","v":{"$error":"#VALUE!"}},{"$f":"IF(INDEX(campsByItinerary,numericItinerary($A33),BG$3-1)=\"\",\"\",VLOOKUP(INDEX(campsByItinerary,numericItinerary($A33),BG$3-1),campInfo,10))","v":{"$error":"#VALUE!"}},{"$f":"IF(INDEX(campsByItinerary,numericItinerary($A33),BH$3-1)=\"\",\"\",VLOOKUP(INDEX(campsByItinerary,numericItinerary($A33),BH$3-1),campInfo,10))","v":{"$error":"#VALUE!"}},{"$f":"IF(INDEX(campsByItinerary,numericItinerary($A33),BI$3-1)=\"\",\"\",VLOOKUP(INDEX(campsByItinerary,numericItinerary($A33),BI$3-1),campInfo,10))","v":{"$error":"#VALUE!"}},{"$f":"IF(INDEX(campsByItinerary,numericItinerary($A33),BJ$3-1)=\"\",\"\",VLOOKUP(INDEX(campsByItinerary,numericItinerary($A33),BJ$3-1),campInfo,10))","v":{"$error":"#VALUE!"}},{"$f":"IF(INDEX(campsByItinerary,numericItinerary($A33),BK$3-1)=\"\",\"\",VLOOKUP(INDEX(campsByItinerary,numericItinerary($A33),BK$3-1),campInfo,10))","v":{"$error":"#VALUE!"}},{"$f":"IF(INDEX(campsByItinerary,numericItinerary($A33),BL$3-1)=\"\",\"\",VLOOKUP(INDEX(campsByItinerary,numericItinerary($A33),BL$3-1),campInfo,10))","v":{"$error":"#VALUE!"}},{"$f":"IF(INDEX(campsByItinerary,numericItinerary($A33),BM$3-1)=\"\",\"\",VLOOKUP(INDEX(campsByItinerary,numericItinerary($A33),BM$3-1),campInfo,10))","v":{"$error":"#VALUE!"}},null,"Y","Y","Y","Y","Y","Y","Y","Y","Y",{"$f":"INDEX(campsByItinerary,numericItinerary($A33),BD$3-1)","v":{"$error":"#VALUE!"}},{"$f":"IF(INDEX(campsByItinerary,numericItinerary($A33),BE$3-1)=\"\",\"\",VLOOKUP(INDEX(campsByItinerary,numericItinerary($A33),BE$3-1),campInfo,2))","v":{"$error":"#VALUE!"}},{"$f":"IF(INDEX(campsByItinerary,numericItinerary($A33),BF$3-1)=\"\",\"\",VLOOKUP(INDEX(campsByItinerary,numericItinerary($A33),BF$3-1),campInfo,2))","v":{"$error":"#VALUE!"}},{"$f":"IF(INDEX(campsByItinerary,numericItinerary($A33),BG$3-1)=\"\",\"\",VLOOKUP(INDEX(campsByItinerary,numericItinerary($A33),BG$3-1),campInfo,2))","v":{"$error":"#VALUE!"}},{"$f":"IF(INDEX(campsByItinerary,numericItinerary($A33),BH$3-1)=\"\",\"\",VLOOKUP(INDEX(campsByItinerary,numericItinerary($A33),BH$3-1),campInfo,2))","v":{"$error":"#VALUE!"}},{"$f":"IF(INDEX(campsByItinerary,numericItinerary($A33),BI$3-1)=\"\",\"\",VLOOKUP(INDEX(campsByItinerary,numericItinerary($A33),BI$3-1),campInfo,2))","v":{"$error":"#VALUE!"}},{"$f":"IF(INDEX(campsByItinerary,numericItinerary($A33),BJ$3-1)=\"\",\"\",VLOOKUP(INDEX(campsByItinerary,numericItinerary($A33),BJ$3-1),campInfo,2))","v":{"$error":"#VALUE!"}},{"$f":"IF(INDEX(campsByItinerary,numericItinerary($A33),BK$3-1)=\"\",\"\",VLOOKUP(INDEX(campsByItinerary,numericItinerary($A33),BK$3-1),campInfo,2))","v":{"$error":"#VALUE!"}},{"$f":"IF(INDEX(campsByItinerary,numericItinerary($A33),BL$3-1)=\"\",\"\",VLOOKUP(INDEX(campsByItinerary,numericItinerary($A33),BL$3-1),campInfo,2))","v":{"$error":"#VALUE!"}},{"$f":"IF(INDEX(campsByItinerary,numericItinerary($A33),BM$3-1)=\"\",\"\",VLOOKUP(INDEX(campsByItinerary,numericItinerary($A33),BM$3-1),campInfo,2))","v":{"$error":"#VALUE!"}},{"$f":"IF(INDEX(campsByItinerary,numericItinerary($A33),BD$3-1)=\"\",\"\",VLOOKUP(INDEX(campsByItinerary,numericItinerary($A33),BD$3-1),campInfo,12))","v":{"$error":"#VALUE!"}},{"$f":"IF(INDEX(campsByItinerary,numericItinerary($A33),BE$3-1)=\"\",\"\",VLOOKUP(INDEX(campsByItinerary,numericItinerary($A33),BE$3-1),campInfo,12))","v":{"$error":"#VALUE!"}},{"$f":"IF(INDEX(campsByItinerary,numericItinerary($A33),BF$3-1)=\"\",\"\",VLOOKUP(INDEX(campsByItinerary,numericItinerary($A33),BF$3-1),campInfo,12))","v":{"$error":"#VALUE!"}},{"$f":"IF(INDEX(campsByItinerary,numericItinerary($A33),BG$3-1)=\"\",\"\",VLOOKUP(INDEX(campsByItinerary,numericItinerary($A33),BG$3-1),campInfo,12))","v":{"$error":"#VALUE!"}},{"$f":"IF(INDEX(campsByItinerary,numericItinerary($A33),BH$3-1)=\"\",\"\",VLOOKUP(INDEX(campsByItinerary,numericItinerary($A33),BH$3-1),campInfo,12))","v":{"$error":"#VALUE!"}},{"$f":"IF(INDEX(campsByItinerary,numericItinerary($A33),BI$3-1)=\"\",\"\",VLOOKUP(INDEX(campsByItinerary,numericItinerary($A33),BI$3-1),campInfo,12))","v":{"$error":"#VALUE!"}},{"$f":"IF(INDEX(campsByItinerary,numericItinerary($A33),BJ$3-1)=\"\",\"\",VLOOKUP(INDEX(campsByItinerary,numericItinerary($A33),BJ$3-1),campInfo,12))","v":{"$error":"#VALUE!"}},{"$f":"IF(INDEX(campsByItinerary,numericItinerary($A33),BK$3-1)=\"\",\"\",VLOOKUP(INDEX(campsByItinerary,numericItinerary($A33),BK$3-1),campInfo,12))","v":{"$error":"#VALUE!"}},{"$f":"IF(INDEX(campsByItinerary,numericItinerary($A33),BL$3-1)=\"\",\"\",VLOOKUP(INDEX(campsByItinerary,numericItinerary($A33),BL$3-1),campInfo,12))","v":{"$error":"#VALUE!"}},{"$f":"IF(INDEX(campsByItinerary,numericItinerary($A33),BM$3-1)=\"\",\"\",VLOOKUP(INDEX(campsByItinerary,numericItinerary($A33),BM$3-1),campInfo,12))","v":{"$error":"#VALUE!"}},{"$f":"getfoodPU(\"First\",numericItinerary($A33))","v":{"$error":"#VALUE!"}},{"$f":"getfoodPU(\"Max\",numericItinerary($A33))","v":{"$error":"#VALUE!"}}]
["",null,null,null,null,null,null,null,null,null,null,null,null,null,null,null,null,null,null,null,null,null,null,null,null,null,"",null,null,null,null,null,null,"",null,null,"","","","","","","","","","","","","","","","","","","",{"$f":"IF(INDEX(campsByItinerary,numericItinerary($A34),BD$3-1)=\"\",\"\",VLOOKUP(INDEX(campsByItinerary,numericItinerary($A34),BD$3-1),campInfo,8))","v":{"$error":"#VALUE!"}},{"$f":"IF(INDEX(campsByItinerary,numericItinerary($A34),BE$3-1)=\"\",\"\",VLOOKUP(INDEX(campsByItinerary,numericItinerary($A34),BE$3-1),campInfo,8))","v":{"$error":"#VALUE!"}},{"$f":"IF(INDEX(campsByItinerary,numericItinerary($A34),BF$3-1)=\"\",\"\",VLOOKUP(INDEX(campsByItinerary,numericItinerary($A34),BF$3-1),campInfo,8))","v":{"$error":"#VALUE!"}},{"$f":"IF(INDEX(campsByItinerary,numericItinerary($A34),BG$3-1)=\"\",\"\",VLOOKUP(INDEX(campsByItinerary,numericItinerary($A34),BG$3-1),campInfo,8))","v":{"$error":"#VALUE!"}},{"$f":"IF(INDEX(campsByItinerary,numericItinerary($A34),BH$3-1)=\"\",\"\",VLOOKUP(INDEX(campsByItinerary,numericItinerary($A34),BH$3-1),campInfo,8))","v":{"$error":"#VALUE!"}},{"$f":"IF(INDEX(campsByItinerary,numericItinerary($A34),BI$3-1)=\"\",\"\",VLOOKUP(INDEX(campsByItinerary,numericItinerary($A34),BI$3-1),campInfo,8))","v":{"$error":"#VALUE!"}},{"$f":"IF(INDEX(campsByItinerary,numericItinerary($A34),BJ$3-1)=\"\",\"\",VLOOKUP(INDEX(campsByItinerary,numericItinerary($A34),BJ$3-1),campInfo,8))","v":{"$error":"#VALUE!"}},{"$f":"IF(INDEX(campsByItinerary,numericItinerary($A34),BK$3-1)=\"\",\"\",VLOOKUP(INDEX(campsByItinerary,numericItinerary($A34),BK$3-1),campInfo,8))","v":{"$error":"#VALUE!"}},{"$f":"IF(INDEX(campsByItinerary,numericItinerary($A34),BL$3-1)=\"\",\"\",VLOOKUP(INDEX(campsByItinerary,numericItinerary($A34),BL$3-1),campInfo,8))","v":{"$error":"#VALUE!"}},{"$f":"IF(INDEX(campsByItinerary,numericItinerary($A34),BM$3-1)=\"\",\"\",VLOOKUP(INDEX(campsByItinerary,numericItinerary($A34),BM$3-1),campInfo,8))","v":{"$error":"#VALUE!"}},{"$error":"#VALUE!"},{"$error":"#VALUE!"},{"$error":"#VALUE!"},{"$error":"#VALUE!"},{"$error":"#VALUE!"},{"$error":"#VALUE!"},{"$error":"#VALUE!"},{"$error":"#VALUE!"},{"$error":"#VALUE!"},{"$error":"#VALUE!"},{"$f":"IF(INDEX(campsByItinerary,numericItinerary($A34),BD$3-1)=\"\",\"\",VLOOKUP(INDEX(campsByItinerary,numericItinerary($A34),BD$3-1),campInfo,10))","v":{"$error":"#VALUE!"}},{"$f":"IF(INDEX(campsByItinerary,numericItinerary($A34),BE$3-1)=\"\",\"\",VLOOKUP(INDEX(campsByItinerary,numericItinerary($A34),BE$3-1),campInfo,10))","v":{"$error":"#VALUE!"}},{"$f":"IF(INDEX(campsByItinerary,numericItinerary($A34),BF$3-1)=\"\",\"\",VLOOKUP(INDEX(campsByItinerary,numericItinerary($A34),BF$3-1),campInfo,10))","v":{"$error":"#VALUE!"}},{"$f":"IF(INDEX(campsByItinerary,numericItinerary($A34),BG$3-1)=\"\",\"\",VLOOKUP(INDEX(campsByItinerary,numericItinerary($A34),BG$3-1),campInfo,10))","v":{"$error":"#VALUE!"}},{"$f":"IF(INDEX(campsByItinerary,numericItinerary($A34),BH$3-1)=\"\",\"\",VLOOKUP(INDEX(campsByItinerary,numericItinerary($A34),BH$3-1),campInfo,10))","v":{"$error":"#VALUE!"}},{"$f":"IF(INDEX(campsByItinerary,numericItinerary($A34),BI$3-1)=\"\",\"\",VLOOKUP(INDEX(campsByItinerary,numericItinerary($A34),BI$3-1),campInfo,10))","v":{"$error":"#VALUE!"}},{"$f":"IF(INDEX(campsByItinerary,numericItinerary($A34),BJ$3-1)=\"\",\"\",VLOOKUP(INDEX(campsByItinerary,numericItinerary($A34),BJ$3-1),campInfo,10))","v":{"$error":"#VALUE!"}},{"$f":"IF(INDEX(campsByItinerary,numericItinerary($A34),BK$3-1)=\"\",\"\",VLOOKUP(INDEX(campsByItinerary,numericItinerary($A34),BK$3-1),campInfo,10))","v":{"$error":"#VALUE!"}},{"$f":"IF(INDEX(campsByItinerary,numericItinerary($A34),BL$3-1)=\"\",\"\",VLOOKUP(INDEX(campsByItinerary,numericItinerary($A34),BL$3-1),campInfo,10))","v":{"$error":"#VALUE!"}},{"$f":"IF(INDEX(campsByItinerary,numericItinerary($A34),BM$3-1)=\"\",\"\",VLOOKUP(INDEX(campsByItinerary,numericItinerary($A34),BM$3-1),campInfo,10))","v":{"$error":"#VALUE!"}},null,"Y","Y","Y","Y","Y","Y","Y","Y","Y",{"$f":"INDEX(campsByItinerary,numericItinerary($A34),BD$3-1)","v":{"$error":"#VALUE!"}},{"$f":"IF(INDEX(campsByItinerary,numericItinerary($A34),BE$3-1)=\"\",\"\",VLOOKUP(INDEX(campsByItinerary,numericItinerary($A34),BE$3-1),campInfo,2))","v":{"$error":"#VALUE!"}},{"$f":"IF(INDEX(campsByItinerary,numericItinerary($A34),BF$3-1)=\"\",\"\",VLOOKUP(INDEX(campsByItinerary,numericItinerary($A34),BF$3-1),campInfo,2))","v":{"$error":"#VALUE!"}},{"$f":"IF(INDEX(campsByItinerary,numericItinerary($A34),BG$3-1)=\"\",\"\",VLOOKUP(INDEX(campsByItinerary,numericItinerary($A34),BG$3-1),campInfo,2))","v":{"$error":"#VALUE!"}},{"$f":"IF(INDEX(campsByItinerary,numericItinerary($A34),BH$3-1)=\"\",\"\",VLOOKUP(INDEX(campsByItinerary,numericItinerary($A34),BH$3-1),campInfo,2))","v":{"$error":"#VALUE!"}},{"$f":"IF(INDEX(campsByItinerary,numericItinerary($A34),BI$3-1)=\"\",\"\",VLOOKUP(INDEX(campsByItinerary,numericItinerary($A34),BI$3-1),campInfo,2))","v":{"$error":"#VALUE!"}},{"$f":"IF(INDEX(campsByItinerary,numericItinerary($A34),BJ$3-1)=\"\",\"\",VLOOKUP(INDEX(campsByItinerary,numericItinerary($A34),BJ$3-1),campInfo,2))","v":{"$error":"#VALUE!"}},{"$f":"IF(INDEX(campsByItinerary,numericItinerary($A34),BK$3-1)=\"\",\"\",VLOOKUP(INDEX(campsByItinerary,numericItinerary($A34),BK$3-1),campInfo,2))","v":{"$error":"#VALUE!"}},{"$f":"IF(INDEX(campsByItinerary,numericItinerary($A34),BL$3-1)=\"\",\"\",VLOOKUP(INDEX(campsByItinerary,numericItinerary($A34),BL$3-1),campInfo,2))","v":{"$error":"#VALUE!"}},{"$f":"IF(INDEX(campsByItinerary,numericItinerary($A34),BM$3-1)=\"\",\"\",VLOOKUP(INDEX(campsByItinerary,numericItinerary($A34),BM$3-1),campInfo,2))","v":{"$error":"#VALUE!"}},{"$f":"IF(INDEX(campsByItinerary,numericItinerary($A34),BD$3-1)=\"\",\"\",VLOOKUP(INDEX(campsByItinerary,numericItinerary($A34),BD$3-1),campInfo,12))","v":{"$error":"#VALUE!"}},{"$f":"IF(INDEX(campsByItinerary,numericItinerary($A34),BE$3-1)=\"\",\"\",VLOOKUP(INDEX(campsByItinerary,numericItinerary($A34),BE$3-1),campInfo,12))","v":{"$error":"#VALUE!"}},{"$f":"IF(INDEX(campsByItinerary,numericItinerary($A34),BF$3-1)=\"\",\"\",VLOOKUP(INDEX(campsByItinerary,numericItinerary($A34),BF$3-1),campInfo,12))","v":{"$error":"#VALUE!"}},{"$f":"IF(INDEX(campsByItinerary,numericItinerary($A34),BG$3-1)=\"\",\"\",VLOOKUP(INDEX(campsByItinerary,numericItinerary($A34),BG$3-1),campInfo,12))","v":{"$error":"#VALUE!"}},{"$f":"IF(INDEX(campsByItinerary,numericItinerary($A34),BH$3-1)=\"\",\"\",VLOOKUP(INDEX(campsByItinerary,numericItinerary($A34),BH$3-1),campInfo,12))","v":{"$error":"#VALUE!"}},{"$f":"IF(INDEX(campsByItinerary,numericItinerary($A34),BI$3-1)=\"\",\"\",VLOOKUP(INDEX(campsByItinerary,numericItinerary($A34),BI$3-1),campInfo,12))","v":{"$error":"#VALUE!"}},{"$f":"IF(INDEX(campsByItinerary,numericItinerary($A34),BJ$3-1)=\"\",\"\",VLOOKUP(INDEX(campsByItinerary,numericItinerary($A34),BJ$3-1),campInfo,12))","v":{"$error":"#VALUE!"}},{"$f":"IF(INDEX(campsByItinerary,numericItinerary($A34),BK$3-1)=\"\",\"\",VLOOKUP(INDEX(campsByItinerary,numericItinerary($A34),BK$3-1),campInfo,12))","v":{"$error":"#VALUE!"}},{"$f":"IF(INDEX(campsByItinerary,numericItinerary($A34),BL$3-1)=\"\",\"\",VLOOKUP(INDEX(campsByItinerary,numericItinerary($A34),BL$3-1),campInfo,12))","v":{"$error":"#VALUE!"}},{"$f":"IF(INDEX(campsByItinerary,numericItinerary($A34),BM$3-1)=\"\",\"\",VLOOKUP(INDEX(campsByItinerary,numericItinerary($A34),BM$3-1),campInfo,12))","v":{"$error":"#VALUE!"}},{"$f":"getfoodPU(\"First\",numericItinerary($A34))","v":{"$error":"#VALUE!"}},{"$f":"getfoodPU(\"Max\",numericItinerary($A34))","v":{"$error":"#VALUE!"}}]
["",null,null,null,null,null,null,null,null,null,null,null,null,null,null,null,null,null,null,null,null,null,null,null,null,null,"",null,null,null,null,null,null,"",null,null,"","","","","","","","","","","","","","","","","","","",{"$f":"IF(INDEX(campsByItinerary,numericItinerary($A35),BD$3-1)=\"\",\"\",VLOOKUP(INDEX(campsByItinerary,numericItinerary($A35),BD$3-1),campInfo,8))","v":{"$error":"#VALUE!"}},{"$f":"IF(INDEX(campsByItinerary,numericItinerary($A35),BE$3-1)=\"\",\"\",VLOOKUP(INDEX(campsByItinerary,numericItinerary($A35),BE$3-1),campInfo,8))","v":{"$error":"#VALUE!"}},{"$f":"IF(INDEX(campsByItinerary,numericItinerary($A35),BF$3-1)=\"\",\"\",VLOOKUP(INDEX(campsByItinerary,numericItinerary($A35),BF$3-1),campInfo,8))","v":{"$error":"#VALUE!"}},{"$f":"IF(INDEX(campsByItinerary,numericItinerary($A35),BG$3-1)=\"\",\"\",VLOOKUP(INDEX(campsByItinerary,numericItinerary($A35),BG$3-1),campInfo,8))","v":{"$error":"#VALUE!"}},{"$f":"IF(INDEX(campsByItinerary,numericItinerary($A35),BH$3-1)=\"\",\"\",VLOOKUP(INDEX(campsByItinerary,numericItinerary($A35),BH$3-1),campInfo,8))","v":{"$error":"#VALUE!"}},{"$f":"IF(INDEX(campsByItinerary,numericItinerary($A35),BI$3-1)=\"\",\"\",VLOOKUP(INDEX(campsByItinerary,numericItinerary($A35),BI$3-1),campInfo,8))","v":{"$error":"#VALUE!"}},{"$f":"IF(INDEX(campsByItinerary,numericItinerary($A35),BJ$3-1)=\"\",\"\",VLOOKUP(INDEX(campsByItinerary,numericItinerary($A35),BJ$3-1),campInfo,8))","v":{"$error":"#VALUE!"}},{"$f":"IF(INDEX(campsByItinerary,numericItinerary($A35),BK$3-1)=\"\",\"\",VLOOKUP(INDEX(campsByItinerary,numericItinerary($A35),BK$3-1),campInfo,8))","v":{"$error":"#VALUE!"}},{"$f":"IF(INDEX(campsByItinerary,numericItinerary($A35),BL$3-1)=\"\",\"\",VLOOKUP(INDEX(campsByItinerary,numericItinerary($A35),BL$3-1),campInfo,8))","v":{"$error":"#VALUE!"}},{"$f":"IF(INDEX(campsByItinerary,numericItinerary($A35),BM$3-1)=\"\",\"\",VLOOKUP(INDEX(campsByItinerary,numericItinerary($A35),BM$3-1),campInfo,8))","v":{"$error":"#VALUE!"}},{"$error":"#VALUE!"},{"$error":"#VALUE!"},{"$error":"#VALUE!"},{"$error":"#VALUE!"},{"$error":"#VALUE!"},{"$error":"#VALUE!"},{"$error":"#VALUE!"},{"$error":"#VALUE!"},{"$error":"#VALUE!"},{"$error":"#VALUE!"},{"$f":"IF(INDEX(campsByItinerary,numericItinerary($A35),BD$3-1)=\"\",\"\",VLOOKUP(INDEX(campsByItinerary,numericItinerary($A35),BD$3-1),campInfo,10))","v":{"$error":"#VALUE!"}},{"$f":"IF(INDEX(campsByItinerary,numericItinerary($A35),BE$3-1)=\"\",\"\",VLOOKUP(INDEX(campsByItinerary,numericItinerary($A35),BE$3-1),campInfo,10))","v":{"$error":"#VALUE!"}},{"$f":"IF(INDEX(campsByItinerary,numericItinerary($A35),BF$3-1)=\"\",\"\",VLOOKUP(INDEX(campsByItinerary,numericItinerary($A35),BF$3-1),campInfo,10))","v":{"$error":"#VALUE!"}},{"$f":"IF(INDEX(campsByItinerary,numericItinerary($A35),BG$3-1)=\"\",\"\",VLOOKUP(INDEX(campsByItinerary,numericItinerary($A35),BG$3-1),campInfo,10))","v":{"$error":"#VALUE!"}},{"$f":"IF(INDEX(campsByItinerary,numericItinerary($A35),BH$3-1)=\"\",\"\",VLOOKUP(INDEX(campsByItinerary,numericItinerary($A35),BH$3-1),campInfo,10))","v":{"$error":"#VALUE!"}},{"$f":"IF(INDEX(campsByItinerary,numericItinerary($A35),BI$3-1)=\"\",\"\",VLOOKUP(INDEX(campsByItinerary,numericItinerary($A35),BI$3-1),campInfo,10))","v":{"$error":"#VALUE!"}},{"$f":"IF(INDEX(campsByItinerary,numericItinerary($A35),BJ$3-1)=\"\",\"\",VLOOKUP(INDEX(campsByItinerary,numericItinerary($A35),BJ$3-1),campInfo,10))","v":{"$error":"#VALUE!"}},{"$f":"IF(INDEX(campsByItinerary,numericItinerary($A35),BK$3-1)=\"\",\"\",VLOOKUP(INDEX(campsByItinerary,numericItinerary($A35),BK$3-1),campInfo,10))","v":{"$error":"#VALUE!"}},{"$f":"IF(INDEX(campsByItinerary,numericItinerary($A35),BL$3-1)=\"\",\"\",VLOOKUP(INDEX(campsByItinerary,numericItinerary($A35),BL$3-1),campInfo,10))","v":{"$error":"#VALUE!"}},{"$f":"IF(INDEX(campsByItinerary,numericItinerary($A35),BM$3-1)=\"\",\"\",VLOOKUP(INDEX(campsByItinerary,numericItinerary($A35),BM$3-1),campInfo,10))","v":{"$error":"#VALUE!"}},null,"Y","Y","Y","Y","Y","Y","Y","Y","Y",{"$f":"INDEX(campsByItinerary,numericItinerary($A35),BD$3-1)","v":{"$error":"#VALUE!"}},{"$f":"IF(INDEX(campsByItinerary,numericItinerary($A35),BE$3-1)=\"\",\"\",VLOOKUP(INDEX(campsByItinerary,numericItinerary($A35),BE$3-1),campInfo,2))","v":{"$error":"#VALUE!"}},{"$f":"IF(INDEX(campsByItinerary,numericItinerary($A35),BF$3-1)=\"\",\"\",VLOOKUP(INDEX(campsByItinerary,numericItinerary($A35),BF$3-1),campInfo,2))","v":{"$error":"#VALUE!"}},{"$f":"IF(INDEX(campsByItinerary,numericItinerary($A35),BG$3-1)=\"\",\"\",VLOOKUP(INDEX(campsByItinerary,numericItinerary($A35),BG$3-1),campInfo,2))","v":{"$error":"#VALUE!"}},{"$f":"IF(INDEX(campsByItinerary,numericItinerary($A35),BH$3-1)=\"\",\"\",VLOOKUP(INDEX(campsByItinerary,numericItinerary($A35),BH$3-1),campInfo,2))","v":{"$error":"#VALUE!"}},{"$f":"IF(INDEX(campsByItinerary,numericItinerary($A35),BI$3-1)=\"\",\"\",VLOOKUP(INDEX(campsByItinerary,numericItinerary($A35),BI$3-1),campInfo,2))","v":{"$error":"#VALUE!"}},{"$f":"IF(INDEX(campsByItinerary,numericItinerary($A35),BJ$3-1)=\"\",\"\",VLOOKUP(INDEX(campsByItinerary,numericItinerary($A35),BJ$3-1),campInfo,2))","v":{"$error":"#VALUE!"}},{"$f":"IF(INDEX(campsByItinerary,numericItinerary($A35),BK$3-1)=\"\",\"\",VLOOKUP(INDEX(campsByItinerary,numericItinerary($A35),BK$3-1),campInfo,2))","v":{"$error":"#VALUE!"}},{"$f":"IF(INDEX(campsByItinerary,numericItinerary($A35),BL$3-1)=\"\",\"\",VLOOKUP(INDEX(campsByItinerary,numericItinerary($A35),BL$3-1),campInfo,2))","v":{"$error":"#VALUE!"}},{"$f":"IF(INDEX(campsByItinerary,numericItinerary($A35),BM$3-1)=\"\",\"\",VLOOKUP(INDEX(campsByItinerary,numericItinerary($A35),BM$3-1),campInfo,2))","v":{"$error":"#VALUE!"}},{"$f":"IF(INDEX(campsByItinerary,numericItinerary($A35),BD$3-1)=\"\",\"\",VLOOKUP(INDEX(campsByItinerary,numericItinerary($A35),BD$3-1),campInfo,12))","v":{"$error":"#VALUE!"}},{"$f":"IF(INDEX(campsByItinerary,numericItinerary($A35),BE$3-1)=\"\",\"\",VLOOKUP(INDEX(campsByItinerary,numericItinerary($A35),BE$3-1),campInfo,12))","v":{"$error":"#VALUE!"}},{"$f":"IF(INDEX(campsByItinerary,numericItinerary($A35),BF$3-1)=\"\",\"\",VLOOKUP(INDEX(campsByItinerary,numericItinerary($A35),BF$3-1),campInfo,12))","v":{"$error":"#VALUE!"}},{"$f":"IF(INDEX(campsByItinerary,numericItinerary($A35),BG$3-1)=\"\",\"\",VLOOKUP(INDEX(campsByItinerary,numericItinerary($A35),BG$3-1),campInfo,12))","v":{"$error":"#VALUE!"}},{"$f":"IF(INDEX(campsByItinerary,numericItinerary($A35),BH$3-1)=\"\",\"\",VLOOKUP(INDEX(campsByItinerary,numericItinerary($A35),BH$3-1),campInfo,12))","v":{"$error":"#VALUE!"}},{"$f":"IF(INDEX(campsByItinerary,numericItinerary($A35),BI$3-1)=\"\",\"\",VLOOKUP(INDEX(campsByItinerary,numericItinerary($A35),BI$3-1),campInfo,12))","v":{"$error":"#VALUE!"}},{"$f":"IF(INDEX(campsByItinerary,numericItinerary($A35),BJ$3-1)=\"\",\"\",VLOOKUP(INDEX(campsByItinerary,numericItinerary($A35),BJ$3-1),campInfo,12))","v":{"$error":"#VALUE!"}},{"$f":"IF(INDEX(campsByItinerary,numericItinerary($A35),BK$3-1)=\"\",\"\",VLOOKUP(INDEX(campsByItinerary,numericItinerary($A35),BK$3-1),campInfo,12))","v":{"$error":"#VALUE!"}},{"$f":"IF(INDEX(campsByItinerary,numericItinerary($A35),BL$3-1)=\"\",\"\",VLOOKUP(INDEX(campsByItinerary,numericItinerary($A35),BL$3-1),campInfo,12))","v":{"$error":"#VALUE!"}},{"$f":"IF(INDEX(campsByItinerary,numericItinerary($A35),BM$3-1)=\"\",\"\",VLOOKUP(INDEX(campsByItinerary,numericItinerary($A35),BM$3-1),campInfo,12))","v":{"$error":"#VALUE!"}},{"$f":"getfoodPU(\"First\",numericItinerary($A35))","v":{"$error":"#VALUE!"}},{"$f":"getfoodPU(\"Max\",numericItinerary($A35))","v":{"$error":"#VALUE!"}}]
["",null,null,null,null,null,null,null,null,null,null,null,null,null,null,null,null,null,null,null,null,null,null,null,null,null,"",null,null,null,null,null,null,"",null,null,"","","","","","","","","","","","","","","","","","","",{"$f":"IF(INDEX(campsByItinerary,numericItinerary($A36),BD$3-1)=\"\",\"\",VLOOKUP(INDEX(campsByItinerary,numericItinerary($A36),BD$3-1),campInfo,8))","v":{"$error":"#VALUE!"}},{"$f":"IF(INDEX(campsByItinerary,numericItinerary($A36),BE$3-1)=\"\",\"\",VLOOKUP(INDEX(campsByItinerary,numericItinerary($A36),BE$3-1),campInfo,8))","v":{"$error":"#VALUE!"}},{"$f":"IF(INDEX(campsByItinerary,numericItinerary($A36),BF$3-1)=\"\",\"\",VLOOKUP(INDEX(campsByItinerary,numericItinerary($A36),BF$3-1),campInfo,8))","v":{"$error":"#VALUE!"}},{"$f":"IF(INDEX(campsByItinerary,numericItinerary($A36),BG$3-1)=\"\",\"\",VLOOKUP(INDEX(campsByItinerary,numericItinerary($A36),BG$3-1),campInfo,8))","v":{"$error":"#VALUE!"}},{"$f":"IF(INDEX(campsByItinerary,numericItinerary($A36),BH$3-1)=\"\",\"\",VLOOKUP(INDEX(campsByItinerary,numericItinerary($A36),BH$3-1),campInfo,8))","v":{"$error":"#VALUE!"}},{"$f":"IF(INDEX(campsByItinerary,numericItinerary($A36),BI$3-1)=\"\",\"\",VLOOKUP(INDEX(campsByItinerary,numericItinerary($A36),BI$3-1),campInfo,8))","v":{"$error":"#VALUE!"}},{"$f":"IF(INDEX(campsByItinerary,numericItinerary($A36),BJ$3-1)=\"\",\"\",VLOOKUP(INDEX(campsByItinerary,numericItinerary($A36),BJ$3-1),campInfo,8))","v":{"$error":"#VALUE!"}},{"$f":"IF(INDEX(campsByItinerary,numericItinerary($A36),BK$3-1)=\"\",\"\",VLOOKUP(INDEX(campsByItinerary,numericItinerary($A36),BK$3-1),campInfo,8))","v":{"$error":"#VALUE!"}},{"$f":"IF(INDEX(campsByItinerary,numericItinerary($A36),BL$3-1)=\"\",\"\",VLOOKUP(INDEX(campsByItinerary,numericItinerary($A36),BL$3-1),campInfo,8))","v":{"$error":"#VALUE!"}},{"$f":"IF(INDEX(campsByItinerary,numericItinerary($A36),BM$3-1)=\"\",\"\",VLOOKUP(INDEX(campsByItinerary,numericItinerary($A36),BM$3-1),campInfo,8))","v":{"$error":"#VALUE!"}},{"$f":"IF(BD36=\"Y\",\"\",\"Y\")","v":{"$error":"#VALUE!"}},{"$f":"IF(BE36=\"Y\",\"\",\"Y\")","v":{"$error":"#VALUE!"}},{"$f":"IF(BF36=\"Y\",\"\",\"Y\")","v":{"$error":"#VALUE!"}},{"$f":"IF(BG36=\"Y\",\"\",\"Y\")","v":{"$error":"#VALUE!"}},{"$f":"IF(BH36=\"Y\",\"\",\"Y\")","v":{"$error":"#VALUE!"}},{"$f":"IF(BI36=\"Y\",\"\",\"Y\")","v":{"$error":"#VALUE!"}},{"$f":"IF(BJ36=\"Y\",\"\",\"Y\")","v":{"$error":"#VALUE!"}},{"$f":"IF(BK36=\"Y\",\"\",\"Y\")","v":{"$error":"#VALUE!"}},{"$f":"IF(BL36=\"Y\",\"\",\"Y\")","v":{"$error":"#VALUE!"}},{"$f":"IF(BM36=\"Y\",\"\",\"Y\")","v":{"$error":"#VALUE!"}},{"$f":"IF(INDEX(campsByItinerary,numericItinerary($A36),BD$3-1)=\"\",\"\",VLOOKUP(INDEX(campsByItinerary,numericItinerary($A36),BD$3-1),campInfo,10))","v":{"$error":"#VALUE!"}},{"$f":"IF(INDEX(campsByItinerary,numericItinerary($A36),BE$3-1)=\"\",\"\",VLOOKUP(INDEX(campsByItinerary,numericItinerary($A36),BE$3-1),campInfo,10))","v":{"$error":"#VALUE!"}},{"$f":"IF(INDEX(campsByItinerary,numericItinerary($A36),BF$3-1)=\"\",\"\",VLOOKUP(INDEX(campsByItinerary,numericItinerary($A36),BF$3-1),campInfo,10))","v":{"$error":"#VALUE!"}},{"$f":"IF(INDEX(campsByItinerary,numericItinerary($A36),BG$3-1)=\"\",\"\",VLOOKUP(INDEX(campsByItinerary,numericItinerary($A36),BG$3-1),campInfo,10))","v":{"$error":"#VALUE!"}},{"$f":"IF(INDEX(campsByItinerary,numericItinerary($A36),BH$3-1)=\"\",\"\",VLOOKUP(INDEX(campsByItinerary,numericItinerary($A36),BH$3-1),campInfo,10))","v":{"$error":"#VALUE!"}},{"$f":"IF(INDEX(campsByItinerary,numericItinerary($A36),BI$3-1)=\"\",\"\",VLOOKUP(INDEX(campsByItinerary,numericItinerary($A36),BI$3-1),campInfo,10))","v":{"$error":"#VALUE!"}},{"$f":"IF(INDEX(campsByItinerary,numericItinerary($A36),BJ$3-1)=\"\",\"\",VLOOKUP(INDEX(campsByItinerary,numericItinerary($A36),BJ$3-1),campInfo,10))","v":{"$error":"#VALUE!"}},{"$f":"IF(INDEX(campsByItinerary,numericItinerary($A36),BK$3-1)=\"\",\"\",VLOOKUP(INDEX(campsByItinerary,numericItinerary($A36),BK$3-1),campInfo,10))","v":{"$error":"#VALUE!"}},{"$f":"IF(INDEX(campsByItinerary,numericItinerary($A36),BL$3-1)=\"\",\"\",VLOOKUP(INDEX(campsByItinerary,numericItinerary($A36),BL$3-1),campInfo,10))","v":{"$error":"#VALUE!"}},{"$f":"IF(INDEX(campsByItinerary,numericItinerary($A36),BM$3-1)=\"\",\"\",VLOOKUP(INDEX(campsByItinerary,numericItinerary($A36),BM$3-1),campInfo,10))","v":{"$error":"#VALUE!"}},null,{"$f":"IF(E36=F36,\"Y\",\"\")","v":"Y"},{"$f":"IF(F36=G36,\"Y\",\"\")","v":"Y"},{"$f":"IF(G36=H36,\"Y\",\"\")","v":"Y"},{"$f":"IF(H36=I36,\"Y\",\"\")","v":"Y"},{"$f":"IF(I36=J36,\"Y\",\"\")","v":"Y"},{"$f":"IF(J36=K36,\"Y\",\"\")","v":"Y"},{"$f":"IF(K36=L36,\"Y\",\"\")","v":"Y"},{"$f":"IF(L36=M36,\"Y\",\"\")","v":"Y"},{"$f":"IF(M36=N36,\"Y\",\"\")","v":"Y"},{"$f":"INDEX(campsByItinerary,numericItinerary($A36),BD$3-1)","v":{"$error":"#VALUE!"}},{"$f":"IF(INDEX(campsByItinerary,numericItinerary($A36),BE$3-1)=\"\",\"\",VLOOKUP(INDEX(campsByItinerary,numericItinerary($A36),BE$3-1),campInfo,2))","v":{"$error":"#VALUE!"}},{"$f":"IF(INDEX(campsByItinerary,numericItinerary($A36),BF$3-1)=\"\",\"\",VLOOKUP(INDEX(campsByItinerary,numericItinerary($A36),BF$3-1),campInfo,2))","v":{"$error":"#VALUE!"}},{"$f":"IF(INDEX(campsByItinerary,numericItinerary($A36),BG$3-1)=\"\",\"\",VLOOKUP(INDEX(campsByItinerary,numericItinerary($A36),BG$3-1),campInfo,2))","v":{"$error":"#VALUE!"}},{"$f":"IF(INDEX(campsByItinerary,numericItinerary($A36),BH$3-1)=\"\",\"\",VLOOKUP(INDEX(campsByItinerary,numericItinerary($A36),BH$3-1),campInfo,2))","v":{"$error":"#VALUE!"}},{"$f":"IF(INDEX(campsByItinerary,numericItinerary($A36),BI$3-1)=\"\",\"\",VLOOKUP(INDEX(campsByItinerary,numericItinerary($A36),BI$3-1),campInfo,2))","v":{"$error":"#VALUE!"}},{"$f":"IF(INDEX(campsByItinerary,numericItinerary($A36),BJ$3-1)=\"\",\"\",VLOOKUP(INDEX(campsByItinerary,numericItinerary($A36),BJ$3-1),campInfo,2))","v":{"$error":"#VALUE!"}},{"$f":"IF(INDEX(campsByItinerary,numericItinerary($A36),BK$3-1)=\"\",\"\",VLOOKUP(INDEX(campsByItinerary,numericItinerary($A36),BK$3-1),campInfo,2))","v":{"$error":"#VALUE!"}},{"$f":"IF(INDEX(campsByItinerary,numericItinerary($A36),BL$3-1)=\"\",\"\",VLOOKUP(INDEX(campsByItinerary,numericItinerary($A36),BL$3-1),campInfo,2))","v":{"$error":"#VALUE!"}},{"$f":"IF(INDEX(campsByItinerary,numericItinerary($A36),BM$3-1)=\"\",\"\",VLOOKUP(INDEX(campsByItinerary,numericItinerary($A36),BM$3-1),campInfo,2))","v":{"$error":"#VALUE!"}},{"$f":"IF(INDEX(campsByItinerary,numericItinerary($A36),BD$3-1)=\"\",\"\",VLOOKUP(INDEX(campsByItinerary,numericItinerary($A36),BD$3-1),campInfo,12))","v":{"$error":"#VALUE!"}},{"$f":"IF(INDEX(campsByItinerary,numericItinerary($A36),BE$3-1)=\"\",\"\",VLOOKUP(INDEX(campsByItinerary,numericItinerary($A36),BE$3-1),campInfo,12))","v":{"$error":"#VALUE!"}},{"$f":"IF(INDEX(campsByItinerary,numericItinerary($A36),BF$3-1)=\"\",\"\",VLOOKUP(INDEX(campsByItinerary,numericItinerary($A36),BF$3-1),campInfo,12))","v":{"$error":"#VALUE!"}},{"$f":"IF(INDEX(campsByItinerary,numericItinerary($A36),BG$3-1)=\"\",\"\",VLOOKUP(INDEX(campsByItinerary,numericItinerary($A36),BG$3-1),campInfo,12))","v":{"$error":"#VALUE!"}},{"$f":"IF(INDEX(campsByItinerary,numericItinerary($A36),BH$3-1)=\"\",\"\",VLOOKUP(INDEX(campsByItinerary,numericItinerary($A36),BH$3-1),campInfo,12))","v":{"$error":"#VALUE!"}},{"$f":"IF(INDEX(campsByItinerary,numericItinerary($A36),BI$3-1)=\"\",\"\",VLOOKUP(INDEX(campsByItinerary,numericItinerary($A36),BI$3-1),campInfo,12))","v":{"$error":"#VALUE!"}},{"$f":"IF(INDEX(campsByItinerary,numericItinerary($A36),BJ$3-1)=\"\",\"\",VLOOKUP(INDEX(campsByItinerary,numericItinerary($A36),BJ$3-1),campInfo,12))","v":{"$error":"#VALUE!"}},{"$f":"IF(INDEX(campsByItinerary,numericItinerary($A36),BK$3-1)=\"\",\"\",VLOOKUP(INDEX(campsByItinerary,numericItinerary($A36),BK$3-1),campInfo,12))","v":{"$error":"#VALUE!"}},{"$f":"IF(INDEX(campsByItinerary,numericItinerary($A36),BL$3-1)=\"\",\"\",VLOOKUP(INDEX(campsByItinerary,numericItinerary($A36),BL$3-1),campInfo,12))","v":{"$error":"#VALUE!"}},{"$f":"IF(INDEX(campsByItinerary,numericItinerary($A36),BM$3-1)=\"\",\"\",VLOOKUP(INDEX(campsByItinerary,numericItinerary($A36),BM$3-1),campInfo,12))","v":{"$error":"#VALUE!"}},{"$f":"getfoodPU(\"First\",numericItinerary($A36))","v":{"$error":"#VALUE!"}},{"$f":"getfoodPU(\"Max\",numericItinerary($A36))","v":{"$error":"#VALUE!"}}]
["",null,null,null,null,null,null,null,null,null,null,null,null,null,null,null,null,null,null,null,null,null,null,null,null,null,"",null,null,null,null,null,null,"",null,null,"","","","","","","","","","","","","","","","","","","",{"$f":"IF(INDEX(campsByItinerary,numericItinerary($A37),BD$3-1)=\"\",\"\",VLOOKUP(INDEX(campsByItinerary,numericItinerary($A37),BD$3-1),campInfo,8))","v":{"$error":"#VALUE!"}},{"$f":"IF(INDEX(campsByItinerary,numericItinerary($A37),BE$3-1)=\"\",\"\",VLOOKUP(INDEX(campsByItinerary,numericItinerary($A37),BE$3-1),campInfo,8))","v":{"$error":"#VALUE!"}},{"$f":"IF(INDEX(campsByItinerary,numericItinerary($A37),BF$3-1)=\"\",\"\",VLOOKUP(INDEX(campsByItinerary,numericItinerary($A37),BF$3-1),campInfo,8))","v":{"$error":"#VALUE!"}},{"$f":"IF(INDEX(campsByItinerary,numericItinerary($A37),BG$3-1)=\"\",\"\",VLOOKUP(INDEX(campsByItinerary,numericItinerary($A37),BG$3-1),campInfo,8))","v":{"$error":"#VALUE!"}},{"$f":"IF(INDEX(campsByItinerary,numericItinerary($A37),BH$3-1)=\"\",\"\",VLOOKUP(INDEX(campsByItinerary,numericItinerary($A37),BH$3-1),campInfo,8))","v":{"$error":"#VALUE!"}},{"$f":"IF(INDEX(campsByItinerary,numericItinerary($A37),BI$3-1)=\"\",\"\",VLOOKUP(INDEX(campsByItinerary,numericItinerary($A37),BI$3-1),campInfo,8))","v":{"$error":"#VALUE!"}},{"$f":"IF(INDEX(campsByItinerary,numericItinerary($A37),BJ$3-1)=\"\",\"\",VLOOKUP(INDEX(campsByItinerary,numericItinerary($A37),BJ$3-1),campInfo,8))","v":{"$error":"#VALUE!"}},{"$f":"IF(INDEX(campsByItinerary,numericItinerary($A37),BK$3-1)=\"\",\"\",VLOOKUP(INDEX(campsByItinerary,numericItinerary($A37),BK$3-1),campInfo,8))","v":{"$error":"#VALUE!"}},{"$f":"IF(INDEX(campsByItinerary,numericItinerary($A37),BL$3-1)=\"\",\"\",VLOOKUP(INDEX(campsByItinerary,numericItinerary($A37),BL$3-1),campInfo,8))","v":{"$error":"#VALUE!"}},{"$f":"IF(INDEX(campsByItinerary,numericItinerary($A37),BM$3-1)=\"\",\"\",VLOOKUP(INDEX(campsByItinerary,numericItinerary($A37),BM$3-1),campInfo,8))","v":{"$error":"#VALUE!"}},{"$error":"#VALUE!"},{"$error":"#VALUE!"},{"$error":"#VALUE!"},{"$error":"#VALUE!"},{"$error":"#VALUE!"},{"$error":"#VALUE!"},{"$error":"#VALUE!"},{"$error":"#VALUE!"},{"$error":"#VALUE!"},{"$error":"#VALUE!"},{"$f":"IF(INDEX(campsByItinerary,numericItinerary($A37),BD$3-1)=\"\",\"\",VLOOKUP(INDEX(campsByItinerary,numericItinerary($A37),BD$3-1),campInfo,10))","v":{"$error":"#VALUE!"}},{"$f":"IF(INDEX(campsByItinerary,numericItinerary($A37),BE$3-1)=\"\",\"\",VLOOKUP(INDEX(campsByItinerary,numericItinerary($A37),BE$3-1),campInfo,10))","v":{"$error":"#VALUE!"}},{"$f":"IF(INDEX(campsByItinerary,numericItinerary($A37),BF$3-1)=\"\",\"\",VLOOKUP(INDEX(campsByItinerary,numericItinerary($A37),BF$3-1),campInfo,10))","v":{"$error":"#VALUE!"}},{"$f":"IF(INDEX(campsByItinerary,numericItinerary($A37),BG$3-1)=\"\",\"\",VLOOKUP(INDEX(campsByItinerary,numericItinerary($A37),BG$3-1),campInfo,10))","v":{"$error":"#VALUE!"}},{"$f":"IF(INDEX(campsByItinerary,numericItinerary($A37),BH$3-1)=\"\",\"\",VLOOKUP(INDEX(campsByItinerary,numericItinerary($A37),BH$3-1),campInfo,10))","v":{"$error":"#VALUE!"}},{"$f":"IF(INDEX(campsByItinerary,numericItinerary($A37),BI$3-1)=\"\",\"\",VLOOKUP(INDEX(campsByItinerary,numericItinerary($A37),BI$3-1),campInfo,10))","v":{"$error":"#VALUE!"}},{"$f":"IF(INDEX(campsByItinerary,numericItinerary($A37),BJ$3-1)=\"\",\"\",VLOOKUP(INDEX(campsByItinerary,numericItinerary($A37),BJ$3-1),campInfo,10))","v":{"$error":"#VALUE!"}},{"$f":"IF(INDEX(campsByItinerary,numericItinerary($A37),BK$3-1)=\"\",\"\",VLOOKUP(INDEX(campsByItinerary,numericItinerary($A37),BK$3-1),campInfo,10))","v":{"$error":"#VALUE!"}},{"$f":"IF(INDEX(campsByItinerary,numericItinerary($A37),BL$3-1)=\"\",\"\",VLOOKUP(INDEX(campsByItinerary,numericItinerary($A37),BL$3-1),campInfo,10))","v":{"$error":"#VALUE!"}},{"$f":"IF(INDEX(campsByItinerary,numericItinerary($A37),BM$3-1)=\"\",\"\",VLOOKUP(INDEX(campsByItinerary,numericItinerary($A37),BM$3-1),campInfo,10))","v":{"$error":"#VALUE!"}},null,"Y","Y","Y","Y","Y","Y","Y","Y","Y",{"$f":"INDEX(campsByItinerary,numericItinerary($A37),BD$3-1)","v":{"$error":"#VALUE!"}},{"$f":"IF(INDEX(campsByItinerary,numericItinerary($A37),BE$3-1)=\"\",\"\",VLOOKUP(INDEX(campsByItinerary,numericItinerary($A37),BE$3-1),campInfo,2))","v":{"$error":"#VALUE!"}},{"$f":"IF(INDEX(campsByItinerary,numericItinerary($A37),BF$3-1)=\"\",\"\",VLOOKUP(INDEX(campsByItinerary,numericItinerary($A37),BF$3-1),campInfo,2))","v":{"$error":"#VALUE!"}},{"$f":"IF(INDEX(campsByItinerary,numericItinerary($A37),BG$3-1)=\"\",\"\",VLOOKUP(INDEX(campsByItinerary,numericItinerary($A37),BG$3-1),campInfo,2))","v":{"$error":"#VALUE!"}},{"$f":"IF(INDEX(campsByItinerary,numericItinerary($A37),BH$3-1)=\"\",\"\",VLOOKUP(INDEX(campsByItinerary,numericItinerary($A37),BH$3-1),campInfo,2))","v":{"$error":"#VALUE!"}},{"$f":"IF(INDEX(campsByItinerary,numericItinerary($A37),BI$3-1)=\"\",\"\",VLOOKUP(INDEX(campsByItinerary,numericItinerary($A37),BI$3-1),campInfo,2))","v":{"$error":"#VALUE!"}},{"$f":"IF(INDEX(campsByItinerary,numericItinerary($A37),BJ$3-1)=\"\",\"\",VLOOKUP(INDEX(campsByItinerary,numericItinerary($A37),BJ$3-1),campInfo,2))","v":{"$error":"#VALUE!"}},{"$f":"IF(INDEX(campsByItinerary,numericItinerary($A37),BK$3-1)=\"\",\"\",VLOOKUP(INDEX(campsByItinerary,numericItinerary($A37),BK$3-1),campInfo,2))","v":{"$error":"#VALUE!"}},{"$f":"IF(INDEX(campsByItinerary,numericItinerary($A37),BL$3-1)=\"\",\"\",VLOOKUP(INDEX(campsByItinerary,numericItinerary($A37),BL$3-1),campInfo,2))","v":{"$error":"#VALUE!"}},{"$f":"IF(INDEX(campsByItinerary,numericItinerary($A37),BM$3-1)=\"\",\"\",VLOOKUP(INDEX(campsByItinerary,numericItinerary($A37),BM$3-1),campInfo,2))","v":{"$error":"#VALUE!"}},{"$f":"IF(INDEX(campsByItinerary,numericItinerary($A37),BD$3-1)=\"\",\"\",VLOOKUP(INDEX(campsByItinerary,numericItinerary($A37),BD$3-1),campInfo,12))","v":{"$error":"#VALUE!"}},{"$f":"IF(INDEX(campsByItinerary,numericItinerary($A37),BE$3-1)=\"\",\"\",VLOOKUP(INDEX(campsByItinerary,numericItinerary($A37),BE$3-1),campInfo,12))","v":{"$error":"#VALUE!"}},{"$f":"IF(INDEX(campsByItinerary,numericItinerary($A37),BF$3-1)=\"\",\"\",VLOOKUP(INDEX(campsByItinerary,numericItinerary($A37),BF$3-1),campInfo,12))","v":{"$error":"#VALUE!"}},{"$f":"IF(INDEX(campsByItinerary,numericItinerary($A37),BG$3-1)=\"\",\"\",VLOOKUP(INDEX(campsByItinerary,numericItinerary($A37),BG$3-1),campInfo,12))","v":{"$error":"#VALUE!"}},{"$f":"IF(INDEX(campsByItinerary,numericItinerary($A37),BH$3-1)=\"\",\"\",VLOOKUP(INDEX(campsByItinerary,numericItinerary($A37),BH$3-1),campInfo,12))","v":{"$error":"#VALUE!"}},{"$f":"IF(INDEX(campsByItinerary,numericItinerary($A37),BI$3-1)=\"\",\"\",VLOOKUP(INDEX(campsByItinerary,numericItinerary($A37),BI$3-1),campInfo,12))","v":{"$error":"#VALUE!"}},{"$f":"IF(INDEX(campsByItinerary,numericItinerary($A37),BJ$3-1)=\"\",\"\",VLOOKUP(INDEX(campsByItinerary,numericItinerary($A37),BJ$3-1),campInfo,12))","v":{"$error":"#VALUE!"}},{"$f":"IF(INDEX(campsByItinerary,numericItinerary($A37),BK$3-1)=\"\",\"\",VLOOKUP(INDEX(campsByItinerary,numericItinerary($A37),BK$3-1),campInfo,12))","v":{"$error":"#VALUE!"}},{"$f":"IF(INDEX(campsByItinerary,numericItinerary($A37),BL$3-1)=\"\",\"\",VLOOKUP(INDEX(campsByItinerary,numericItinerary($A37),BL$3-1),campInfo,12))","v":{"$error":"#VALUE!"}},{"$f":"IF(INDEX(campsByItinerary,numericItinerary($A37),BM$3-1)=\"\",\"\",VLOOKUP(INDEX(campsByItinerary,numericItinerary($A37),BM$3-1),campInfo,12))","v":{"$error":"#VALUE!"}},{"$f":"getfoodPU(\"First\",numericItinerary($A37))","v":{"$error":"#VALUE!"}},{"$f":"getfoodPU(\"Max\",numericItinerary($A37))","v":{"$error":"#VALUE!"}}]
[null,null,null,null,null,null,null,null,null,null,null,null,null,null,null,null,null,null,null,null,null,null,null,null,null,null,null,null,null,null,null,{"$f":"COUNTIF(AF4:AF37,\"y\")","v":7},{"$f":"COUNTIF(AG4:AG37,\"y\")","v":6},{"$f":"COUNTIF(AH4:AH37,\"y\")","v":4},{"$f":"COUNTIF(AI4:AI37,\"y\")","v":2},{"$f":"COUNTIF(AJ4:AJ37,\"y\")","v":9}]
[null,null,null,null,null,null,null,null,null,null,null,null,null,null,null,null,null,null,null,null,null,null,null,null,null,null,null,null,null,null,null,"Mountaineering includes itineraries that climb Big Red, Black Mountain, Bonito Peak, Comanche Peak, Hart Mountain, Little Costilla Peak, Lookout Peak, or Shaefers Peak.",null,null,null,null," ",null,null,null,null,null,null,null,null,null,null,null,null,null,null,null,null,null,null,null,null,null,null,null,null,null,null,null,null,null,null,null,null,null,null,null,null,null,null,null,null,null,null,null,null,null,null,null,null,null,null,null,null,null,null,null,null,null,null,null,null,null,null,null,null,null,null,null,null,null,null,null,null,null,null,null,null,null,"Min",{"$f":"MIN(foodPUfirst)","v":{"$error":"#VALUE!"}},{"$f":"MIN(foodPUdays)","v":{"$error":"#VALUE!"}}]
[null,null,null,null,null,null,null,null,null,null,null,null,null,null,null,null,null,null,null,null,null,null,null,null,null,null,null,null,null,null,null,null,null,null,null,null," ",null,null,null,null,null,null,null,null,null,null,null,null,null,null,null,null,null,null,null,null,null,null,null,null,null,null,null,null,null,null,null,null,null,null,null,null,null,null,null,null,null,null,null,null,null,null,null,null,null,null,null,null,null,null,null,null,null,null,null,null,null,null,null,null,null,null,null,null,null,null,null,null,null,null,null,null,null,"Max",{"$f":"MAX(DL5:DL37)","v":{"$error":"#VALUE!"}},{"$f":"MAX(foodPUdays)","v":{"$error":"#VALUE!"}}]

{"sheet":"ItineraryPrograms","index":11,"n_rows":38,"n_cols":41,"rows_kept":38,"cut":false,"hidden":true,"merged":[[0,0,1,0]]}
["Itinerary",1,{"$f":"B1+1","v":2},{"$f":"C1+1","v":3},4,5,6,7,8,9,10,11,12,13,14,15,16,17,18,19,20,21,22,23,24,25,26,27,28,29,30,31,32,33,34,35,36,37,38,39,40]
[null,{"$f":"INDEX(program_table,B1,1)","v":"Archaeology"},"Archery - 3 Dimensional",{"$f":"INDEX(program_table,D1,1)","v":"Atlatl (Dart-throwing)"},"Baldy Mountain","Blacksmithing","Campfire (evening)","Cantina","Challenge Events","Chuckwagon Dinner","Demonstration Forest","Fishing","Fly Tying","Fur Trapper Rendezvous","Gold Mining & Panning","Homesteading","Horse Rides","Hunter Safety","Inspiration Point Hike","Jicarilla Apache Life","Laser Shot Shooting Range","Lodge/Cabin Tours","Low Impact Camping","Mine Tour","Mount Phillips","Mountaineering","Muzzle Loading Rifle","New Mexico Homestead","Petroglyph Tour","Post Civil War Encampment","Railroading","Rock Climbing & Rappelling","Rocky Mountain Fur Co.","Shooting/Reloading - .30-06","Shotgun Shooting/Reloading - 12 Gauge","Spar Pole Climbing","Tie Making & Crosscut Saws","Tomahawk Throwing","Tooth of Time","Trail Peak","Western Lore/Branding"]
[{"$f":"Itineraries!A3","v":"9-1"},"y","y","y",{"$f":"IF(A3=\"\",\"\",IF(INDEX(baldyMountainHike,numericItinerary($A3))=\"y\",\"y\",\"\"))","v":""},null,null,"y","N","y","N",null,"N","N",null,null,"y",null,null,null,"y",null,"N","N",{"$f":"IF($A3=\"\",\"\",IF(INDEX(mountPhillipsHike,numericItinerary($A3))=\"y\",\"y\",\"\"))","v":""},{"$f":"IF($A3=\"\",\"\",IF(INDEX(mountaineeringHike,numericItinerary($A3))=\"y\",\"y\",\"\"))","v":"y"},null,"N","y",null,null,null,null,null,"y",null,null,"N",{"$f":"IF($A3=\"\",\"\",IF(INDEX(toothOfTimeHike,numericItinerary($A3))=\"y\",\"y\",\"\"))","v":""},{"$f":"IF($A3=\"\",\"\",IF(INDEX(trailPeakHike,numericItinerary($A3))=\"y\",\"y\",\"\"))","v":""},"y"]
[{"$f":"Itineraries!A4","v":"9-2"},"y",null,"y",{"$f":"IF(A4=\"\",\"\",IF(INDEX(baldyMountainHike,numericItinerary($A4))=\"y\",\"y\",\"\"))","v":"y"},"y","y","y",null,"N",null,null,null,"y","y",null,null,null,null,null,null,null,null,null,null,null,"y",null,"y",null,"y",null,null,null,null,"y","y","y",{"$f":"IF($A4=\"\",\"\",IF(INDEX(toothOfTimeHike,numericItinerary($A4))=\"y\",\"y\",\"\"))","v":""},{"$f":"IF($A4=\"\",\"\",IF(INDEX(trailPeakHike,numericItinerary($A4))=\"y\",\"y\",\"\"))","v":""},"y"]
[{"$f":"Itineraries!A5","v":"9-3"},null,null,null,{"$f":"IF(A5=\"\",\"\",IF(INDEX(baldyMountainHike,numericItinerary($A5))=\"y\",\"y\",\"\"))","v":""},"y","y",null,null,"y",null,null,"N",null,null,"y","y",null,null,null,null,"y","N",null,null,null,"y",null,null,"y",null,"y","y",null,null,"N",null,"y",{"$f":"IF($A5=\"\",\"\",IF(INDEX(toothOfTimeHike,numericItinerary($A5))=\"y\",\"y\",\"\"))","v":""},{"$f":"IF($A5=\"\",\"\",IF(INDEX(trailPeakHike,numericItinerary($A5))=\"y\",\"y\",\"\"))","v":""},"y"]
[{"$f":"Itineraries!A6","v":"9-4"},null,null,null,{"$f":"IF(A6=\"\",\"\",IF(INDEX(baldyMountainHike,numericItinerary($A6))=\"y\",\"y\",\"\"))","v":""},null,"y",null,null,"y","y",null,"N",null,"y",null,"y",null,null,null,null,null,"N",null,null,null,"y",null,null,null,null,"y","y","y",null,null,null,"y",{"$f":"IF($A6=\"\",\"\",IF(INDEX(toothOfTimeHike,numericItinerary($A6))=\"y\",\"y\",\"\"))","v":""},{"$f":"IF($A6=\"\",\"\",IF(INDEX(trailPeakHike,numericItinerary($A6))=\"y\",\"y\",\"\"))","v":""},"y"]
[{"$f":"Itineraries!A7","v":"9-5"},null,null,null,{"$f":"IF(A7=\"\",\"\",IF(INDEX(baldyMountainHike,numericItinerary($A7))=\"y\",\"y\",\"\"))","v":"y"},"y","y","y","y","y","N",null,"N","N","y","y","y",null,"N",null,null,"y","N","y",null,null,null,null,"N","N",null,"N",null,null,null,"y",null,null,{"$f":"IF($A7=\"\",\"\",IF(INDEX(toothOfTimeHike,numericItinerary($A7))=\"y\",\"y\",\"\"))","v":""},{"$f":"IF($A7=\"\",\"\",IF(INDEX(trailPeakHike,numericItinerary($A7))=\"y\",\"y\",\"\"))","v":""},"y"]
[{"$f":"Itineraries!A8","v":"9-6"},null,"N",null,{"$f":"IF(A8=\"\",\"\",IF(INDEX(baldyMountainHike,numericItinerary($A8))=\"y\",\"y\",\"\"))","v":"y"},"y","y","y","y","N",null,null,null,"y","y",null,null,null,null,null,null,null,null,"y",null,null,null,"N",null,null,null,null,null,null,null,null,"y","y",{"$f":"IF($A8=\"\",\"\",IF(INDEX(toothOfTimeHike,numericItinerary($A8))=\"y\",\"y\",\"\"))","v":""},{"$f":"IF($A8=\"\",\"\",IF(INDEX(trailPeakHike,numericItinerary($A8))=\"y\",\"y\",\"\"))","v":""}]
[{"$f":"Itineraries!A9","v":"9-7"},null,null,null,{"$f":"IF(A9=\"\",\"\",IF(INDEX(baldyMountainHike,numericItinerary($A9))=\"y\",\"y\",\"\"))","v":"y"},"y","y","y","N","y","N",null,"N","y","y",null,"y",null,null,null,null,null,"N","y",null,null,"y",null,"y",null,"y",null,null,null,null,"y","y","y",{"$f":"IF($A9=\"\",\"\",IF(INDEX(toothOfTimeHike,numericItinerary($A9))=\"y\",\"y\",\"\"))","v":""},{"$f":"IF($A9=\"\",\"\",IF(INDEX(trailPeakHike,numericItinerary($A9))=\"y\",\"y\",\"\"))","v":""},"y"]
[{"$f":"Itineraries!A10","v":"9-8"},null,"y",null,{"$f":"IF(A10=\"\",\"\",IF(INDEX(baldyMountainHike,numericItinerary($A10))=\"y\",\"y\",\"\"))","v":""},"y","y",null,null,"y","y",null,"N",null,"y",null,null,null,null,null,"y",null,"y","y",null,null,"y",null,null,null,null,"y","y",null,null,null,"y","y",{"$f":"IF($A10=\"\",\"\",IF(INDEX(toothOfTimeHike,numericItinerary($A10))=\"y\",\"y\",\"\"))","v":""},{"$f":"IF($A10=\"\",\"\",IF(INDEX(trailPeakHike,numericItinerary($A10))=\"y\",\"y\",\"\"))","v":""},"y"]
[{"$f":"Itineraries!A11","v":"9-9"},null,"y",null,{"$f":"IF(A11=\"\",\"\",IF(INDEX(baldyMountainHike,numericItinerary($A11))=\"y\",\"y\",\"\"))","v":"y"},null,null,null,"y",null,"y",null,null,null,"y","N",null,null,null,null,"y",null,null,"N",null,null,null,"N","N",null,null,null,null,"y",null,null,null,"y",{"$f":"IF($A11=\"\",\"\",IF(INDEX(toothOfTimeHike,numericItinerary($A11))=\"y\",\"y\",\"\"))","v":""},{"$f":"IF($A11=\"\",\"\",IF(INDEX(trailPeakHike,numericItinerary($A11))=\"y\",\"y\",\"\"))","v":""},"y"]
[{"$f":"Itineraries!A12","v":"9-10"},null,"y",null,{"$f":"IF(A12=\"\",\"\",IF(INDEX(baldyMountainHike,numericItinerary($A12))=\"y\",\"y\",\"\"))","v":""},null,"y",null,"y","N",null,"y","y",null,null,"y","N",null,"y","y",null,"y",null,null,"y","y",null,null,"N",null,null,"y",null,null,null,null,null,null,{"$f":"IF($A12=\"\",\"\",IF(INDEX(toothOfTimeHike,numericItinerary($A12))=\"y\",\"y\",\"\"))","v":"y"},{"$f":"IF($A12=\"\",\"\",IF(INDEX(trailPeakHike,numericItinerary($A12))=\"y\",\"y\",\"\"))","v":"y"},"y"]
[{"$f":"Itineraries!A13","v":"9-11"},null,null,null,{"$f":"IF(A13=\"\",\"\",IF(INDEX(baldyMountainHike,numericItinerary($A13))=\"y\",\"y\",\"\"))","v":""},"y","y","y",null,"y","N",null,"N",null,null,"y","y",null,null,null,null,"y","N",null,null,null,"y","y","N","y","N",null,"y",null,null,"y","y","y",{"$f":"IF($A13=\"\",\"\",IF(INDEX(toothOfTimeHike,numericItinerary($A13))=\"y\",\"y\",\"\"))","v":"y"},{"$f":"IF($A13=\"\",\"\",IF(INDEX(trailPeakHike,numericItinerary($A13))=\"y\",\"y\",\"\"))","v":"y"},"y"]
[{"$f":"Itineraries!A14","v":"9-12"},null,"y",null,{"$f":"IF(A14=\"\",\"\",IF(INDEX(baldyMountainHike,numericItinerary($A14))=\"y\",\"y\",\"\"))","v":""},null,"y","y",null,"y",null,null,"N",null,null,"y",null,null,null,"y",null,"y","N",null,null,"y",null,"y","N",null,null,null,"y",null,null,null,null,"y",{"$f":"IF($A14=\"\",\"\",IF(INDEX(toothOfTimeHike,numericItinerary($A14))=\"y\",\"y\",\"\"))","v":""},{"$f":"IF($A14=\"\",\"\",IF(INDEX(trailPeakHike,numericItinerary($A14))=\"y\",\"y\",\"\"))","v":""},"y"]
[{"$f":"Itineraries!A15","v":"9-13"},null,null,null,{"$f":"IF(A15=\"\",\"\",IF(INDEX(baldyMountainHike,numericItinerary($A15))=\"y\",\"y\",\"\"))","v":""},"y","y",null,null,"y",null,null,"N",null,null,"y","y",null,null,null,null,"y","N",null,null,null,"y",null,null,"y",null,null,"y",null,"y",null,null,"y",{"$f":"IF($A15=\"\",\"\",IF(INDEX(toothOfTimeHike,numericItinerary($A15))=\"y\",\"y\",\"\"))","v":"y"},{"$f":"IF($A15=\"\",\"\",IF(INDEX(trailPeakHike,numericItinerary($A15))=\"y\",\"y\",\"\"))","v":""},"y"]
[{"$f":"Itineraries!A16","v":"9-14"},null,"y",null,{"$f":"IF(A16=\"\",\"\",IF(INDEX(baldyMountainHike,numericItinerary($A16))=\"y\",\"y\",\"\"))","v":"y"},"y","y","y","y","N",null,"N",null,null,"y",null,null,null,null,null,"y",null,null,"y",null,null,null,null,null,null,null,null,null,null,"y","y","y",null,{"$f":"IF($A16=\"\",\"\",IF(INDEX(toothOfTimeHike,numericItinerary($A16))=\"y\",\"y\",\"\"))","v":""},{"$f":"IF($A16=\"\",\"\",IF(INDEX(trailPeakHike,numericItinerary($A16))=\"y\",\"y\",\"\"))","v":""},"y"]
[{"$f":"Itineraries!A17","v":"9-15"},null,"y",null,{"$f":"IF(A17=\"\",\"\",IF(INDEX(baldyMountainHike,numericItinerary($A17))=\"y\",\"y\",\"\"))","v":"y"},"y","y","y","y","y","y","N","N",null,"y",null,null,null,null,null,"y",null,"N","y",null,null,null,"N",null,null,null,null,null,"y",null,"y","y",null,{"$f":"IF($A17=\"\",\"\",IF(INDEX(toothOfTimeHike,numericItinerary($A17))=\"y\",\"y\",\"\"))","v":"y"},{"$f":"IF($A17=\"\",\"\",IF(INDEX(trailPeakHike,numericItinerary($A17))=\"y\",\"y\",\"\"))","v":""},"y"]
[{"$f":"Itineraries!A18","v":""},null,null,null,{"$f":"IF(A18=\"\",\"\",IF(INDEX(baldyMountainHike,numericItinerary($A18))=\"y\",\"y\",\"\"))","v":""},null,null,null,null,null,null,null,null,null,null,null,null,null,null,null,null,null,null,null,null,null,null,null,null,null,null,null,null,null,null,null,null,null,{"$f":"IF($A18=\"\",\"\",IF(INDEX(toothOfTimeHike,numericItinerary($A18))=\"y\",\"y\",\"\"))","v":""},{"$f":"IF($A18=\"\",\"\",IF(INDEX(trailPeakHike,numericItinerary($A18))=\"y\",\"y\",\"\"))","v":""}]
[{"$f":"Itineraries!A19","v":""},null,null,null,{"$f":"IF(A19=\"\",\"\",IF(INDEX(baldyMountainHike,numericItinerary($A19))=\"y\",\"y\",\"\"))","v":""},null,null,null,null,null,null,null,null,null,null,null,null,null,null,null,null,null,null,null,null,null,null,null,null,null,null,null,null,null,null,null,null,null,{"$f":"IF($A19=\"\",\"\",IF(INDEX(toothOfTimeHike,numericItinerary($A19))=\"y\",\"y\",\"\"))","v":""},{"$f":"IF($A19=\"\",\"\",IF(INDEX(trailPeakHike,numericItinerary($A19))=\"y\",\"y\",\"\"))","v":""}]
[{"$f":"Itineraries!A20","v":""},null,null,null,{"$f":"IF(A20=\"\",\"\",IF(INDEX(baldyMountainHike,numericItinerary($A20))=\"y\",\"y\",\"\"))","v":""},null,null,null,null,null,null,null,null,null,null,null,null,null,null,null,null,null,null,null,null,null,null,null,null,null,null,null,null,null,null,null,null,null,{"$f":"IF($A20=\"\",\"\",IF(INDEX(toothOfTimeHike,numericItinerary($A20))=\"y\",\"y\",\"\"))","v":""},{"$f":"IF($A20=\"\",\"\",IF(INDEX(trailPeakHike,numericItinerary($A20))=\"y\",\"y\",\"\"))","v":""}]
[{"$f":"Itineraries!A21","v":""},null,null,null,{"$f":"IF(A21=\"\",\"\",IF(INDEX(baldyMountainHike,numericItinerary($A21))=\"y\",\"y\",\"\"))","v":""},null,null,null,null,null,null,null,null,null,null,null,null,null,null,null,null,null,null,null,null,null,null,null,null,null,null,null,null,null,null,null,null,null,{"$f":"IF($A21=\"\",\"\",IF(INDEX(toothOfTimeHike,numericItinerary($A21))=\"y\",\"y\",\"\"))","v":""},{"$f":"IF($A21=\"\",\"\",IF(INDEX(trailPeakHike,numericItinerary($A21))=\"y\",\"y\",\"\"))","v":""}]
[{"$f":"Itineraries!A22","v":""},null,null,null,{"$f":"IF(A22=\"\",\"\",IF(INDEX(baldyMountainHike,numericItinerary($A22))=\"y\",\"y\",\"\"))","v":""},null,null,null,null,null,null,null,null,null,null,null,null,null,null,null,null,null,null,null,null,null,null,null,null,null,null,null,null,null,null,null,null,null,{"$f":"IF($A22=\"\",\"\",IF(INDEX(toothOfTimeHike,numericItinerary($A22))=\"y\",\"y\",\"\"))","v":""},{"$f":"IF($A22=\"\",\"\",IF(INDEX(trailPeakHike,numericItinerary($A22))=\"y\",\"y\",\"\"))","v":""}]
[{"$f":"Itineraries!A23","v":""},null,null,null,{"$f":"IF(A23=\"\",\"\",IF(INDEX(baldyMountainHike,numericItinerary($A23))=\"y\",\"y\",\"\"))","v":""},null,null,null,null,null,null,null,null,null,null,null,null,null,null,null,null,null,null,null,null,null,null,null,null,null,null,null,null,null,null,null,null,null,{"$f":"IF($A23=\"\",\"\",IF(INDEX(toothOfTimeHike,numericItinerary($A23))=\"y\",\"y\",\"\"))","v":""},{"$f":"IF($A23=\"\",\"\",IF(INDEX(trailPeakHike,numericItinerary($A23))=\"y\",\"y\",\"\"))","v":""}]
[{"$f":"Itineraries!A24","v":""},null,null,null,{"$f":"IF(A24=\"\",\"\",IF(INDEX(baldyMountainHike,numericItinerary($A24))=\"y\",\"y\",\"\"))","v":""},null,null,null,null,null,null,null,null,null,null,null,null,null,null,null,null,null,null,null,null,null,null,null,null,null,null,null,null,null,null,null,null,null,{"$f":"IF($A24=\"\",\"\",IF(INDEX(toothOfTimeHike,numericItinerary($A24))=\"y\",\"y\",\"\"))","v":""},{"$f":"IF($A24=\"\",\"\",IF(INDEX(trailPeakHike,numericItinerary($A24))=\"y\",\"y\",\"\"))","v":""}]
[{"$f":"Itineraries!A25","v":""},null,null,null,{"$f":"IF(A25=\"\",\"\",IF(INDEX(baldyMountainHike,numericItinerary($A25))=\"y\",\"y\",\"\"))","v":""},null,null,null,null,null,null,null,null,null,null,null,null,null,null,null,null,null,null,null,null,null,null,null,null,null,null,null,null,null,null,null,null,null,{"$f":"IF($A25=\"\",\"\",IF(INDEX(toothOfTimeHike,numericItinerary($A25))=\"y\",\"y\",\"\"))","v":""},{"$f":"IF($A25=\"\",\"\",IF(INDEX(trailPeakHike,numericItinerary($A25))=\"y\",\"y\",\"\"))","v":""}]
[{"$f":"Itineraries!A26","v":""},null,null,null,{"$f":"IF(A26=\"\",\"\",IF(INDEX(baldyMountainHike,numericItinerary($A26))=\"y\",\"y\",\"\"))","v":""},null,null,null,null,null,null,null,null,null,null,null,null,null,null,null,null,null,null,null,null,null,null,null,null,null,null,null,null,null,null,null,null,null,{"$f":"IF($A26=\"\",\"\",IF(INDEX(toothOfTimeHike,numericItinerary($A26))=\"y\",\"y\",\"\"))","v":""},{"$f":"IF($A26=\"\",\"\",IF(INDEX(trailPeakHike,numericItinerary($A26))=\"y\",\"y\",\"\"))","v":""}]
[{"$f":"Itineraries!A27","v":""},null,null,null,{"$f":"IF(A27=\"\",\"\",IF(INDEX(baldyMountainHike,numericItinerary($A27))=\"y\",\"y\",\"\"))","v":""},null,null,null,null,null,null,null,null,null,null,null,null,null,null,null,null,null,null,null,null,null,null,null,null,null,null,null,null,null,null,null,null,null,{"$f":"IF($A27=\"\",\"\",IF(INDEX(toothOfTimeHike,numericItinerary($A27))=\"y\",\"y\",\"\"))","v":""},{"$f":"IF($A27=\"\",\"\",IF(INDEX(trailPeakHike,numericItinerary($A27))=\"y\",\"y\",\"\"))","v":""}]
[{"$f":"Itineraries!A28","v":""},null,null,null,{"$f":"IF(A28=\"\",\"\",IF(INDEX(baldyMountainHike,numericItinerary($A28))=\"y\",\"y\",\"\"))","v":""},null,null,null,null,null,null,null,null,null,null,null,null,null,null,null,null,null,null,null,null,null,null,null,null,null,null,null,null,null,null,null,null,null,{"$f":"IF($A28=\"\",\"\",IF(INDEX(toothOfTimeHike,numericItinerary($A28))=\"y\",\"y\",\"\"))","v":""},{"$f":"IF($A28=\"\",\"\",IF(INDEX(trailPeakHike,numericItinerary($A28))=\"y\",\"y\",\"\"))","v":""}]
[{"$f":"Itineraries!A29","v":""},null,null,null,{"$f":"IF(A29=\"\",\"\",IF(INDEX(baldyMountainHike,numericItinerary($A29))=\"y\",\"y\",\"\"))","v":""},null,null,null,null,null,null,null,null,null,null,null,null,null,null,null,null,null,null,null,null,null,null,null,null,null,null,null,null,null,null,null,null,null,{"$f":"IF($A29=\"\",\"\",IF(INDEX(toothOfTimeHike,numericItinerary($A29))=\"y\",\"y\",\"\"))","v":""},{"$f":"IF($A29=\"\",\"\",IF(INDEX(trailPeakHike,numericItinerary($A29))=\"y\",\"y\",\"\"))","v":""}]
[{"$f":"Itineraries!A30","v":""},null,null,null,{"$f":"IF(A30=\"\",\"\",IF(INDEX(baldyMountainHike,numericItinerary($A30))=\"y\",\"y\",\"\"))","v":""},null,null,null,null,null,null,null,null,null,null,null,null,null,null,null,null,null,null,null,null,null,null,null,null,null,null,null,null,null,null,null,null,null,{"$f":"IF($A30=\"\",\"\",IF(INDEX(toothOfTimeHike,numericItinerary($A30))=\"y\",\"y\",\"\"))","v":""},{"$f":"IF($A30=\"\",\"\",IF(INDEX(trailPeakHike,numericItinerary($A30))=\"y\",\"y\",\"\"))","v":""}]
[{"$f":"Itineraries!A31","v":""},null,null,null,{"$f":"IF(A31=\"\",\"\",IF(INDEX(baldyMountainHike,numericItinerary($A31))=\"y\",\"y\",\"\"))","v":""},null,null,null,null,null,null,null,null,null,null,null,null,null,null,null,null,null,null,null,null,null,null,null,null,null,null,null,null,null,null,null,null,null,{"$f":"IF($A31=\"\",\"\",IF(INDEX(toothOfTimeHike,numericItinerary($A31))=\"y\",\"y\",\"\"))","v":""},{"$f":"IF($A31=\"\",\"\",IF(INDEX(trailPeakHike,numericItinerary($A31))=\"y\",\"y\",\"\"))","v":""}]
[{"$f":"Itineraries!A32","v":""},null,null,null,{"$f":"IF(A32=\"\",\"\",IF(INDEX(baldyMountainHike,numericItinerary($A32))=\"y\",\"y\",\"\"))","v":""},null,null,null,null,null,null,null,null,null,null,null,null,null,null,null,null,null,null,null,null,null,null,null,null,null,null,null,null,null,null,null,null,null,{"$f":"IF($A32=\"\",\"\",IF(INDEX(toothOfTimeHike,numericItinerary($A32))=\"y\",\"y\",\"\"))","v":""},{"$f":"IF($A32=\"\",\"\",IF(INDEX(trailPeakHike,numericItinerary($A32))=\"y\",\"y\",\"\"))","v":""}]
[{"$f":"Itineraries!A33","v":""},null,null,null,{"$f":"IF(A33=\"\",\"\",IF(INDEX(baldyMountainHike,numericItinerary($A33))=\"y\",\"y\",\"\"))","v":""},null,null,null,null,null,null,null,null,null,null,null,null,null,null,null,null,null,null,null,null,null,null,null,null,null,null,null,null,null,null,null,null,null,{"$f":"IF($A33=\"\",\"\",IF(INDEX(toothOfTimeHike,numericItinerary($A33))=\"y\",\"y\",\"\"))","v":""},{"$f":"IF($A33=\"\",\"\",IF(INDEX(trailPeakHike,numericItinerary($A33))=\"y\",\"y\",\"\"))","v":""}]
[{"$f":"Itineraries!A34","v":""},null,null,null,{"$f":"IF(A34=\"\",\"\",IF(INDEX(baldyMountainHike,numericItinerary($A34))=\"y\",\"y\",\"\"))","v":""},null,null,null,null,null,null,null,null,null,null,null,null,null,null,null,null,null,null,null,null,null,null,null,null,null,null,null,null,null,null,null,null,null,{"$f":"IF($A34=\"\",\"\",IF(INDEX(toothOfTimeHike,numericItinerary($A34))=\"y\",\"y\",\"\"))","v":""},{"$f":"IF($A34=\"\",\"\",IF(INDEX(trailPeakHike,numericItinerary($A34))=\"y\",\"y\",\"\"))","v":""}]
[{"$f":"Itineraries!A35","v":""},null,null,null,{"$f":"IF(A35=\"\",\"\",IF(INDEX(baldyMountainHike,numericItinerary($A35))=\"y\",\"y\",\"\"))","v":""},null,null,null,null,null,null,null,null,null,null,null,null,null,null,null,null,null,null,null,null,null,null,null,null,null,null,null,null,null,null,null,null,null,{"$f":"IF($A35=\"\",\"\",IF(INDEX(toothOfTimeHike,numericItinerary($A35))=\"y\",\"y\",\"\"))","v":""},{"$f":"IF($A35=\"\",\"\",IF(INDEX(trailPeakHike,numericItinerary($A35))=\"y\",\"y\",\"\"))","v":""}]
[{"$f":"Itineraries!A36","v":""},null,null,null,{"$f":"IF(A36=\"\",\"\",IF(INDEX(baldyMountainHike,numericItinerary($A36))=\"y\",\"y\",\"\"))","v":""},null,null,null,null,null,null,null,null,null,null,null,null,null,null,null,null,null,null,null,null,null,null,null,null,null,null,null,null,null,null,null,null,null,{"$f":"IF($A36=\"\",\"\",IF(INDEX(toothOfTimeHike,numericItinerary($A36))=\"y\",\"y\",\"\"))","v":""},{"$f":"IF($A36=\"\",\"\",IF(INDEX(trailPeakHike,numericItinerary($A36))=\"y\",\"y\",\"\"))","v":""}]
[null,{"$f":"COUNTIF(B3:B36,\"y\")","v":2},7,2,7,10,13,9,6,10,4,1,1,3,9,6,7,0,1,2,5,6,1,6,1,3,7,2,3,3,2,{"$f":"COUNTIF(AF3:AF36,\"y\")","v":4},{"$f":"COUNTIF(AG3:AG36,\"y\")","v":6},3,3,6,7,10,4,2,14]
[null,{"$f":"B2","v":"Archaeology"},"Archery - 3 Dimensional","Atlatl (Dart-throwing)","Baldy Mountain","Blacksmithing","Campfire (evening)","Cantina","Challenge Events","Chuckwagon Dinner","Demonstration Forest","Fishing","Fly Tying","Fur Trapper Rendezvous","Gold Mining & Panning","Homesteading","Horse Rides","Hunter Safety","Inspiration Point Hike","Jicarilla Apache Life","Laser Shot Shooting Range","Lodge/Cabin Tours","Low Impact Camping","Mine Tour","Mount Phillips","Mountaineering","Muzzle Loading Rifle","New Mexico Homestead","Petroglyph Tour","Post Civil War Encampment","Railroading",{"$f":"AF2","v":"Rock Climbing & Rappelling"},{"$f":"AG2","v":"Rocky Mountain Fur Co."},"Shooting/Reloading - .30-06","Shotgun Shooting/Reloading - 12 Gauge","Spar Pole Climbing","Tie Making & Crosscut Saws","Tomahawk Throwing","Tooth of Time","Trail Peak","Western Lore/Branding"]

{"sheet":"Descriptions","index":12,"n_rows":35,"n_cols":4,"rows_kept":35,"cut":false,"hidden":true,"merged":[]}
["Length","Itinerary","Description"," "]
[{"$f":"IF(B2=\"\",\"\",LEN(C2))","v":1560},{"$f":"Itineraries!A3","v":"9-1"},"This itinerary will give you a first-hand look at Mother Nature’s recovery efforts after the 2018 Ute Park Fire. Your adventure begins with a short bus ride to the Turkey Creek trailhead. After additional training from your Ranger, you’ll make your way to Harlan along the Vaca Trail - the very first Order of the Arrow Trail Crew project. Take in the Palisades Rock formation that evening as the sun lights it up. Learn to reload 12-gauge shotgun shells and then put them to use at the skeet range the next morning before heading to Devils Wash Basin. Continue through the burn scar to your next destination, Cimarroncita for 3-D Archery and the Laser Shooting Range. Black Jacks, deep in Turkey Canyon is your next target. From there head to Elkhorn where you will work on a new trail to complete your Conservation Project. Head over to Ponil the next day for a mountain horseback ride, Western lore, and branding. After your Chuckwagon dinner, enjoy a root beer in the cantina with your crew and take in the Cantina Show. Get a good night’s sleep for an early start the next morning as you conquer Hart Peak, the highest point on Philmont back in 1939 when Ponil was original base camp and headquarters, and then head to Indian Writings. Check out the Atlatl darts and then head back in time for the Petroglyph Tour. On your way to the Six Mile Gate turnaround be sure to go back a little further in time as you check out the first T-Rex track ever discovered. Enjoy your bus ride back to Base Camp as you and your crew reminisce on your exciting adventure!"," "]
[{"$f":"IF(B3=\"\",\"\",LEN(C3))","v":1673},{"$f":"Itineraries!A4","v":"9-2"},"Take a trip back in time with this itinerary that is chock full of unique programs and relics from the past! Start your journey through this timeline after getting off the bus at the Six Mile Gate Trailhead for a visit to the first confirmed T-Rex track in the world. Look for other fossils and footprints as you head upstream to Indian Writings where you will tour the fascinating petroglyphs left by the Ancestral Puebloan people prior to 1300 CE and work on an archaeological dig to discover more clues of their activities on Philmont property. Continue up the North Ponil Canyon to link up with the Cimarron & Northwestern Railroad at Metcalf Station. Work on the railroad, do some blacksmithing, then enjoy their nightly campfire program. As you make your way to Bluestem the next day, you'll pass through Ponil where you will be taken back to the old west! Try your hand at branding and roping, then reward yourself with a cold root beer in the Cantina before heading to camp for the night. The next morning you will head to Pueblano, taking you back to the early 1900s, where the loggers of the Continental Tie & Lumber Co. will teach you how to use crosscut saws or a broad axe. Pass through Baldy Town and set up camp to stage your Baldy Summit from Black Horse Mine Camp. After summiting Baldy Mountain and taking in the views, stop at Miranda where you will be transported to 1838 and the fur trapper rendezvous. Shoot muzzle loading rifles, throw tomahawks, and be regaled with the many tall tales the trappers will share with you before your final destination at Maxwell Trailhead on your final morning so you can meet your bus for your trip back to Base Camp."," "]
[1475,{"$f":"Itineraries!A5","v":"9-3"},"Sweep across Philmont’s mountainous south country in this adventure-filled trek! Start your trek by hiking through Clarks Fork on your way to Ponderosa Park for Ranger Training. The next day, head up and over Shaefers Pass, where you can side hike the 9,413 ft. Shaefers Peak before making it to Miners Park for some rock climbing and rappelling excitement! From there, hike up the beautiful North Fork Urraca Creek to Black Mountain camp to learn blacksmithing and marksmanship skills from the soldiers at this post Civil War encampment. Then, it's off to Beaubien for branding, roping, and horseback rides. The hearty chuckwagon dinner, a cowboy campfire, and views of one of the most beautiful meadows at Philmont are all sure to please! After your layover, your journey will bring you through Phillips Junction for a resupply of sustenance, then onward to the homesteading family living at Crooked Creek. Help them tend to their animals and enjoy their rustic home before making it to Comanche Peak to rest for the night, as you will need your energy to conquer Mount Phillips the next day! Once on top of Mount Phillips, views of the Moreno Valley, Wheeler Peak, and Baldy Mountain will leave lasting memories for your crew! Camp at Clear Creek with the Rocky Mountain Fur Co. for some muzzle loading rifles and tomahawks before hiking down through the scenic Tolby Meadows and down to the Tolby Trailhead, enjoying tremendous views the entire way. Next stop… Base Camp!"," "]
[1639,{"$f":"Itineraries!A6","v":"9-4"},"This itinerary provides a tour of the beauty and splendor of Philmont’s South country, as well as a new opportunity to hike out of base camp! Start at Camping Headquarters and hike to Heck Meadow, one of Philmont’s newest trail camps. Be sure to catch the amazing sunrise before making the short journey to Clarks Fork where you will have the day to enjoy the full complement of programs they have to offer. Ride Horses, try your hand at roping and branding, enjoy a hearty chuckwagon dinner and top the day off with an exciting campfire program. Make your way to Cimarroncito, where you will have a hands-on rock climbing experience. Be sure to stop and visit with the Visiting Forester at the Demonstration Forest on your way, though! Head through Cyphers Mine for your golden opportunity to try your hand at panning for gold and learning the life of a miner. Enjoy the cool night at Whistle Punk before making your way to Sawmill for an exciting shooting sports program. Wake up early and ascend the first of your back-to-back peaks, Comanche Peak. You will be camping at Divide to prepare for your next peak, Mt. Phillips. These views will provide an unparalleled reward as you descend to the Rocky Mountain Fur Co. at Clear Creek the next morning. Here you will learn the life of the fur trapper working and shoot muzzle loading rifles, throw tomahawks, and check out the Trapper Cabin. Your last hike is long but rewarding as you make your way down to the Tolby Trailhead. The views along this route are breathtaking and will make for a memorable experience as you reflect on your trek, catch your bus, and make it back to Base Camp!"," "]
[2188,{"$f":"Itineraries!A7","v":"9-5"},"This vista-rich itinerary has a great elevation profile with a supportive buildup, pinnacle ‘mountain-top’ experience, and a reflective to relaxing end. While the Baldy Mountain area will bring you to new heights on days 5-6; it’s flanked by design to make your trek successful and memorable. The first couple days will include initial skills taught by your Ranger while building excitement with fantastic views of Baldy Mountain. The views on the Dean Skyline are breathtaking as you settle down for the night and prepare for your journey to Upper Dean Cow the next morning. After truly immersing yourself over the first 3 days at Philmont, now is the perfect time to begin turning individuals into teammates at Head of Dean. Approach this camp with the willingness to break down barriers, the humility to accept imperfection, and the courage to help others. The pinnacle of your experience will likely be found in Baldy Country: touring the Aztec Mine at French Henry, hiking Baldy Mountain and two days at Copper Park. As you explore this area, you can see, feel, and imagine the history here. Its impact is pervasive, and you’ll feel enchanted here. Absorb the mining history and allow yourself to be transported back in time – it’s not hard to do! While there’s still vast quantities of gold in Baldy Mountain’s interior, it’s unlikely you’ll find more than a flake or two. However, the real gold is the memories you take home – a treasure that grows bigger and bigger through the rest of your life. As you hike down from the clouds, through French Henry and over Wilson Mesa, Rich Cabins and Ponil are perfect camps for reflecting on your experience as well as the experiences of historic peoples at Philmont Scout Ranch. At Rich Cabins, you’ll be able to compare your outdoor recreation pursuits to the homesteading endeavors of the Rich Family. Further down at Ponil, you’ll understand the ranching efforts of cowboys in the West and do some horseback riding of your own. And finally, as your bus returns to the ‘real world’, your memories will be filled with an incredible outdoor experience and the knowledge that you and your crew accepted and conquered the Philmont Challenge."," "]
[1504,{"$f":"Itineraries!A8","v":"9-6"},"This challenging North Country itinerary will take you to Philmont’s highest point and get you great program opportunities along the way. You will start your trek off at Ponil Trailhead before hiking on to Sioux for the night. The next day you will hike to Pueblano where you will visit the loggers at Pueblano to learn logging skills with the Continental Tie and Lumber Co. and to experience their company meeting that night for a great musical experience. Be sure to stop at French Henry to explore the Aztec Mine or do some gold panning! Pass through Baldy Town for resupply and a taste of the unique mining history found there as you make your way to Touch Me Not Creek for the night. Get a good night's rest so you will be ready for the following day’s summit: Baldy Mountain at 12,441 ft. above sea level. After your day of conquering Baldy, it's early to bed, early to rise, so you can get down to the Fur Trapper Rendezvous at Miranda before hiking to Baldy Skyline where you will get a great view to reflect upon your accomplishment the previous day. After spending the night at Baldy Skyline, pass through Head of Dean and work with the facilitators to conquer some of their challenge course events. Next, you will hike to Upper Dean Cow for a peaceful night on the trail. The next day you will head to Cimarroncita where you can try out some 3-D Archery and the Laser Shot shooting range. It's a short hike the next day to the Ute Park Trailhead for your bus pickup and trip back to Base Camp!"," "]
[1988,{"$f":"Itineraries!A9","v":"9-7"},"This program packed itinerary loops through the Philmont North Country and combines high peaks and beautiful vistas with Southwest history. The adventure begins with a bus from Base Camp to the Six-Mile Gate Trailhead and a short hike to McBride Canyon Camp, where your Ranger will pass on important skills. Get up early the next morning to summit Hart Peak, then drop down into the North Ponil Canyon for a quick stop at Indian Writings where you will see Ancestral Puebloan petroglyphs. Then, listen for the echo of the mauls striking spikes as you make your way to Metcalf Station to learn what life was like on the railroad. You’ll help rebuild the old rail line and enjoy great music and stories at the evening campfire program. The next day you will be rewarded with a chance to do some horseback riding, roping, and branding at Ponil. Enjoy a cold and refreshing root beer at the cantina, chow down on a delicious chuckwagon meal and prepare to be entertained at the evening Cantina Show! Head down the South Ponil River to the Continental Tie and Lumber Co. at Pueblano where your crew can climb spar poles and make rail ties before enjoying yet another amazing campfire performance. Your next two nights will be at Azurite, where you will have a layover and prepare yourself with rest and reflection before your ascent of Philmont's highest peak. But first, you’ll have the opportunity to pass through French Henry to pan for gold and tour the Aztec Mine at French Henry. Rest up at Azurite and rise early for your Baldy Summit and a stop at the old mining community at Baldy Town for a taste of history and food resupply. Climbing to the top of the 12,441 ft. Baldy Mountain is sure to be the highlight of your Philmont adventure! Your next day is just a short hike to Miranda where you will have plenty of time for muzzle loading rifles, tomahawks and the Fur Trapper rendezvous. Your final hike brings you to the Maxwell Trailhead for your trip back to Base Camp. What a trek!"," "]
[2139,{"$f":"Itineraries!A10","v":"9-8"},"If your crew is interested in climbing, mining, and muzzle loading rifles, then this itinerary is for you! Begin your journey at the Lovers Leap Trailhead with your Ranger and make your way to Aguila trail camp to continue your training. Stop by Crater Lake the next day where you will learn skills from the loggers of the Continental Tie & Lumber Co and work on a railroad tie. Then, you are off to Miners Park for a unique climbing experience. Check out their climbing wall, climbing gym, and participate in crate stacking if you get the chance! Rest up that night, as your next day brings you your first mountain climbing experience! Hike up and over Shaefers Pass and climb to the top of Shaefers Peak and enjoy the views. Head down to Clarks Fork for some Western Lore activities, a chuckwagon dinner, and a boot stomping time at their evening campfire program. The next day brings your crew through the Demonstration Forest and Hunting Lodge for some time with the foresters. Cimarroncito will be your next camp, where you will be able to enjoy more rock climbing and rappelling on natural rock. The climbing gym and traverse wall at the camp also provide a unique climbing challenge. Up and at ‘em, as your next day takes you up to Lamberts Mine where you can hike over for the Cyphers Mine Stomp that evening. You'll hike through the next day where you will have the opportunity to get hands-on experiences learning the life of a miner, pan for gold, tour the Contention Mine. Two more peaks await you, Comanche Peak, and Philmont’s second highest peak, Mount Phillips. You’ll spend the night at Thunder Ridge camp before climbing those peaks and then head on down to Clear Creek the next day to spend some time with the trappers of the Rocky Mountain Fur Co. and learn how to throw tomahawks and shoot muzzle loading rifles. From there you will move on to the CS Ranch’s American Creek trail camp for the night. Your journey is almost complete, but not before hiking down the Tolby Road Trail, which offers breathtaking views of the Wheeler Peak Range as you make your way to the Tolby Trailhead, and ultimately back to Base Camp."," "]
[1551,{"$f":"Itineraries!A11","v":"9-9"},"This trek offers a good mix of program along with some longer hiking days. Start your trek with a bus ride to Webster Trailhead and a short hike to Arrowhead for Ranger training and your first night on the trail. Hike with a visiting forester through the Demonstration Forest, and camp near one of Waite Phillip's cabins at the Hunting Lodge. Make your way to Sawmill the next day for .30-06 reloading and shooting. Wake up early for your hike across the 2018 Ute Park fire burn scar where you’ll be able to observe the results of this wildfire on Philmont property. At Cimarroncita, enjoy the 3-D archery, and new laser shooting range programs. Head into the north country and enjoy a night in the Dean Canyon at Upper Dean Cow Camp. The next morning you'll pass through Head of Dean for some Challenge Course activities, then enter Baldy country for resupply at Baldy Town and a quick tour the museum before heading to Black Horse Mine Camp, where you will want to get a good night’s sleep as you prepare for your ascent of Baldy Mountain from this new trail camp. Spend a little time celebrating at the highest point on Philmont Scout Ranch before heading to Miranda to visit the fur trapper rendezvous and throw some tomahawks. Move on to your trail camp exploring this rarely touched part of the backcountry at Touch-Me-Not Creek. Take some time near the creek to ponder the flowing water and your crew’s long journey. A quick hike to Maxwell Trailhead the next morning and a longer bus ride will bring you back to where it all began…. Base Camp!"," "]
[1757,{"$f":"Itineraries!A12","v":"9-10"},"Looking for a trek that follows rushing streams, discovers mountain meadows, and traverses lofty peaks across Philmont’s South Country? This is it! Hone your Philmont camping procedures with your Ranger before camping at Line Camp for the night. Get up bright and early the next day so you can enjoy the morning hike through the Notch and enjoy the stellar views via this hike along the Rayado Canyon. Rayado, Crater, and Lookout Peaks will be seen from the trail on your way to Fish Camp where you will get to see Waite Phillips' Rayado Lodge at the confluence of the Agua Fria and Rayado Creeks. Enjoy the hike up the Agua Fria to the beautiful meadows of Apache Springs and learn about the Jicarilla Apache and shoot 3-D archery targets. Stop and visit the homesteading family living at Crooked Creek the next day. Help them tend to their animals and enjoy their rustic home before making it to Porcupine. The next day you'll pass through Beaubien for roping and branding and then up and over Trail Peak where you'll pay your respects at the crash site of a B-24 Liberator. Don’t forget to visit the loggers of the Continental Tie & Lumber Co. as you head to Miners Park for some rock climbing and rappelling. You can look forward to your next destination...the haunted Urraca Mesa where your crew will complete their challenge course events and enjoy an evening campfire as the staff regale stories of the eclectic history of this landmark! Enjoy the beautiful sunrise on Inspiration Point before you make your way to Stockade Ridge for your final night on the trail. Look up at the Tooth of Time, as you will be climbing to the top of this iconic monolith the next morning as you hike your way back into base camp for the closing campfire. What a trek!"," "]
[1929,{"$f":"Itineraries!A13","v":"9-11"},"From the ancient waters of the Rayado River to the prehistoric Tooth of Time, this itinerary has it all! Your bus will travel along the old Santa Fe Trail and drop you off at the Zastrow Trailhead where you will hit the trail into Philmont’s beautiful South country. After training the crew, your Ranger will escort you from the musical waters of the Rayado River at Abreu to Crater Lake. There, you’ll be drawn into the mystique of the Continental Tie & Lumber Co., especially during the evening campfire. Next, make your way over Trail Peak to pay respects to the bomber crew that crashed in a B-24 Liberator on this site in 1942. Then, head up the gorgeous meadows to Beaubien, one of Philmont’s Western Lore camps. Here your crew will get to experience horseback rides, a hearty chuckwagon dinner, and a campfire show that is not to be missed! The next two days will go deeper into Philmont’s wilderness where you will enjoy the beauty of Crooked Creek during your visit to the homesteading family there. Your next day can be a big one, so be sure to get some rest at Comanche Creek! Make your way to the Rocky Mountain Fur Co. at Clear Creek and learn about the fur trapping industry, then get ready to tackle Mt. Phillips! (And if you are up to it, side hike Comanche Peak.) Take a load off and camp at Red Hills before making your way down to the Post Civil War Encampment at Black Mountain Camp. Here you will learn how to blacksmith, shoot muzzle loading rifles, and enjoy the serenity of camping along the North Fork Urraca Creek. Continue to be inspired by the beauty of this canyon and make your way down the North Fork Urraca Creek. Be sure to fill up your water before your ascent to Shaefers Pass camp. On your last day climb Shaefers Peak, traverse along Tooth Ridge, and make a dramatic summit atop the legendary Tooth of Time. Finish the descent back to Philmont Base Camp, and a victory ice cream at Base Camp!"," "]
[1644,{"$f":"Itineraries!A14","v":"9-12"},"This rugged South Country itinerary sees it all and will push your crew to the limits. After starting out at Zastrow Trailhead, you’ll spend your first night at Line Camp continuing your Ranger Training before enjoying the beautiful hike through Rayado Canyon on your way to Crags the next night. You'll pass through Fish Camp and soak in some Waite Phillips history. You'll end that day’s hike at Apache Springs where you get to experience the activities of the Jicarilla Apache, 3-D archery, sporting arrows, a sweat lodge, and the sunset meadow hike to cap off a great day. Get up the next morning to head up to Beaubien for some Western Lore action! Enjoy a Chuckwagon dinner and enjoy the Cowboy Campfire to end the day. The next day will take you to the homesteaders at Crooked Creek where you will see how they live off the land and take care of their livestock. Head out early the next morning as you make your way towards Philmont's second highest peak and a chance to side hike another at Comanche Peak. The sunrise on Phillips is not to be missed, so be sure to enjoy it before leaving to experience life as a fur trapper working for the Rocky Mountain Fur Co. Get a trapping talk at their cozy cabin and try your hand at some tomahawk throwing with some friendly competitions among your crew. Though the last day on the trail is long, the journey down to the Tolby Trailhead is gorgeous and will allow you to enjoy magnificent panoramic views of Wheeler Peak, the tallest peak in New Mexico. Get your cameras ready! Keep heading down this scenic route, where you will be picked up by your bus at the trailhead. Next stop… Base Camp!"," "]
[1289,{"$f":"Itineraries!A15","v":"9-13"},"If you enjoy shooting sports, this is itinerary for you! Start your adventure with a bus ride to the Turkey Creek trailhead. Your Ranger will continue your training as you hike through the burn scar to Harlan. Be sure to catch the Palisades at sunset for a spectacular view. Before heading to Devils Wash Basin the next day, reload 12-gauge shotgun and then use them to down some clays at the range. Your next stop is at Sawmill where you’ll get the chance to shoot .30.06 rifles and reload ammunition. Complete your trail building Conservation Project and then make your way to Mount Phillips camp, the highest elevation camp at Philmont. Eat your lunch for dinner at the peak as you enjoy the views of Baldy Mountain, the Moreno Valley, and Mount Wheeler. Learn about the Rocky Mountain Fur Company and throw some ‘hawks the next morning at Clear Creek, stop by the homestead at Crooked Creek, and then pitch your tent along the beautiful Rayado at Porcupine. Next up is Beaubien for a horse ride, Chuckwagon Dinner, and a real cowboy campfire. On your way to Shaefers Pass, stop by Black Mountain camp and try your hand at blacksmithing and shooting a muzzle loader. Get an early start the next day for your triumphant return to Base Camp via Shaefers Peak and the iconic Tooth of Time!"," "]
[1471,{"$f":"Itineraries!A16","v":"9-14"},"Be among the first adventurers to camp in the Ute Park Fire burn scar on this itinerary that offers plenty of program opportunities and some serious hiking! You and your Ranger will board a bus at the Welcome Center for a ride to the Ponil Trailhead. Make your way through Ponil as you head to Flume Canyon for your first night in the backcountry. The next morning head to Pueblano where you will get the chance to climb a spar pole and attend the Continental Tie and Lumber Company meeting that evening. Next on the agenda is a stop at French Henry for blacksmithing, gold panning, and a mine tour before hiking on to Ewells Park. Get a good night’s sleep and an early start the next day for your summit of Philmont’s highest peak, Baldy Mountain! Enjoy the view and then head down to Baldy Town for some mining history. Take on the challenge course the next day at Head of Dean. You’ll want to be up with the sun the next morning when you make your way through Cimarroncita for the Laser Range and 3-D Archery on your way to Minnette Meadows where you’ll get the chance to see how Philmont is beginning to recover from the 2018 fire. A trip up and over Ute Park Pass is part of your next day as you head deeper into the burn scar to Harlan for 12-gauge shotgun reloading and shooting. Make your way to the Turkey Creek trailhead the next morning to catch a ride back to Camping Headquarters. The crew will be able to celebrate a “job well done” at the closing campfire."," "]
[1884,{"$f":"Itineraries!A17","v":"9-15"},"Your journey through the North and into the Central Country of Philmont starts where it all began...Ponil! Take the bus to Philmont's original base camp and grab a quick root beer before heading to Bluestem camp so your Ranger can continue your skills training. Head to the Continental Tie and Lumber Company at Pueblano for an introduction to logging skills and spar pole climbing. Their Company Meeting Campfire will be something to behold as well! The next morning you will make your way into Philmont's historic mining area. Pass through French Henry and take a tour of the Aztec Mine, pan for gold, and get to work in the forge! After striking it rich at French, get up to Copper Park for some rest so you can rise early in the morning for your Baldy summit. Pack up early, hang your bear bags, and conquer Philmont’s highest peak! You can enjoy your lunch on the summit, then head back down to Copper Park to grab your gear and pass through historic Baldy Town and then hike on to Head of Dean to enjoy some team building exercises and challenge course elements together as a crew. The next morning, you'll make the long journey to Cimarroncita to make preparations to hike through the 2018 Ute Park Fire burn scar. Pass through Sawmill for some training on the .30-06 rifle shooting and reloading programs and rest up at Whistle Punk Camp. Your journey continues through another historic mining area at Cyphers Mine, down to one of Waite Phillips' rustic cabins at Hunting Lodge and then over to Clarks Fork. Enjoy some roping and branding and get ready for an awesome campfire program that will be sure to entertain you on your last night in the backcountry. A big final day is ahead of you as you rise early to get ready to conquer two peaks in one day: Shaefers Peak and the iconic Tooth of Time. March triumphantly into base camp after an amazing journey...you all made it!"," "]
["",{"$f":"Itineraries!A18","v":""},null," "]
["",{"$f":"Itineraries!A19","v":""},null," "]
["",{"$f":"Itineraries!A20","v":""},null," "]
["",{"$f":"Itineraries!A21","v":""},null," "]
["",{"$f":"Itineraries!A22","v":""},null," "]
["",{"$f":"Itineraries!A23","v":""},null," "]
["",{"$f":"Itineraries!A24","v":""},null," "]
["",{"$f":"Itineraries!A25","v":""},null," "]
["",{"$f":"Itineraries!A26","v":""},null," "]
["",{"$f":"Itineraries!A27","v":""},null," "]
["",{"$f":"Itineraries!A28","v":""},null," "]
["",{"$f":"Itineraries!A29","v":""},null," "]
["",{"$f":"Itineraries!A30","v":""},null," "]
["",{"$f":"Itineraries!A31","v":""},null," "]
["",{"$f":"Itineraries!A32","v":""},null," "]
["",{"$f":"Itineraries!A33","v":""},null," "]
["",{"$f":"Itineraries!A34","v":""},null," "]
["",{"$f":"Itineraries!A35","v":""}]
["",{"$f":"Itineraries!A36","v":""},null," "]

{"sheet":"Calculator","index":13,"n_rows":45,"n_cols":63,"rows_kept":45,"cut":false,"hidden":true,"merged":[[39,0,39,1]]}
["Calculate Individual Values Based on Tables & Scores",null,null,null,null,null,null,null,null,null,null,null,null,null,null,null,null,null,null,null,null,null,null,1,{"$f":"X1+1","v":2},{"$f":"Y1+1","v":3},4,5,6,7,8,9,10,11,12,13,14,15,16,17,18,19,20,21,22,23,24,25,26,27,28,29,30,31,32,33,34,35,36,37,{"$f":"BH1+1","v":38},{"$f":"BI1+1","v":39},{"$f":"BJ1+1","v":40}]
[{"$f":"Itineraries!A2","v":"Itinerary"},"Ranking","Difficulty","Distance","Food from HQ","Days Food","Trail Camps","Dry Camps","Total Camps","Max Altitude","Total Gain","Daily Change","Hike Out","Hike In","Baldy Mountain","Mount Phillips","Tooth of Time","Trail Peak","Mountaineering","South","Central","North","Valle Vidal",{"$f":"INDEX(program_table,X$1)","v":"Archaeology"},{"$f":"INDEX(program_table,Y$1)","v":"Archery - 3 Dimensional"},{"$f":"INDEX(program_table,Z$1)","v":"Atlatl (Dart-throwing)"},{"$f":"INDEX(program_table,AA$1)","v":"Baldy Mountain"},{"$f":"INDEX(program_table,AB$1)","v":"Blacksmithing"},{"$f":"INDEX(program_table,AC$1)","v":"Campfire (evening)"},{"$f":"INDEX(program_table,AD$1)","v":"Cantina"},{"$f":"INDEX(program_table,AE$1)","v":"Challenge Events"},{"$f":"INDEX(program_table,AF$1)","v":"Chuckwagon Dinner"},{"$f":"INDEX(program_table,AG$1)","v":"Demonstration Forest"},{"$f":"INDEX(program_table,AH$1)","v":"Fishing"},{"$f":"INDEX(program_table,AI$1)","v":"Fly Tying"},{"$f":"INDEX(program_table,AJ$1)","v":"Fur Trapper Rendezvous"},{"$f":"INDEX(program_table,AK$1)","v":"Gold Mining & Panning"},{"$f":"INDEX(program_table,AL$1)","v":"Homesteading"},{"$f":"INDEX(program_table,AM$1)","v":"Horse Rides"},{"$f":"INDEX(program_table,AN$1)","v":"Hunter Safety"},{"$f":"INDEX(program_table,AO$1)","v":"Inspiration Point Hike"},{"$f":"INDEX(program_table,AP$1)","v":"Jicarilla Apache Life"},{"$f":"INDEX(program_table,AQ$1)","v":"Laser Shot Shooting Range"},{"$f":"INDEX(program_table,AR$1)","v":"Lodge/Cabin Tours"},{"$f":"INDEX(program_table,AS$1)","v":"Low Impact Camping"},{"$f":"INDEX(program_table,AT$1)","v":"Mine Tour"},{"$f":"INDEX(program_table,AU$1)","v":"Mount Phillips"},{"$f":"INDEX(program_table,AV$1)","v":"Mountaineering"},{"$f":"INDEX(program_table,AW$1)","v":"Muzzle Loading Rifle"},{"$f":"INDEX(program_table,AX$1)","v":"New Mexico Homestead"},{"$f":"INDEX(program_table,AY$1)","v":"Petroglyph Tour"},{"$f":"INDEX(program_table,AZ$1)","v":"Post Civil War Encampment"},{"$f":"INDEX(program_table,BA$1)","v":"Railroading"},{"$f":"INDEX(program_table,BB$1)","v":"Rock Climbing & Rappelling"},{"$f":"INDEX(program_table,BC$1)","v":"Rocky Mountain Fur Co."},{"$f":"INDEX(program_table,BD$1)","v":"Shooting/Reloading - .30-06"},{"$f":"INDEX(program_table,BE$1)","v":"Shotgun Shooting/Reloading - 12 Gauge"},{"$f":"INDEX(program_table,BF$1)","v":"Spar Pole Climbing"},{"$f":"INDEX(program_table,BG$1)","v":"Tie Making & Crosscut Saws"},{"$f":"INDEX(program_table,BH$1)","v":"Tomahawk Throwing"},{"$f":"INDEX(program_table,BI$1)","v":"Tooth of Time"},{"$f":"INDEX(program_table,BJ$1)","v":"Trail Peak"},{"$f":"INDEX(program_table,BK$1)","v":"Western Lore/Branding"}]
[{"$f":"Itineraries!A3","v":"9-1"},{"$f":"SUM(C3:BK3)","v":8776},{"$f":"getScoreFactor(C$2,itineraryCamps!C4)","v":4000},{"$f":"getScoreFactor(D$2,\"Miles\") *itineraryCamps!D4","v":3700},{"$f":"IF($A3=\"\",\"\",getScoreFactor(E$2,Itineraries!B3))","v":30},{"$f":"IF(A3=\"\",\"\",getScoreFactor(F$2,Itineraries!C3))","v":90},{"$f":"IF(A3=\"\",\"\",getScoreFactor(G$2,Itineraries!E3))","v":75},{"$f":"IF(A3=\"\",\"\",getScoreFactor(H$2,Itineraries!H3))","v":250},{"$f":"IF(A3=\"\",\"\",getScoreFactor(I$2,Itineraries!G3))","v":75},{"$f":"IF(A3=\"\",\"\",getScoreFactor(J$2,Itineraries!J3))","v":20},{"$f":"IF(A3=\"\",\"\",getScoreFactor(K$2,Itineraries!K3))","v":50},{"$f":"IF(A3=\"\",\"\",getScoreFactor(L$2,Itineraries!L3))","v":300},{"$f":"IF(A3=\"\",\"\",IF(INDEX(startingTA,numericItinerary($A3))=$M$2,getScoreFactor(M$2,\"y\"),getScoreFactor(M$2,\"n\")))","v":0},{"$f":"IF(A3=\"\",\"\",IF(INDEX(startingTA,numericItinerary($A3))=$M$2,getScoreFactor(N$2,\"y\"),getScoreFactor(N$2,\"n\")))","v":0},{"$f":"IF(A3=\"\",\"\",IF(INDEX(baldyMountainHike,numericItinerary($A3))=\"\",\"\",getPeakScore(O$2)))","v":""},{"$f":"IF(A3=\"\",\"\",IF(INDEX(mountPhillipsHike,numericItinerary($A3))=\"\",\"\",getPeakScore(P$2)))","v":""},{"$f":"IF(A3=\"\",\"\",IF(INDEX(toothOfTimeHike,numericItinerary($A3))=\"\",\"\",getPeakScore(Q$2)))","v":""},{"$f":"IF(A3=\"\",\"\",IF(INDEX(trailPeakHike,numericItinerary($A3))=\"\",\"\",getPeakScore(R$2)))","v":""},{"$f":"IF(A3=\"\",\"\",IF(INDEX(mountaineeringHike,numericItinerary($A3))=\"\",\"\",getPeakScore(S$2)))","v":0},{"$f":"IF(areaImportant<>\"y\",\"\",IF(Itineraries!P3<>\"Y\",\"\",getareascore(T$2)))","v":""},{"$f":"IF(areaImportant<>\"y\",\"\",IF(Itineraries!Q3<>\"Y\",\"\",getareascore(U$2)))","v":""},{"$f":"IF(areaImportant<>\"y\",\"\",IF(Itineraries!R3<>\"Y\",\"\",getareascore(V$2)))","v":""},{"$f":"IF(areaImportant<>\"y\",\"\",IF(Itineraries!S3<>\"Y\",\"\",getareascore(W$2)))","v":""},{"$f":"IF(ItineraryPrograms!B3=\"y\",getScoreFactor(\"Program\",X$2),\"\")","v":22.5},{"$f":"IF(ItineraryPrograms!C3=\"y\",getScoreFactor(\"Program\",Y$2),\"\")","v":30},{"$f":"IF(ItineraryPrograms!D3=\"y\",getScoreFactor(\"Program\",Z$2),\"\")","v":10.5},{"$f":"IF(ItineraryPrograms!E3=\"y\",getScoreFactor(\"Program\",AA$2),\"\")","v":""},{"$f":"IF(ItineraryPrograms!F3=\"y\",getScoreFactor(\"Program\",AB$2),\"\")","v":""},{"$f":"IF(ItineraryPrograms!G3=\"y\",getScoreFactor(\"Program\",AC$2),\"\")","v":""},{"$f":"IF(ItineraryPrograms!H3=\"y\",getScoreFactor(\"Program\",AD$2),\"\")","v":14.25},{"$f":"IF(ItineraryPrograms!I3=\"y\",getScoreFactor(\"Program\",AE$2),\"\")","v":""},{"$f":"IF(ItineraryPrograms!J3=\"y\",getScoreFactor(\"Program\",AF$2),\"\")","v":13.5},{"$f":"IF(ItineraryPrograms!K3=\"y\",getScoreFactor(\"Program\",AG$2),\"\")","v":""},{"$f":"IF(ItineraryPrograms!L3=\"y\",getScoreFactor(\"Program\",AH$2),\"\")","v":""},{"$f":"IF(ItineraryPrograms!M3=\"y\",getScoreFactor(\"Program\",AI$2),\"\")","v":""},{"$f":"IF(ItineraryPrograms!N3=\"y\",getScoreFactor(\"Program\",AJ$2),\"\")","v":""},{"$f":"IF(ItineraryPrograms!O3=\"y\",getScoreFactor(\"Program\",AK$2),\"\")","v":""},{"$f":"IF(ItineraryPrograms!P3=\"y\",getScoreFactor(\"Program\",AL$2),\"\")","v":""},{"$f":"IF(ItineraryPrograms!Q3=\"y\",getScoreFactor(\"Program\",AM$2),\"\")","v":12},{"$f":"IF(ItineraryPrograms!R3=\"y\",getScoreFactor(\"Program\",AN$2),\"\")","v":""},{"$f":"IF(ItineraryPrograms!S3=\"y\",getScoreFactor(\"Program\",AO$2),\"\")","v":""},{"$f":"IF(ItineraryPrograms!T3=\"y\",getScoreFactor(\"Program\",AP$2),\"\")","v":""},{"$f":"IF(ItineraryPrograms!U3=\"y\",getScoreFactor(\"Program\",AQ$2),\"\")","v":15},{"$f":"IF(ItineraryPrograms!V3=\"y\",getScoreFactor(\"Program\",AR$2),\"\")","v":""},{"$f":"IF(ItineraryPrograms!W3=\"y\",getScoreFactor(\"Program\",AS$2),\"\")","v":""},{"$f":"IF(ItineraryPrograms!X3=\"y\",getScoreFactor(\"Program\",AT$2),\"\")","v":""},{"$f":"IF(ItineraryPrograms!Y3=\"y\",getScoreFactor(\"Program\",AU$2),\"\")","v":""},{"$f":"IF(ItineraryPrograms!Z3=\"y\",getScoreFactor(\"Program\",AV$2),\"\")","v":18.75},{"$f":"IF(ItineraryPrograms!AA3=\"y\",getScoreFactor(\"Program\",AW$2),\"\")","v":""},{"$f":"IF(ItineraryPrograms!AB3=\"y\",getScoreFactor(\"Program\",AX$2),\"\")","v":""},{"$f":"IF(ItineraryPrograms!AC3=\"y\",getScoreFactor(\"Program\",AY$2),\"\")","v":18},{"$f":"IF(ItineraryPrograms!AD3=\"y\",getScoreFactor(\"Program\",AZ$2),\"\")","v":""},{"$f":"IF(ItineraryPrograms!AE3=\"y\",getScoreFactor(\"Program\",BA$2),\"\")","v":""},{"$f":"IF(ItineraryPrograms!AF3=\"y\",getScoreFactor(\"Program\",BB$2),\"\")","v":""},{"$f":"IF(ItineraryPrograms!AG3=\"y\",getScoreFactor(\"Program\",BC$2),\"\")","v":""},{"$f":"IF(ItineraryPrograms!AH3=\"y\",getScoreFactor(\"Program\",BD$2),\"\")","v":""},{"$f":"IF(ItineraryPrograms!AI3=\"y\",getScoreFactor(\"Program\",BE$2),\"\")","v":18},{"$f":"IF(ItineraryPrograms!AJ3=\"y\",getScoreFactor(\"Program\",BF$2),\"\")","v":""},{"$f":"IF(ItineraryPrograms!AK3=\"y\",getScoreFactor(\"Program\",BG$2),\"\")","v":""},{"$f":"IF(ItineraryPrograms!AL3=\"y\",getScoreFactor(\"Program\",BH$2),\"\")","v":""},{"$f":"IF(ItineraryPrograms!AM3=\"y\",getScoreFactor(\"Program\",BI$2),\"\")","v":""},{"$f":"IF(ItineraryPrograms!AN3=\"y\",getScoreFactor(\"Program\",BJ$2),\"\")","v":""},{"$f":"IF(ItineraryPrograms!AO3=\"y\",getScoreFactor(\"Program\",BK$2),\"\")","v":13.5}]
[{"$f":"Itineraries!A4","v":"9-2"},9056.75,{"$f":"getScoreFactor(C$2,itineraryCamps!C5)","v":4000},{"$f":"getScoreFactor(D$2,\"Miles\") *itineraryCamps!D5","v":3900},{"$f":"IF($A4=\"\",\"\",getScoreFactor(E$2,Itineraries!B4))","v":40},{"$f":"IF(A4=\"\",\"\",getScoreFactor(F$2,Itineraries!C4))","v":80},{"$f":"IF(A4=\"\",\"\",getScoreFactor(G$2,Itineraries!E4))","v":50},{"$f":"IF(A4=\"\",\"\",getScoreFactor(H$2,Itineraries!H4))","v":225},{"$f":"IF(A4=\"\",\"\",getScoreFactor(I$2,Itineraries!G4))","v":75},{"$f":"IF(A4=\"\",\"\",getScoreFactor(J$2,Itineraries!J4))","v":90},{"$f":"IF(A4=\"\",\"\",getScoreFactor(K$2,Itineraries!K4))","v":90},{"$f":"IF(A4=\"\",\"\",getScoreFactor(L$2,Itineraries!L4))","v":200},{"$f":"IF(A4=\"\",\"\",IF(INDEX(startingTA,numericItinerary($A4))=$M$2,getScoreFactor(M$2,\"y\"),getScoreFactor(M$2,\"n\")))","v":0},{"$f":"IF(A4=\"\",\"\",IF(INDEX(startingTA,numericItinerary($A4))=$M$2,getScoreFactor(N$2,\"y\"),getScoreFactor(N$2,\"n\")))","v":0},{"$f":"IF(A4=\"\",\"\",IF(INDEX(baldyMountainHike,numericItinerary($A4))=\"\",\"\",getPeakScore(O$2)))","v":54},{"$f":"IF(A4=\"\",\"\",IF(INDEX(mountPhillipsHike,numericItinerary($A4))=\"\",\"\",getPeakScore(P$2)))","v":""},{"$f":"IF(A4=\"\",\"\",IF(INDEX(toothOfTimeHike,numericItinerary($A4))=\"\",\"\",getPeakScore(Q$2)))","v":""},{"$f":"IF(A4=\"\",\"\",IF(INDEX(trailPeakHike,numericItinerary($A4))=\"\",\"\",getPeakScore(R$2)))","v":""},{"$f":"IF(A4=\"\",\"\",IF(INDEX(mountaineeringHike,numericItinerary($A4))=\"\",\"\",getPeakScore(S$2)))","v":""},{"$f":"IF(areaImportant<>\"y\",\"\",IF(Itineraries!P4<>\"Y\",\"\",getareascore(T$2)))","v":""},{"$f":"IF(areaImportant<>\"y\",\"\",IF(Itineraries!Q4<>\"Y\",\"\",getareascore(U$2)))","v":""},{"$f":"IF(areaImportant<>\"y\",\"\",IF(Itineraries!R4<>\"Y\",\"\",getareascore(V$2)))","v":""},{"$f":"IF(areaImportant<>\"y\",\"\",IF(Itineraries!S4<>\"Y\",\"\",getareascore(W$2)))","v":""},{"$f":"IF(ItineraryPrograms!B4=\"y\",getScoreFactor(\"Program\",X$2),\"\")","v":22.5},{"$f":"IF(ItineraryPrograms!C4=\"y\",getScoreFactor(\"Program\",Y$2),\"\")","v":""},{"$f":"IF(ItineraryPrograms!D4=\"y\",getScoreFactor(\"Program\",Z$2),\"\")","v":10.5},{"$f":"IF(ItineraryPrograms!E4=\"y\",getScoreFactor(\"Program\",AA$2),\"\")","v":27},{"$f":"IF(ItineraryPrograms!F4=\"y\",getScoreFactor(\"Program\",AB$2),\"\")","v":12.75},{"$f":"IF(ItineraryPrograms!G4=\"y\",getScoreFactor(\"Program\",AC$2),\"\")","v":14.25},{"$f":"IF(ItineraryPrograms!H4=\"y\",getScoreFactor(\"Program\",AD$2),\"\")","v":14.25},{"$f":"IF(ItineraryPrograms!I4=\"y\",getScoreFactor(\"Program\",AE$2),\"\")","v":""},{"$f":"IF(ItineraryPrograms!J4=\"y\",getScoreFactor(\"Program\",AF$2),\"\")","v":""},{"$f":"IF(ItineraryPrograms!K4=\"y\",getScoreFactor(\"Program\",AG$2),\"\")","v":""},{"$f":"IF(ItineraryPrograms!L4=\"y\",getScoreFactor(\"Program\",AH$2),\"\")","v":""},{"$f":"IF(ItineraryPrograms!M4=\"y\",getScoreFactor(\"Program\",AI$2),\"\")","v":""},{"$f":"IF(ItineraryPrograms!N4=\"y\",getScoreFactor(\"Program\",AJ$2),\"\")","v":6},{"$f":"IF(ItineraryPrograms!O4=\"y\",getScoreFactor(\"Program\",AK$2),\"\")","v":10.5},{"$f":"IF(ItineraryPrograms!P4=\"y\",getScoreFactor(\"Program\",AL$2),\"\")","v":""},{"$f":"IF(ItineraryPrograms!Q4=\"y\",getScoreFactor(\"Program\",AM$2),\"\")","v":""},{"$f":"IF(ItineraryPrograms!R4=\"y\",getScoreFactor(\"Program\",AN$2),\"\")","v":""},{"$f":"IF(ItineraryPrograms!S4=\"y\",getScoreFactor(\"Program\",AO$2),\"\")","v":""},{"$f":"IF(ItineraryPrograms!T4=\"y\",getScoreFactor(\"Program\",AP$2),\"\")","v":""},{"$f":"IF(ItineraryPrograms!U4=\"y\",getScoreFactor(\"Program\",AQ$2),\"\")","v":""},{"$f":"IF(ItineraryPrograms!V4=\"y\",getScoreFactor(\"Program\",AR$2),\"\")","v":""},{"$f":"IF(ItineraryPrograms!W4=\"y\",getScoreFactor(\"Program\",AS$2),\"\")","v":""},{"$f":"IF(ItineraryPrograms!X4=\"y\",getScoreFactor(\"Program\",AT$2),\"\")","v":""},{"$f":"IF(ItineraryPrograms!Y4=\"y\",getScoreFactor(\"Program\",AU$2),\"\")","v":""},{"$f":"IF(ItineraryPrograms!Z4=\"y\",getScoreFactor(\"Program\",AV$2),\"\")","v":""},{"$f":"IF(ItineraryPrograms!AA4=\"y\",getScoreFactor(\"Program\",AW$2),\"\")","v":15},{"$f":"IF(ItineraryPrograms!AB4=\"y\",getScoreFactor(\"Program\",AX$2),\"\")","v":""},{"$f":"IF(ItineraryPrograms!AC4=\"y\",getScoreFactor(\"Program\",AY$2),\"\")","v":18},{"$f":"IF(ItineraryPrograms!AD4=\"y\",getScoreFactor(\"Program\",AZ$2),\"\")","v":""},{"$f":"IF(ItineraryPrograms!AE4=\"y\",getScoreFactor(\"Program\",BA$2),\"\")","v":18},{"$f":"IF(ItineraryPrograms!AF4=\"y\",getScoreFactor(\"Program\",BB$2),\"\")","v":""},{"$f":"IF(ItineraryPrograms!AG4=\"y\",getScoreFactor(\"Program\",BC$2),\"\")","v":""},{"$f":"IF(ItineraryPrograms!AH4=\"y\",getScoreFactor(\"Program\",BD$2),\"\")","v":""},{"$f":"IF(ItineraryPrograms!AI4=\"y\",getScoreFactor(\"Program\",BE$2),\"\")","v":""},{"$f":"IF(ItineraryPrograms!AJ4=\"y\",getScoreFactor(\"Program\",BF$2),\"\")","v":21},{"$f":"IF(ItineraryPrograms!AK4=\"y\",getScoreFactor(\"Program\",BG$2),\"\")","v":27},{"$f":"IF(ItineraryPrograms!AL4=\"y\",getScoreFactor(\"Program\",BH$2),\"\")","v":22.5},{"$f":"IF(ItineraryPrograms!AM4=\"y\",getScoreFactor(\"Program\",BI$2),\"\")","v":""},{"$f":"IF(ItineraryPrograms!AN4=\"y\",getScoreFactor(\"Program\",BJ$2),\"\")","v":""},{"$f":"IF(ItineraryPrograms!AO4=\"y\",getScoreFactor(\"Program\",BK$2),\"\")","v":13.5}]
[{"$f":"Itineraries!A5","v":"9-3"},9330.75,{"$f":"getScoreFactor(C$2,itineraryCamps!C6)","v":4000},{"$f":"getScoreFactor(D$2,\"Miles\") *itineraryCamps!D6","v":4100},{"$f":"IF($A5=\"\",\"\",getScoreFactor(E$2,Itineraries!B5))","v":30},{"$f":"IF(A5=\"\",\"\",getScoreFactor(F$2,Itineraries!C5))","v":90},{"$f":"IF(A5=\"\",\"\",getScoreFactor(G$2,Itineraries!E5))","v":100},{"$f":"IF(A5=\"\",\"\",getScoreFactor(H$2,Itineraries!H5))","v":225},{"$f":"IF(A5=\"\",\"\",getScoreFactor(I$2,Itineraries!G5))","v":100},{"$f":"IF(A5=\"\",\"\",getScoreFactor(J$2,Itineraries!J5))","v":110},{"$f":"IF(A5=\"\",\"\",getScoreFactor(K$2,Itineraries!K5))","v":80},{"$f":"IF(A5=\"\",\"\",getScoreFactor(L$2,Itineraries!L5))","v":300},{"$f":"IF(A5=\"\",\"\",IF(INDEX(startingTA,numericItinerary($A5))=$M$2,getScoreFactor(M$2,\"y\"),getScoreFactor(M$2,\"n\")))","v":0},{"$f":"IF(A5=\"\",\"\",IF(INDEX(startingTA,numericItinerary($A5))=$M$2,getScoreFactor(N$2,\"y\"),getScoreFactor(N$2,\"n\")))","v":0},{"$f":"IF(A5=\"\",\"\",IF(INDEX(baldyMountainHike,numericItinerary($A5))=\"\",\"\",getPeakScore(O$2)))","v":""},{"$f":"IF(A5=\"\",\"\",IF(INDEX(mountPhillipsHike,numericItinerary($A5))=\"\",\"\",getPeakScore(P$2)))","v":33.75},{"$f":"IF(A5=\"\",\"\",IF(INDEX(toothOfTimeHike,numericItinerary($A5))=\"\",\"\",getPeakScore(Q$2)))","v":""},{"$f":"IF(A5=\"\",\"\",IF(INDEX(trailPeakHike,numericItinerary($A5))=\"\",\"\",getPeakScore(R$2)))","v":""},{"$f":"IF(A5=\"\",\"\",IF(INDEX(mountaineeringHike,numericItinerary($A5))=\"\",\"\",getPeakScore(S$2)))","v":0},{"$f":"IF(areaImportant<>\"y\",\"\",IF(Itineraries!P5<>\"Y\",\"\",getareascore(T$2)))","v":""},{"$f":"IF(areaImportant<>\"y\",\"\",IF(Itineraries!Q5<>\"Y\",\"\",getareascore(U$2)))","v":""},{"$f":"IF(areaImportant<>\"y\",\"\",IF(Itineraries!R5<>\"Y\",\"\",getareascore(V$2)))","v":""},{"$f":"IF(areaImportant<>\"y\",\"\",IF(Itineraries!S5<>\"Y\",\"\",getareascore(W$2)))","v":""},{"$f":"IF(ItineraryPrograms!B5=\"y\",getScoreFactor(\"Program\",X$2),\"\")","v":""},{"$f":"IF(ItineraryPrograms!C5=\"y\",getScoreFactor(\"Program\",Y$2),\"\")","v":""},{"$f":"IF(ItineraryPrograms!D5=\"y\",getScoreFactor(\"Program\",Z$2),\"\")","v":""},{"$f":"IF(ItineraryPrograms!E5=\"y\",getScoreFactor(\"Program\",AA$2),\"\")","v":""},{"$f":"IF(ItineraryPrograms!F5=\"y\",getScoreFactor(\"Program\",AB$2),\"\")","v":12.75},{"$f":"IF(ItineraryPrograms!G5=\"y\",getScoreFactor(\"Program\",AC$2),\"\")","v":14.25},{"$f":"IF(ItineraryPrograms!H5=\"y\",getScoreFactor(\"Program\",AD$2),\"\")","v":""},{"$f":"IF(ItineraryPrograms!I5=\"y\",getScoreFactor(\"Program\",AE$2),\"\")","v":""},{"$f":"IF(ItineraryPrograms!J5=\"y\",getScoreFactor(\"Program\",AF$2),\"\")","v":13.5},{"$f":"IF(ItineraryPrograms!K5=\"y\",getScoreFactor(\"Program\",AG$2),\"\")","v":""},{"$f":"IF(ItineraryPrograms!L5=\"y\",getScoreFactor(\"Program\",AH$2),\"\")","v":""},{"$f":"IF(ItineraryPrograms!M5=\"y\",getScoreFactor(\"Program\",AI$2),\"\")","v":""},{"$f":"IF(ItineraryPrograms!N5=\"y\",getScoreFactor(\"Program\",AJ$2),\"\")","v":""},{"$f":"IF(ItineraryPrograms!O5=\"y\",getScoreFactor(\"Program\",AK$2),\"\")","v":""},{"$f":"IF(ItineraryPrograms!P5=\"y\",getScoreFactor(\"Program\",AL$2),\"\")","v":7.5},{"$f":"IF(ItineraryPrograms!Q5=\"y\",getScoreFactor(\"Program\",AM$2),\"\")","v":12},{"$f":"IF(ItineraryPrograms!R5=\"y\",getScoreFactor(\"Program\",AN$2),\"\")","v":""},{"$f":"IF(ItineraryPrograms!S5=\"y\",getScoreFactor(\"Program\",AO$2),\"\")","v":""},{"$f":"IF(ItineraryPrograms!T5=\"y\",getScoreFactor(\"Program\",AP$2),\"\")","v":""},{"$f":"IF(ItineraryPrograms!U5=\"y\",getScoreFactor(\"Program\",AQ$2),\"\")","v":""},{"$f":"IF(ItineraryPrograms!V5=\"y\",getScoreFactor(\"Program\",AR$2),\"\")","v":6},{"$f":"IF(ItineraryPrograms!W5=\"y\",getScoreFactor(\"Program\",AS$2),\"\")","v":""},{"$f":"IF(ItineraryPrograms!X5=\"y\",getScoreFactor(\"Program\",AT$2),\"\")","v":""},{"$f":"IF(ItineraryPrograms!Y5=\"y\",getScoreFactor(\"Program\",AU$2),\"\")","v":""},{"$f":"IF(ItineraryPrograms!Z5=\"y\",getScoreFactor(\"Program\",AV$2),\"\")","v":""},{"$f":"IF(ItineraryPrograms!AA5=\"y\",getScoreFactor(\"Program\",AW$2),\"\")","v":15},{"$f":"IF(ItineraryPrograms!AB5=\"y\",getScoreFactor(\"Program\",AX$2),\"\")","v":""},{"$f":"IF(ItineraryPrograms!AC5=\"y\",getScoreFactor(\"Program\",AY$2),\"\")","v":""},{"$f":"IF(ItineraryPrograms!AD5=\"y\",getScoreFactor(\"Program\",AZ$2),\"\")","v":18},{"$f":"IF(ItineraryPrograms!AE5=\"y\",getScoreFactor(\"Program\",BA$2),\"\")","v":""},{"$f":"IF(ItineraryPrograms!AF5=\"y\",getScoreFactor(\"Program\",BB$2),\"\")","v":19.5},{"$f":"IF(ItineraryPrograms!AG5=\"y\",getScoreFactor(\"Program\",BC$2),\"\")","v":7.5},{"$f":"IF(ItineraryPrograms!AH5=\"y\",getScoreFactor(\"Program\",BD$2),\"\")","v":""},{"$f":"IF(ItineraryPrograms!AI5=\"y\",getScoreFactor(\"Program\",BE$2),\"\")","v":""},{"$f":"IF(ItineraryPrograms!AJ5=\"y\",getScoreFactor(\"Program\",BF$2),\"\")","v":""},{"$f":"IF(ItineraryPrograms!AK5=\"y\",getScoreFactor(\"Program\",BG$2),\"\")","v":""},{"$f":"IF(ItineraryPrograms!AL5=\"y\",getScoreFactor(\"Program\",BH$2),\"\")","v":22.5},{"$f":"IF(ItineraryPrograms!AM5=\"y\",getScoreFactor(\"Program\",BI$2),\"\")","v":""},{"$f":"IF(ItineraryPrograms!AN5=\"y\",getScoreFactor(\"Program\",BJ$2),\"\")","v":""},{"$f":"IF(ItineraryPrograms!AO5=\"y\",getScoreFactor(\"Program\",BK$2),\"\")","v":13.5}]
[{"$f":"Itineraries!A6","v":"9-4"},10417.5,{"$f":"getScoreFactor(C$2,itineraryCamps!C7)","v":4000},{"$f":"getScoreFactor(D$2,\"Miles\") *itineraryCamps!D7","v":4400},{"$f":"IF($A6=\"\",\"\",getScoreFactor(E$2,Itineraries!B6))","v":30},{"$f":"IF(A6=\"\",\"\",getScoreFactor(F$2,Itineraries!C6))","v":90},{"$f":"IF(A6=\"\",\"\",getScoreFactor(G$2,Itineraries!E6))","v":50},{"$f":"IF(A6=\"\",\"\",getScoreFactor(H$2,Itineraries!H6))","v":225},{"$f":"IF(A6=\"\",\"\",getScoreFactor(I$2,Itineraries!G6))","v":75},{"$f":"IF(A6=\"\",\"\",getScoreFactor(J$2,Itineraries!J6))","v":80},{"$f":"IF(A6=\"\",\"\",getScoreFactor(K$2,Itineraries!K6))","v":80},{"$f":"IF(A6=\"\",\"\",getScoreFactor(L$2,Itineraries!L6))","v":200},{"$f":"IF(A6=\"\",\"\",IF(INDEX(startingTA,numericItinerary($A6))=$M$2,getScoreFactor(M$2,\"y\"),getScoreFactor(M$2,\"n\")))","v":500},{"$f":"IF(A6=\"\",\"\",IF(INDEX(startingTA,numericItinerary($A6))=$M$2,getScoreFactor(N$2,\"y\"),getScoreFactor(N$2,\"n\")))","v":500},{"$f":"IF(A6=\"\",\"\",IF(INDEX(baldyMountainHike,numericItinerary($A6))=\"\",\"\",getPeakScore(O$2)))","v":""},{"$f":"IF(A6=\"\",\"\",IF(INDEX(mountPhillipsHike,numericItinerary($A6))=\"\",\"\",getPeakScore(P$2)))","v":33.75},{"$f":"IF(A6=\"\",\"\",IF(INDEX(toothOfTimeHike,numericItinerary($A6))=\"\",\"\",getPeakScore(Q$2)))","v":""},{"$f":"IF(A6=\"\",\"\",IF(INDEX(trailPeakHike,numericItinerary($A6))=\"\",\"\",getPeakScore(R$2)))","v":""},{"$f":"IF(A6=\"\",\"\",IF(INDEX(mountaineeringHike,numericItinerary($A6))=\"\",\"\",getPeakScore(S$2)))","v":0},{"$f":"IF(areaImportant<>\"y\",\"\",IF(Itineraries!P6<>\"Y\",\"\",getareascore(T$2)))","v":""},{"$f":"IF(areaImportant<>\"y\",\"\",IF(Itineraries!Q6<>\"Y\",\"\",getareascore(U$2)))","v":""},{"$f":"IF(areaImportant<>\"y\",\"\",IF(Itineraries!R6<>\"Y\",\"\",getareascore(V$2)))","v":""},{"$f":"IF(areaImportant<>\"y\",\"\",IF(Itineraries!S6<>\"Y\",\"\",getareascore(W$2)))","v":""},{"$f":"IF(ItineraryPrograms!B6=\"y\",getScoreFactor(\"Program\",X$2),\"\")","v":""},{"$f":"IF(ItineraryPrograms!C6=\"y\",getScoreFactor(\"Program\",Y$2),\"\")","v":""},{"$f":"IF(ItineraryPrograms!D6=\"y\",getScoreFactor(\"Program\",Z$2),\"\")","v":""},{"$f":"IF(ItineraryPrograms!E6=\"y\",getScoreFactor(\"Program\",AA$2),\"\")","v":""},{"$f":"IF(ItineraryPrograms!F6=\"y\",getScoreFactor(\"Program\",AB$2),\"\")","v":""},{"$f":"IF(ItineraryPrograms!G6=\"y\",getScoreFactor(\"Program\",AC$2),\"\")","v":14.25},{"$f":"IF(ItineraryPrograms!H6=\"y\",getScoreFactor(\"Program\",AD$2),\"\")","v":""},{"$f":"IF(ItineraryPrograms!I6=\"y\",getScoreFactor(\"Program\",AE$2),\"\")","v":""},{"$f":"IF(ItineraryPrograms!J6=\"y\",getScoreFactor(\"Program\",AF$2),\"\")","v":13.5},{"$f":"IF(ItineraryPrograms!K6=\"y\",getScoreFactor(\"Program\",AG$2),\"\")","v":7.5},{"$f":"IF(ItineraryPrograms!L6=\"y\",getScoreFactor(\"Program\",AH$2),\"\")","v":""},{"$f":"IF(ItineraryPrograms!M6=\"y\",getScoreFactor(\"Program\",AI$2),\"\")","v":""},{"$f":"IF(ItineraryPrograms!N6=\"y\",getScoreFactor(\"Program\",AJ$2),\"\")","v":""},{"$f":"IF(ItineraryPrograms!O6=\"y\",getScoreFactor(\"Program\",AK$2),\"\")","v":10.5},{"$f":"IF(ItineraryPrograms!P6=\"y\",getScoreFactor(\"Program\",AL$2),\"\")","v":""},{"$f":"IF(ItineraryPrograms!Q6=\"y\",getScoreFactor(\"Program\",AM$2),\"\")","v":12},{"$f":"IF(ItineraryPrograms!R6=\"y\",getScoreFactor(\"Program\",AN$2),\"\")","v":""},{"$f":"IF(ItineraryPrograms!S6=\"y\",getScoreFactor(\"Program\",AO$2),\"\")","v":""},{"$f":"IF(ItineraryPrograms!T6=\"y\",getScoreFactor(\"Program\",AP$2),\"\")","v":""},{"$f":"IF(ItineraryPrograms!U6=\"y\",getScoreFactor(\"Program\",AQ$2),\"\")","v":""},{"$f":"IF(ItineraryPrograms!V6=\"y\",getScoreFactor(\"Program\",AR$2),\"\")","v":""},{"$f":"IF(ItineraryPrograms!W6=\"y\",getScoreFactor(\"Program\",AS$2),\"\")","v":""},{"$f":"IF(ItineraryPrograms!X6=\"y\",getScoreFactor(\"Program\",AT$2),\"\")","v":""},{"$f":"IF(ItineraryPrograms!Y6=\"y\",getScoreFactor(\"Program\",AU$2),\"\")","v":""},{"$f":"IF(ItineraryPrograms!Z6=\"y\",getScoreFactor(\"Program\",AV$2),\"\")","v":""},{"$f":"IF(ItineraryPrograms!AA6=\"y\",getScoreFactor(\"Program\",AW$2),\"\")","v":15},{"$f":"IF(ItineraryPrograms!AB6=\"y\",getScoreFactor(\"Program\",AX$2),\"\")","v":""},{"$f":"IF(ItineraryPrograms!AC6=\"y\",getScoreFactor(\"Program\",AY$2),\"\")","v":""},{"$f":"IF(ItineraryPrograms!AD6=\"y\",getScoreFactor(\"Program\",AZ$2),\"\")","v":""},{"$f":"IF(ItineraryPrograms!AE6=\"y\",getScoreFactor(\"Program\",BA$2),\"\")","v":""},{"$f":"IF(ItineraryPrograms!AF6=\"y\",getScoreFactor(\"Program\",BB$2),\"\")","v":19.5},{"$f":"IF(ItineraryPrograms!AG6=\"y\",getScoreFactor(\"Program\",BC$2),\"\")","v":7.5},{"$f":"IF(ItineraryPrograms!AH6=\"y\",getScoreFactor(\"Program\",BD$2),\"\")","v":18},{"$f":"IF(ItineraryPrograms!AI6=\"y\",getScoreFactor(\"Program\",BE$2),\"\")","v":""},{"$f":"IF(ItineraryPrograms!AJ6=\"y\",getScoreFactor(\"Program\",BF$2),\"\")","v":""},{"$f":"IF(ItineraryPrograms!AK6=\"y\",getScoreFactor(\"Program\",BG$2),\"\")","v":""},{"$f":"IF(ItineraryPrograms!AL6=\"y\",getScoreFactor(\"Program\",BH$2),\"\")","v":22.5},{"$f":"IF(ItineraryPrograms!AM6=\"y\",getScoreFactor(\"Program\",BI$2),\"\")","v":""},{"$f":"IF(ItineraryPrograms!AN6=\"y\",getScoreFactor(\"Program\",BJ$2),\"\")","v":""},{"$f":"IF(ItineraryPrograms!AO6=\"y\",getScoreFactor(\"Program\",BK$2),\"\")","v":13.5}]
[{"$f":"Itineraries!A7","v":"9-5"},8871.6666666666661,{"$f":"getScoreFactor(C$2,itineraryCamps!C8)","v":3166.6666666666665},{"$f":"getScoreFactor(D$2,\"Miles\") *itineraryCamps!D8","v":4600},{"$f":"IF($A7=\"\",\"\",getScoreFactor(E$2,Itineraries!B7))","v":40},{"$f":"IF(A7=\"\",\"\",getScoreFactor(F$2,Itineraries!C7))","v":80},{"$f":"IF(A7=\"\",\"\",getScoreFactor(G$2,Itineraries!E7))","v":50},{"$f":"IF(A7=\"\",\"\",getScoreFactor(H$2,Itineraries!H7))","v":250},{"$f":"IF(A7=\"\",\"\",getScoreFactor(I$2,Itineraries!G7))","v":100},{"$f":"IF(A7=\"\",\"\",getScoreFactor(J$2,Itineraries!J7))","v":80},{"$f":"IF(A7=\"\",\"\",getScoreFactor(K$2,Itineraries!K7))","v":80},{"$f":"IF(A7=\"\",\"\",getScoreFactor(L$2,Itineraries!L7))","v":200},{"$f":"IF(A7=\"\",\"\",IF(INDEX(startingTA,numericItinerary($A7))=$M$2,getScoreFactor(M$2,\"y\"),getScoreFactor(M$2,\"n\")))","v":0},{"$f":"IF(A7=\"\",\"\",IF(INDEX(startingTA,numericItinerary($A7))=$M$2,getScoreFactor(N$2,\"y\"),getScoreFactor(N$2,\"n\")))","v":0},{"$f":"IF(A7=\"\",\"\",IF(INDEX(baldyMountainHike,numericItinerary($A7))=\"\",\"\",getPeakScore(O$2)))","v":54},{"$f":"IF(A7=\"\",\"\",IF(INDEX(mountPhillipsHike,numericItinerary($A7))=\"\",\"\",getPeakScore(P$2)))","v":""},{"$f":"IF(A7=\"\",\"\",IF(INDEX(toothOfTimeHike,numericItinerary($A7))=\"\",\"\",getPeakScore(Q$2)))","v":""},{"$f":"IF(A7=\"\",\"\",IF(INDEX(trailPeakHike,numericItinerary($A7))=\"\",\"\",getPeakScore(R$2)))","v":""},{"$f":"IF(A7=\"\",\"\",IF(INDEX(mountaineeringHike,numericItinerary($A7))=\"\",\"\",getPeakScore(S$2)))","v":""},{"$f":"IF(areaImportant<>\"y\",\"\",IF(Itineraries!P7<>\"Y\",\"\",getareascore(T$2)))","v":""},{"$f":"IF(areaImportant<>\"y\",\"\",IF(Itineraries!Q7<>\"Y\",\"\",getareascore(U$2)))","v":""},{"$f":"IF(areaImportant<>\"y\",\"\",IF(Itineraries!R7<>\"Y\",\"\",getareascore(V$2)))","v":""},{"$f":"IF(areaImportant<>\"y\",\"\",IF(Itineraries!S7<>\"Y\",\"\",getareascore(W$2)))","v":""},{"$f":"IF(ItineraryPrograms!B7=\"y\",getScoreFactor(\"Program\",X$2),\"\")","v":""},{"$f":"IF(ItineraryPrograms!C7=\"y\",getScoreFactor(\"Program\",Y$2),\"\")","v":""},{"$f":"IF(ItineraryPrograms!D7=\"y\",getScoreFactor(\"Program\",Z$2),\"\")","v":""},{"$f":"IF(ItineraryPrograms!E7=\"y\",getScoreFactor(\"Program\",AA$2),\"\")","v":27},{"$f":"IF(ItineraryPrograms!F7=\"y\",getScoreFactor(\"Program\",AB$2),\"\")","v":12.75},{"$f":"IF(ItineraryPrograms!G7=\"y\",getScoreFactor(\"Program\",AC$2),\"\")","v":14.25},{"$f":"IF(ItineraryPrograms!H7=\"y\",getScoreFactor(\"Program\",AD$2),\"\")","v":14.25},{"$f":"IF(ItineraryPrograms!I7=\"y\",getScoreFactor(\"Program\",AE$2),\"\")","v":9},{"$f":"IF(ItineraryPrograms!J7=\"y\",getScoreFactor(\"Program\",AF$2),\"\")","v":13.5},{"$f":"IF(ItineraryPrograms!K7=\"y\",getScoreFactor(\"Program\",AG$2),\"\")","v":""},{"$f":"IF(ItineraryPrograms!L7=\"y\",getScoreFactor(\"Program\",AH$2),\"\")","v":""},{"$f":"IF(ItineraryPrograms!M7=\"y\",getScoreFactor(\"Program\",AI$2),\"\")","v":""},{"$f":"IF(ItineraryPrograms!N7=\"y\",getScoreFactor(\"Program\",AJ$2),\"\")","v":""},{"$f":"IF(ItineraryPrograms!O7=\"y\",getScoreFactor(\"Program\",AK$2),\"\")","v":10.5},{"$f":"IF(ItineraryPrograms!P7=\"y\",getScoreFactor(\"Program\",AL$2),\"\")","v":7.5},{"$f":"IF(ItineraryPrograms!Q7=\"y\",getScoreFactor(\"Program\",AM$2),\"\")","v":12},{"$f":"IF(ItineraryPrograms!R7=\"y\",getScoreFactor(\"Program\",AN$2),\"\")","v":""},{"$f":"IF(ItineraryPrograms!S7=\"y\",getScoreFactor(\"Program\",AO$2),\"\")","v":""},{"$f":"IF(ItineraryPrograms!T7=\"y\",getScoreFactor(\"Program\",AP$2),\"\")","v":""},{"$f":"IF(ItineraryPrograms!U7=\"y\",getScoreFactor(\"Program\",AQ$2),\"\")","v":""},{"$f":"IF(ItineraryPrograms!V7=\"y\",getScoreFactor(\"Program\",AR$2),\"\")","v":6},{"$f":"IF(ItineraryPrograms!W7=\"y\",getScoreFactor(\"Program\",AS$2),\"\")","v":""},{"$f":"IF(ItineraryPrograms!X7=\"y\",getScoreFactor(\"Program\",AT$2),\"\")","v":9.75},{"$f":"IF(ItineraryPrograms!Y7=\"y\",getScoreFactor(\"Program\",AU$2),\"\")","v":""},{"$f":"IF(ItineraryPrograms!Z7=\"y\",getScoreFactor(\"Program\",AV$2),\"\")","v":""},{"$f":"IF(ItineraryPrograms!AA7=\"y\",getScoreFactor(\"Program\",AW$2),\"\")","v":""},{"$f":"IF(ItineraryPrograms!AB7=\"y\",getScoreFactor(\"Program\",AX$2),\"\")","v":""},{"$f":"IF(ItineraryPrograms!AC7=\"y\",getScoreFactor(\"Program\",AY$2),\"\")","v":""},{"$f":"IF(ItineraryPrograms!AD7=\"y\",getScoreFactor(\"Program\",AZ$2),\"\")","v":""},{"$f":"IF(ItineraryPrograms!AE7=\"y\",getScoreFactor(\"Program\",BA$2),\"\")","v":""},{"$f":"IF(ItineraryPrograms!AF7=\"y\",getScoreFactor(\"Program\",BB$2),\"\")","v":""},{"$f":"IF(ItineraryPrograms!AG7=\"y\",getScoreFactor(\"Program\",BC$2),\"\")","v":""},{"$f":"IF(ItineraryPrograms!AH7=\"y\",getScoreFactor(\"Program\",BD$2),\"\")","v":""},{"$f":"IF(ItineraryPrograms!AI7=\"y\",getScoreFactor(\"Program\",BE$2),\"\")","v":""},{"$f":"IF(ItineraryPrograms!AJ7=\"y\",getScoreFactor(\"Program\",BF$2),\"\")","v":21},{"$f":"IF(ItineraryPrograms!AK7=\"y\",getScoreFactor(\"Program\",BG$2),\"\")","v":""},{"$f":"IF(ItineraryPrograms!AL7=\"y\",getScoreFactor(\"Program\",BH$2),\"\")","v":""},{"$f":"IF(ItineraryPrograms!AM7=\"y\",getScoreFactor(\"Program\",BI$2),\"\")","v":""},{"$f":"IF(ItineraryPrograms!AN7=\"y\",getScoreFactor(\"Program\",BJ$2),\"\")","v":""},{"$f":"IF(ItineraryPrograms!AO7=\"y\",getScoreFactor(\"Program\",BK$2),\"\")","v":13.5}]
[{"$f":"Itineraries!A8","v":"9-6"},8688.6666666666661,{"$f":"getScoreFactor(C$2,itineraryCamps!C9)","v":3166.6666666666665},{"$f":"getScoreFactor(D$2,\"Miles\") *itineraryCamps!D9","v":4600},{"$f":"IF($A8=\"\",\"\",getScoreFactor(E$2,Itineraries!B8))","v":30},{"$f":"IF(A8=\"\",\"\",getScoreFactor(F$2,Itineraries!C8))","v":70},{"$f":"IF(A8=\"\",\"\",getScoreFactor(G$2,Itineraries!E8))","v":25},{"$f":"IF(A8=\"\",\"\",getScoreFactor(H$2,Itineraries!H8))","v":300},{"$f":"IF(A8=\"\",\"\",getScoreFactor(I$2,Itineraries!G8))","v":100},{"$f":"IF(A8=\"\",\"\",getScoreFactor(J$2,Itineraries!J8))","v":40},{"$f":"IF(A8=\"\",\"\",getScoreFactor(K$2,Itineraries!K8))","v":50},{"$f":"IF(A8=\"\",\"\",getScoreFactor(L$2,Itineraries!L8))","v":100},{"$f":"IF(A8=\"\",\"\",IF(INDEX(startingTA,numericItinerary($A8))=$M$2,getScoreFactor(M$2,\"y\"),getScoreFactor(M$2,\"n\")))","v":0},{"$f":"IF(A8=\"\",\"\",IF(INDEX(startingTA,numericItinerary($A8))=$M$2,getScoreFactor(N$2,\"y\"),getScoreFactor(N$2,\"n\")))","v":0},{"$f":"IF(A8=\"\",\"\",IF(INDEX(baldyMountainHike,numericItinerary($A8))=\"\",\"\",getPeakScore(O$2)))","v":54},{"$f":"IF(A8=\"\",\"\",IF(INDEX(mountPhillipsHike,numericItinerary($A8))=\"\",\"\",getPeakScore(P$2)))","v":""},{"$f":"IF(A8=\"\",\"\",IF(INDEX(toothOfTimeHike,numericItinerary($A8))=\"\",\"\",getPeakScore(Q$2)))","v":""},{"$f":"IF(A8=\"\",\"\",IF(INDEX(trailPeakHike,numericItinerary($A8))=\"\",\"\",getPeakScore(R$2)))","v":""},{"$f":"IF(A8=\"\",\"\",IF(INDEX(mountaineeringHike,numericItinerary($A8))=\"\",\"\",getPeakScore(S$2)))","v":""},{"$f":"IF(areaImportant<>\"y\",\"\",IF(Itineraries!P8<>\"Y\",\"\",getareascore(T$2)))","v":""},{"$f":"IF(areaImportant<>\"y\",\"\",IF(Itineraries!Q8<>\"Y\",\"\",getareascore(U$2)))","v":""},{"$f":"IF(areaImportant<>\"y\",\"\",IF(Itineraries!R8<>\"Y\",\"\",getareascore(V$2)))","v":""},{"$f":"IF(areaImportant<>\"y\",\"\",IF(Itineraries!S8<>\"Y\",\"\",getareascore(W$2)))","v":""},{"$f":"IF(ItineraryPrograms!B8=\"y\",getScoreFactor(\"Program\",X$2),\"\")","v":""},{"$f":"IF(ItineraryPrograms!C8=\"y\",getScoreFactor(\"Program\",Y$2),\"\")","v":""},{"$f":"IF(ItineraryPrograms!D8=\"y\",getScoreFactor(\"Program\",Z$2),\"\")","v":""},{"$f":"IF(ItineraryPrograms!E8=\"y\",getScoreFactor(\"Program\",AA$2),\"\")","v":27},{"$f":"IF(ItineraryPrograms!F8=\"y\",getScoreFactor(\"Program\",AB$2),\"\")","v":12.75},{"$f":"IF(ItineraryPrograms!G8=\"y\",getScoreFactor(\"Program\",AC$2),\"\")","v":14.25},{"$f":"IF(ItineraryPrograms!H8=\"y\",getScoreFactor(\"Program\",AD$2),\"\")","v":14.25},{"$f":"IF(ItineraryPrograms!I8=\"y\",getScoreFactor(\"Program\",AE$2),\"\")","v":9},{"$f":"IF(ItineraryPrograms!J8=\"y\",getScoreFactor(\"Program\",AF$2),\"\")","v":""},{"$f":"IF(ItineraryPrograms!K8=\"y\",getScoreFactor(\"Program\",AG$2),\"\")","v":""},{"$f":"IF(ItineraryPrograms!L8=\"y\",getScoreFactor(\"Program\",AH$2),\"\")","v":""},{"$f":"IF(ItineraryPrograms!M8=\"y\",getScoreFactor(\"Program\",AI$2),\"\")","v":""},{"$f":"IF(ItineraryPrograms!N8=\"y\",getScoreFactor(\"Program\",AJ$2),\"\")","v":6},{"$f":"IF(ItineraryPrograms!O8=\"y\",getScoreFactor(\"Program\",AK$2),\"\")","v":10.5},{"$f":"IF(ItineraryPrograms!P8=\"y\",getScoreFactor(\"Program\",AL$2),\"\")","v":""},{"$f":"IF(ItineraryPrograms!Q8=\"y\",getScoreFactor(\"Program\",AM$2),\"\")","v":""},{"$f":"IF(ItineraryPrograms!R8=\"y\",getScoreFactor(\"Program\",AN$2),\"\")","v":""},{"$f":"IF(ItineraryPrograms!S8=\"y\",getScoreFactor(\"Program\",AO$2),\"\")","v":""},{"$f":"IF(ItineraryPrograms!T8=\"y\",getScoreFactor(\"Program\",AP$2),\"\")","v":""},{"$f":"IF(ItineraryPrograms!U8=\"y\",getScoreFactor(\"Program\",AQ$2),\"\")","v":""},{"$f":"IF(ItineraryPrograms!V8=\"y\",getScoreFactor(\"Program\",AR$2),\"\")","v":""},{"$f":"IF(ItineraryPrograms!W8=\"y\",getScoreFactor(\"Program\",AS$2),\"\")","v":""},{"$f":"IF(ItineraryPrograms!X8=\"y\",getScoreFactor(\"Program\",AT$2),\"\")","v":9.75},{"$f":"IF(ItineraryPrograms!Y8=\"y\",getScoreFactor(\"Program\",AU$2),\"\")","v":""},{"$f":"IF(ItineraryPrograms!Z8=\"y\",getScoreFactor(\"Program\",AV$2),\"\")","v":""},{"$f":"IF(ItineraryPrograms!AA8=\"y\",getScoreFactor(\"Program\",AW$2),\"\")","v":""},{"$f":"IF(ItineraryPrograms!AB8=\"y\",getScoreFactor(\"Program\",AX$2),\"\")","v":""},{"$f":"IF(ItineraryPrograms!AC8=\"y\",getScoreFactor(\"Program\",AY$2),\"\")","v":""},{"$f":"IF(ItineraryPrograms!AD8=\"y\",getScoreFactor(\"Program\",AZ$2),\"\")","v":""},{"$f":"IF(ItineraryPrograms!AE8=\"y\",getScoreFactor(\"Program\",BA$2),\"\")","v":""},{"$f":"IF(ItineraryPrograms!AF8=\"y\",getScoreFactor(\"Program\",BB$2),\"\")","v":""},{"$f":"IF(ItineraryPrograms!AG8=\"y\",getScoreFactor(\"Program\",BC$2),\"\")","v":""},{"$f":"IF(ItineraryPrograms!AH8=\"y\",getScoreFactor(\"Program\",BD$2),\"\")","v":""},{"$f":"IF(ItineraryPrograms!AI8=\"y\",getScoreFactor(\"Program\",BE$2),\"\")","v":""},{"$f":"IF(ItineraryPrograms!AJ8=\"y\",getScoreFactor(\"Program\",BF$2),\"\")","v":""},{"$f":"IF(ItineraryPrograms!AK8=\"y\",getScoreFactor(\"Program\",BG$2),\"\")","v":27},{"$f":"IF(ItineraryPrograms!AL8=\"y\",getScoreFactor(\"Program\",BH$2),\"\")","v":22.5},{"$f":"IF(ItineraryPrograms!AM8=\"y\",getScoreFactor(\"Program\",BI$2),\"\")","v":""},{"$f":"IF(ItineraryPrograms!AN8=\"y\",getScoreFactor(\"Program\",BJ$2),\"\")","v":""},{"$f":"IF(ItineraryPrograms!AO8=\"y\",getScoreFactor(\"Program\",BK$2),\"\")","v":""}]
[{"$f":"Itineraries!A9","v":"9-7"},8950.6666666666661,{"$f":"getScoreFactor(C$2,itineraryCamps!C10)","v":3166.6666666666665},{"$f":"getScoreFactor(D$2,\"Miles\") *itineraryCamps!D10","v":4600},{"$f":"IF($A9=\"\",\"\",getScoreFactor(E$2,Itineraries!B9))","v":30},{"$f":"IF(A9=\"\",\"\",getScoreFactor(F$2,Itineraries!C9))","v":90},{"$f":"IF(A9=\"\",\"\",getScoreFactor(G$2,Itineraries!E9))","v":75},{"$f":"IF(A9=\"\",\"\",getScoreFactor(H$2,Itineraries!H9))","v":200},{"$f":"IF(A9=\"\",\"\",getScoreFactor(I$2,Itineraries!G9))","v":100},{"$f":"IF(A9=\"\",\"\",getScoreFactor(J$2,Itineraries!J9))","v":90},{"$f":"IF(A9=\"\",\"\",getScoreFactor(K$2,Itineraries!K9))","v":90},{"$f":"IF(A9=\"\",\"\",getScoreFactor(L$2,Itineraries!L9))","v":200},{"$f":"IF(A9=\"\",\"\",IF(INDEX(startingTA,numericItinerary($A9))=$M$2,getScoreFactor(M$2,\"y\"),getScoreFactor(M$2,\"n\")))","v":0},{"$f":"IF(A9=\"\",\"\",IF(INDEX(startingTA,numericItinerary($A9))=$M$2,getScoreFactor(N$2,\"y\"),getScoreFactor(N$2,\"n\")))","v":0},{"$f":"IF(A9=\"\",\"\",IF(INDEX(baldyMountainHike,numericItinerary($A9))=\"\",\"\",getPeakScore(O$2)))","v":54},{"$f":"IF(A9=\"\",\"\",IF(INDEX(mountPhillipsHike,numericItinerary($A9))=\"\",\"\",getPeakScore(P$2)))","v":""},{"$f":"IF(A9=\"\",\"\",IF(INDEX(toothOfTimeHike,numericItinerary($A9))=\"\",\"\",getPeakScore(Q$2)))","v":""},{"$f":"IF(A9=\"\",\"\",IF(INDEX(trailPeakHike,numericItinerary($A9))=\"\",\"\",getPeakScore(R$2)))","v":""},{"$f":"IF(A9=\"\",\"\",IF(INDEX(mountaineeringHike,numericItinerary($A9))=\"\",\"\",getPeakScore(S$2)))","v":0},{"$f":"IF(areaImportant<>\"y\",\"\",IF(Itineraries!P9<>\"Y\",\"\",getareascore(T$2)))","v":""},{"$f":"IF(areaImportant<>\"y\",\"\",IF(Itineraries!Q9<>\"Y\",\"\",getareascore(U$2)))","v":""},{"$f":"IF(areaImportant<>\"y\",\"\",IF(Itineraries!R9<>\"Y\",\"\",getareascore(V$2)))","v":""},{"$f":"IF(areaImportant<>\"y\",\"\",IF(Itineraries!S9<>\"Y\",\"\",getareascore(W$2)))","v":""},{"$f":"IF(ItineraryPrograms!B9=\"y\",getScoreFactor(\"Program\",X$2),\"\")","v":""},{"$f":"IF(ItineraryPrograms!C9=\"y\",getScoreFactor(\"Program\",Y$2),\"\")","v":""},{"$f":"IF(ItineraryPrograms!D9=\"y\",getScoreFactor(\"Program\",Z$2),\"\")","v":""},{"$f":"IF(ItineraryPrograms!E9=\"y\",getScoreFactor(\"Program\",AA$2),\"\")","v":27},{"$f":"IF(ItineraryPrograms!F9=\"y\",getScoreFactor(\"Program\",AB$2),\"\")","v":12.75},{"$f":"IF(ItineraryPrograms!G9=\"y\",getScoreFactor(\"Program\",AC$2),\"\")","v":14.25},{"$f":"IF(ItineraryPrograms!H9=\"y\",getScoreFactor(\"Program\",AD$2),\"\")","v":14.25},{"$f":"IF(ItineraryPrograms!I9=\"y\",getScoreFactor(\"Program\",AE$2),\"\")","v":""},{"$f":"IF(ItineraryPrograms!J9=\"y\",getScoreFactor(\"Program\",AF$2),\"\")","v":13.5},{"$f":"IF(ItineraryPrograms!K9=\"y\",getScoreFactor(\"Program\",AG$2),\"\")","v":""},{"$f":"IF(ItineraryPrograms!L9=\"y\",getScoreFactor(\"Program\",AH$2),\"\")","v":""},{"$f":"IF(ItineraryPrograms!M9=\"y\",getScoreFactor(\"Program\",AI$2),\"\")","v":""},{"$f":"IF(ItineraryPrograms!N9=\"y\",getScoreFactor(\"Program\",AJ$2),\"\")","v":6},{"$f":"IF(ItineraryPrograms!O9=\"y\",getScoreFactor(\"Program\",AK$2),\"\")","v":10.5},{"$f":"IF(ItineraryPrograms!P9=\"y\",getScoreFactor(\"Program\",AL$2),\"\")","v":""},{"$f":"IF(ItineraryPrograms!Q9=\"y\",getScoreFactor(\"Program\",AM$2),\"\")","v":12},{"$f":"IF(ItineraryPrograms!R9=\"y\",getScoreFactor(\"Program\",AN$2),\"\")","v":""},{"$f":"IF(ItineraryPrograms!S9=\"y\",getScoreFactor(\"Program\",AO$2),\"\")","v":""},{"$f":"IF(ItineraryPrograms!T9=\"y\",getScoreFactor(\"Program\",AP$2),\"\")","v":""},{"$f":"IF(ItineraryPrograms!U9=\"y\",getScoreFactor(\"Program\",AQ$2),\"\")","v":""},{"$f":"IF(ItineraryPrograms!V9=\"y\",getScoreFactor(\"Program\",AR$2),\"\")","v":""},{"$f":"IF(ItineraryPrograms!W9=\"y\",getScoreFactor(\"Program\",AS$2),\"\")","v":""},{"$f":"IF(ItineraryPrograms!X9=\"y\",getScoreFactor(\"Program\",AT$2),\"\")","v":9.75},{"$f":"IF(ItineraryPrograms!Y9=\"y\",getScoreFactor(\"Program\",AU$2),\"\")","v":""},{"$f":"IF(ItineraryPrograms!Z9=\"y\",getScoreFactor(\"Program\",AV$2),\"\")","v":""},{"$f":"IF(ItineraryPrograms!AA9=\"y\",getScoreFactor(\"Program\",AW$2),\"\")","v":15},{"$f":"IF(ItineraryPrograms!AB9=\"y\",getScoreFactor(\"Program\",AX$2),\"\")","v":""},{"$f":"IF(ItineraryPrograms!AC9=\"y\",getScoreFactor(\"Program\",AY$2),\"\")","v":18},{"$f":"IF(ItineraryPrograms!AD9=\"y\",getScoreFactor(\"Program\",AZ$2),\"\")","v":""},{"$f":"IF(ItineraryPrograms!AE9=\"y\",getScoreFactor(\"Program\",BA$2),\"\")","v":18},{"$f":"IF(ItineraryPrograms!AF9=\"y\",getScoreFactor(\"Program\",BB$2),\"\")","v":""},{"$f":"IF(ItineraryPrograms!AG9=\"y\",getScoreFactor(\"Program\",BC$2),\"\")","v":""},{"$f":"IF(ItineraryPrograms!AH9=\"y\",getScoreFactor(\"Program\",BD$2),\"\")","v":""},{"$f":"IF(ItineraryPrograms!AI9=\"y\",getScoreFactor(\"Program\",BE$2),\"\")","v":""},{"$f":"IF(ItineraryPrograms!AJ9=\"y\",getScoreFactor(\"Program\",BF$2),\"\")","v":21},{"$f":"IF(ItineraryPrograms!AK9=\"y\",getScoreFactor(\"Program\",BG$2),\"\")","v":27},{"$f":"IF(ItineraryPrograms!AL9=\"y\",getScoreFactor(\"Program\",BH$2),\"\")","v":22.5},{"$f":"IF(ItineraryPrograms!AM9=\"y\",getScoreFactor(\"Program\",BI$2),\"\")","v":""},{"$f":"IF(ItineraryPrograms!AN9=\"y\",getScoreFactor(\"Program\",BJ$2),\"\")","v":""},{"$f":"IF(ItineraryPrograms!AO9=\"y\",getScoreFactor(\"Program\",BK$2),\"\")","v":13.5}]
[{"$f":"Itineraries!A10","v":"9-8"},8963.4166666666661,{"$f":"getScoreFactor(C$2,itineraryCamps!C11)","v":3166.6666666666665},{"$f":"getScoreFactor(D$2,\"Miles\") *itineraryCamps!D11","v":4600},{"$f":"IF($A10=\"\",\"\",getScoreFactor(E$2,Itineraries!B10))","v":30},{"$f":"IF(A10=\"\",\"\",getScoreFactor(F$2,Itineraries!C10))","v":90},{"$f":"IF(A10=\"\",\"\",getScoreFactor(G$2,Itineraries!E10))","v":50},{"$f":"IF(A10=\"\",\"\",getScoreFactor(H$2,Itineraries!H10))","v":250},{"$f":"IF(A10=\"\",\"\",getScoreFactor(I$2,Itineraries!G10))","v":75},{"$f":"IF(A10=\"\",\"\",getScoreFactor(J$2,Itineraries!J10))","v":70},{"$f":"IF(A10=\"\",\"\",getScoreFactor(K$2,Itineraries!K10))","v":70},{"$f":"IF(A10=\"\",\"\",getScoreFactor(L$2,Itineraries!L10))","v":300},{"$f":"IF(A10=\"\",\"\",IF(INDEX(startingTA,numericItinerary($A10))=$M$2,getScoreFactor(M$2,\"y\"),getScoreFactor(M$2,\"n\")))","v":0},{"$f":"IF(A10=\"\",\"\",IF(INDEX(startingTA,numericItinerary($A10))=$M$2,getScoreFactor(N$2,\"y\"),getScoreFactor(N$2,\"n\")))","v":0},{"$f":"IF(A10=\"\",\"\",IF(INDEX(baldyMountainHike,numericItinerary($A10))=\"\",\"\",getPeakScore(O$2)))","v":""},{"$f":"IF(A10=\"\",\"\",IF(INDEX(mountPhillipsHike,numericItinerary($A10))=\"\",\"\",getPeakScore(P$2)))","v":33.75},{"$f":"IF(A10=\"\",\"\",IF(INDEX(toothOfTimeHike,numericItinerary($A10))=\"\",\"\",getPeakScore(Q$2)))","v":""},{"$f":"IF(A10=\"\",\"\",IF(INDEX(trailPeakHike,numericItinerary($A10))=\"\",\"\",getPeakScore(R$2)))","v":""},{"$f":"IF(A10=\"\",\"\",IF(INDEX(mountaineeringHike,numericItinerary($A10))=\"\",\"\",getPeakScore(S$2)))","v":0},{"$f":"IF(areaImportant<>\"y\",\"\",IF(Itineraries!P10<>\"Y\",\"\",getareascore(T$2)))","v":""},{"$f":"IF(areaImportant<>\"y\",\"\",IF(Itineraries!Q10<>\"Y\",\"\",getareascore(U$2)))","v":""},{"$f":"IF(areaImportant<>\"y\",\"\",IF(Itineraries!R10<>\"Y\",\"\",getareascore(V$2)))","v":""},{"$f":"IF(areaImportant<>\"y\",\"\",IF(Itineraries!S10<>\"Y\",\"\",getareascore(W$2)))","v":""},{"$f":"IF(ItineraryPrograms!B10=\"y\",getScoreFactor(\"Program\",X$2),\"\")","v":""},{"$f":"IF(ItineraryPrograms!C10=\"y\",getScoreFactor(\"Program\",Y$2),\"\")","v":30},{"$f":"IF(ItineraryPrograms!D10=\"y\",getScoreFactor(\"Program\",Z$2),\"\")","v":""},{"$f":"IF(ItineraryPrograms!E10=\"y\",getScoreFactor(\"Program\",AA$2),\"\")","v":""},{"$f":"IF(ItineraryPrograms!F10=\"y\",getScoreFactor(\"Program\",AB$2),\"\")","v":12.75},{"$f":"IF(ItineraryPrograms!G10=\"y\",getScoreFactor(\"Program\",AC$2),\"\")","v":14.25},{"$f":"IF(ItineraryPrograms!H10=\"y\",getScoreFactor(\"Program\",AD$2),\"\")","v":""},{"$f":"IF(ItineraryPrograms!I10=\"y\",getScoreFactor(\"Program\",AE$2),\"\")","v":""},{"$f":"IF(ItineraryPrograms!J10=\"y\",getScoreFactor(\"Program\",AF$2),\"\")","v":13.5},{"$f":"IF(ItineraryPrograms!K10=\"y\",getScoreFactor(\"Program\",AG$2),\"\")","v":7.5},{"$f":"IF(ItineraryPrograms!L10=\"y\",getScoreFactor(\"Program\",AH$2),\"\")","v":""},{"$f":"IF(ItineraryPrograms!M10=\"y\",getScoreFactor(\"Program\",AI$2),\"\")","v":""},{"$f":"IF(ItineraryPrograms!N10=\"y\",getScoreFactor(\"Program\",AJ$2),\"\")","v":""},{"$f":"IF(ItineraryPrograms!O10=\"y\",getScoreFactor(\"Program\",AK$2),\"\")","v":10.5},{"$f":"IF(ItineraryPrograms!P10=\"y\",getScoreFactor(\"Program\",AL$2),\"\")","v":""},{"$f":"IF(ItineraryPrograms!Q10=\"y\",getScoreFactor(\"Program\",AM$2),\"\")","v":""},{"$f":"IF(ItineraryPrograms!R10=\"y\",getScoreFactor(\"Program\",AN$2),\"\")","v":""},{"$f":"IF(ItineraryPrograms!S10=\"y\",getScoreFactor(\"Program\",AO$2),\"\")","v":""},{"$f":"IF(ItineraryPrograms!T10=\"y\",getScoreFactor(\"Program\",AP$2),\"\")","v":""},{"$f":"IF(ItineraryPrograms!U10=\"y\",getScoreFactor(\"Program\",AQ$2),\"\")","v":15},{"$f":"IF(ItineraryPrograms!V10=\"y\",getScoreFactor(\"Program\",AR$2),\"\")","v":""},{"$f":"IF(ItineraryPrograms!W10=\"y\",getScoreFactor(\"Program\",AS$2),\"\")","v":9.75},{"$f":"IF(ItineraryPrograms!X10=\"y\",getScoreFactor(\"Program\",AT$2),\"\")","v":9.75},{"$f":"IF(ItineraryPrograms!Y10=\"y\",getScoreFactor(\"Program\",AU$2),\"\")","v":""},{"$f":"IF(ItineraryPrograms!Z10=\"y\",getScoreFactor(\"Program\",AV$2),\"\")","v":""},{"$f":"IF(ItineraryPrograms!AA10=\"y\",getScoreFactor(\"Program\",AW$2),\"\")","v":15},{"$f":"IF(ItineraryPrograms!AB10=\"y\",getScoreFactor(\"Program\",AX$2),\"\")","v":""},{"$f":"IF(ItineraryPrograms!AC10=\"y\",getScoreFactor(\"Program\",AY$2),\"\")","v":""},{"$f":"IF(ItineraryPrograms!AD10=\"y\",getScoreFactor(\"Program\",AZ$2),\"\")","v":""},{"$f":"IF(ItineraryPrograms!AE10=\"y\",getScoreFactor(\"Program\",BA$2),\"\")","v":""},{"$f":"IF(ItineraryPrograms!AF10=\"y\",getScoreFactor(\"Program\",BB$2),\"\")","v":19.5},{"$f":"IF(ItineraryPrograms!AG10=\"y\",getScoreFactor(\"Program\",BC$2),\"\")","v":7.5},{"$f":"IF(ItineraryPrograms!AH10=\"y\",getScoreFactor(\"Program\",BD$2),\"\")","v":""},{"$f":"IF(ItineraryPrograms!AI10=\"y\",getScoreFactor(\"Program\",BE$2),\"\")","v":""},{"$f":"IF(ItineraryPrograms!AJ10=\"y\",getScoreFactor(\"Program\",BF$2),\"\")","v":""},{"$f":"IF(ItineraryPrograms!AK10=\"y\",getScoreFactor(\"Program\",BG$2),\"\")","v":27},{"$f":"IF(ItineraryPrograms!AL10=\"y\",getScoreFactor(\"Program\",BH$2),\"\")","v":22.5},{"$f":"IF(ItineraryPrograms!AM10=\"y\",getScoreFactor(\"Program\",BI$2),\"\")","v":""},{"$f":"IF(ItineraryPrograms!AN10=\"y\",getScoreFactor(\"Program\",BJ$2),\"\")","v":""},{"$f":"IF(ItineraryPrograms!AO10=\"y\",getScoreFactor(\"Program\",BK$2),\"\")","v":13.5}]
[{"$f":"Itineraries!A11","v":"9-9"},8055.333333333333,{"$f":"getScoreFactor(C$2,itineraryCamps!C12)","v":2333.333333333333},{"$f":"getScoreFactor(D$2,\"Miles\") *itineraryCamps!D12","v":4900},{"$f":"IF($A11=\"\",\"\",getScoreFactor(E$2,Itineraries!B11))","v":30},{"$f":"IF(A11=\"\",\"\",getScoreFactor(F$2,Itineraries!C11))","v":90},{"$f":"IF(A11=\"\",\"\",getScoreFactor(G$2,Itineraries!E11))","v":25},{"$f":"IF(A11=\"\",\"\",getScoreFactor(H$2,Itineraries!H11))","v":225},{"$f":"IF(A11=\"\",\"\",getScoreFactor(I$2,Itineraries!G11))","v":75},{"$f":"IF(A11=\"\",\"\",getScoreFactor(J$2,Itineraries!J11))","v":90},{"$f":"IF(A11=\"\",\"\",getScoreFactor(K$2,Itineraries!K11))","v":80},{"$f":"IF(A11=\"\",\"\",getScoreFactor(L$2,Itineraries!L11))","v":0},{"$f":"IF(A11=\"\",\"\",IF(INDEX(startingTA,numericItinerary($A11))=$M$2,getScoreFactor(M$2,\"y\"),getScoreFactor(M$2,\"n\")))","v":0},{"$f":"IF(A11=\"\",\"\",IF(INDEX(startingTA,numericItinerary($A11))=$M$2,getScoreFactor(N$2,\"y\"),getScoreFactor(N$2,\"n\")))","v":0},{"$f":"IF(A11=\"\",\"\",IF(INDEX(baldyMountainHike,numericItinerary($A11))=\"\",\"\",getPeakScore(O$2)))","v":54},{"$f":"IF(A11=\"\",\"\",IF(INDEX(mountPhillipsHike,numericItinerary($A11))=\"\",\"\",getPeakScore(P$2)))","v":""},{"$f":"IF(A11=\"\",\"\",IF(INDEX(toothOfTimeHike,numericItinerary($A11))=\"\",\"\",getPeakScore(Q$2)))","v":""},{"$f":"IF(A11=\"\",\"\",IF(INDEX(trailPeakHike,numericItinerary($A11))=\"\",\"\",getPeakScore(R$2)))","v":""},{"$f":"IF(A11=\"\",\"\",IF(INDEX(mountaineeringHike,numericItinerary($A11))=\"\",\"\",getPeakScore(S$2)))","v":""},{"$f":"IF(areaImportant<>\"y\",\"\",IF(Itineraries!P11<>\"Y\",\"\",getareascore(T$2)))","v":""},{"$f":"IF(areaImportant<>\"y\",\"\",IF(Itineraries!Q11<>\"Y\",\"\",getareascore(U$2)))","v":""},{"$f":"IF(areaImportant<>\"y\",\"\",IF(Itineraries!R11<>\"Y\",\"\",getareascore(V$2)))","v":""},{"$f":"IF(areaImportant<>\"y\",\"\",IF(Itineraries!S11<>\"Y\",\"\",getareascore(W$2)))","v":""},{"$f":"IF(ItineraryPrograms!B11=\"y\",getScoreFactor(\"Program\",X$2),\"\")","v":""},{"$f":"IF(ItineraryPrograms!C11=\"y\",getScoreFactor(\"Program\",Y$2),\"\")","v":30},{"$f":"IF(ItineraryPrograms!D11=\"y\",getScoreFactor(\"Program\",Z$2),\"\")","v":""},{"$f":"IF(ItineraryPrograms!E11=\"y\",getScoreFactor(\"Program\",AA$2),\"\")","v":27},{"$f":"IF(ItineraryPrograms!F11=\"y\",getScoreFactor(\"Program\",AB$2),\"\")","v":""},{"$f":"IF(ItineraryPrograms!G11=\"y\",getScoreFactor(\"Program\",AC$2),\"\")","v":""},{"$f":"IF(ItineraryPrograms!H11=\"y\",getScoreFactor(\"Program\",AD$2),\"\")","v":""},{"$f":"IF(ItineraryPrograms!I11=\"y\",getScoreFactor(\"Program\",AE$2),\"\")","v":9},{"$f":"IF(ItineraryPrograms!J11=\"y\",getScoreFactor(\"Program\",AF$2),\"\")","v":""},{"$f":"IF(ItineraryPrograms!K11=\"y\",getScoreFactor(\"Program\",AG$2),\"\")","v":7.5},{"$f":"IF(ItineraryPrograms!L11=\"y\",getScoreFactor(\"Program\",AH$2),\"\")","v":""},{"$f":"IF(ItineraryPrograms!M11=\"y\",getScoreFactor(\"Program\",AI$2),\"\")","v":""},{"$f":"IF(ItineraryPrograms!N11=\"y\",getScoreFactor(\"Program\",AJ$2),\"\")","v":""},{"$f":"IF(ItineraryPrograms!O11=\"y\",getScoreFactor(\"Program\",AK$2),\"\")","v":10.5},{"$f":"IF(ItineraryPrograms!P11=\"y\",getScoreFactor(\"Program\",AL$2),\"\")","v":""},{"$f":"IF(ItineraryPrograms!Q11=\"y\",getScoreFactor(\"Program\",AM$2),\"\")","v":""},{"$f":"IF(ItineraryPrograms!R11=\"y\",getScoreFactor(\"Program\",AN$2),\"\")","v":""},{"$f":"IF(ItineraryPrograms!S11=\"y\",getScoreFactor(\"Program\",AO$2),\"\")","v":""},{"$f":"IF(ItineraryPrograms!T11=\"y\",getScoreFactor(\"Program\",AP$2),\"\")","v":""},{"$f":"IF(ItineraryPrograms!U11=\"y\",getScoreFactor(\"Program\",AQ$2),\"\")","v":15},{"$f":"IF(ItineraryPrograms!V11=\"y\",getScoreFactor(\"Program\",AR$2),\"\")","v":""},{"$f":"IF(ItineraryPrograms!W11=\"y\",getScoreFactor(\"Program\",AS$2),\"\")","v":""},{"$f":"IF(ItineraryPrograms!X11=\"y\",getScoreFactor(\"Program\",AT$2),\"\")","v":""},{"$f":"IF(ItineraryPrograms!Y11=\"y\",getScoreFactor(\"Program\",AU$2),\"\")","v":""},{"$f":"IF(ItineraryPrograms!Z11=\"y\",getScoreFactor(\"Program\",AV$2),\"\")","v":""},{"$f":"IF(ItineraryPrograms!AA11=\"y\",getScoreFactor(\"Program\",AW$2),\"\")","v":""},{"$f":"IF(ItineraryPrograms!AB11=\"y\",getScoreFactor(\"Program\",AX$2),\"\")","v":""},{"$f":"IF(ItineraryPrograms!AC11=\"y\",getScoreFactor(\"Program\",AY$2),\"\")","v":""},{"$f":"IF(ItineraryPrograms!AD11=\"y\",getScoreFactor(\"Program\",AZ$2),\"\")","v":""},{"$f":"IF(ItineraryPrograms!AE11=\"y\",getScoreFactor(\"Program\",BA$2),\"\")","v":""},{"$f":"IF(ItineraryPrograms!AF11=\"y\",getScoreFactor(\"Program\",BB$2),\"\")","v":""},{"$f":"IF(ItineraryPrograms!AG11=\"y\",getScoreFactor(\"Program\",BC$2),\"\")","v":""},{"$f":"IF(ItineraryPrograms!AH11=\"y\",getScoreFactor(\"Program\",BD$2),\"\")","v":18},{"$f":"IF(ItineraryPrograms!AI11=\"y\",getScoreFactor(\"Program\",BE$2),\"\")","v":""},{"$f":"IF(ItineraryPrograms!AJ11=\"y\",getScoreFactor(\"Program\",BF$2),\"\")","v":""},{"$f":"IF(ItineraryPrograms!AK11=\"y\",getScoreFactor(\"Program\",BG$2),\"\")","v":""},{"$f":"IF(ItineraryPrograms!AL11=\"y\",getScoreFactor(\"Program\",BH$2),\"\")","v":22.5},{"$f":"IF(ItineraryPrograms!AM11=\"y\",getScoreFactor(\"Program\",BI$2),\"\")","v":""},{"$f":"IF(ItineraryPrograms!AN11=\"y\",getScoreFactor(\"Program\",BJ$2),\"\")","v":""},{"$f":"IF(ItineraryPrograms!AO11=\"y\",getScoreFactor(\"Program\",BK$2),\"\")","v":13.5}]
[{"$f":"Itineraries!A12","v":"9-10"},8298.5833333333321,{"$f":"getScoreFactor(C$2,itineraryCamps!C13)","v":2333.333333333333},{"$f":"getScoreFactor(D$2,\"Miles\") *itineraryCamps!D13","v":5000},{"$f":"IF($A12=\"\",\"\",getScoreFactor(E$2,Itineraries!B12))","v":30},{"$f":"IF(A12=\"\",\"\",getScoreFactor(F$2,Itineraries!C12))","v":90},{"$f":"IF(A12=\"\",\"\",getScoreFactor(G$2,Itineraries!E12))","v":75},{"$f":"IF(A12=\"\",\"\",getScoreFactor(H$2,Itineraries!H12))","v":250},{"$f":"IF(A12=\"\",\"\",getScoreFactor(I$2,Itineraries!G12))","v":75},{"$f":"IF(A12=\"\",\"\",getScoreFactor(J$2,Itineraries!J12))","v":50},{"$f":"IF(A12=\"\",\"\",getScoreFactor(K$2,Itineraries!K12))","v":50},{"$f":"IF(A12=\"\",\"\",getScoreFactor(L$2,Itineraries!L12))","v":100},{"$f":"IF(A12=\"\",\"\",IF(INDEX(startingTA,numericItinerary($A12))=$M$2,getScoreFactor(M$2,\"y\"),getScoreFactor(M$2,\"n\")))","v":0},{"$f":"IF(A12=\"\",\"\",IF(INDEX(startingTA,numericItinerary($A12))=$M$2,getScoreFactor(N$2,\"y\"),getScoreFactor(N$2,\"n\")))","v":0},{"$f":"IF(A12=\"\",\"\",IF(INDEX(baldyMountainHike,numericItinerary($A12))=\"\",\"\",getPeakScore(O$2)))","v":""},{"$f":"IF(A12=\"\",\"\",IF(INDEX(mountPhillipsHike,numericItinerary($A12))=\"\",\"\",getPeakScore(P$2)))","v":""},{"$f":"IF(A12=\"\",\"\",IF(INDEX(toothOfTimeHike,numericItinerary($A12))=\"\",\"\",getPeakScore(Q$2)))","v":27},{"$f":"IF(A12=\"\",\"\",IF(INDEX(trailPeakHike,numericItinerary($A12))=\"\",\"\",getPeakScore(R$2)))","v":0},{"$f":"IF(A12=\"\",\"\",IF(INDEX(mountaineeringHike,numericItinerary($A12))=\"\",\"\",getPeakScore(S$2)))","v":""},{"$f":"IF(areaImportant<>\"y\",\"\",IF(Itineraries!P12<>\"Y\",\"\",getareascore(T$2)))","v":""},{"$f":"IF(areaImportant<>\"y\",\"\",IF(Itineraries!Q12<>\"Y\",\"\",getareascore(U$2)))","v":""},{"$f":"IF(areaImportant<>\"y\",\"\",IF(Itineraries!R12<>\"Y\",\"\",getareascore(V$2)))","v":""},{"$f":"IF(areaImportant<>\"y\",\"\",IF(Itineraries!S12<>\"Y\",\"\",getareascore(W$2)))","v":""},{"$f":"IF(ItineraryPrograms!B12=\"y\",getScoreFactor(\"Program\",X$2),\"\")","v":""},{"$f":"IF(ItineraryPrograms!C12=\"y\",getScoreFactor(\"Program\",Y$2),\"\")","v":30},{"$f":"IF(ItineraryPrograms!D12=\"y\",getScoreFactor(\"Program\",Z$2),\"\")","v":""},{"$f":"IF(ItineraryPrograms!E12=\"y\",getScoreFactor(\"Program\",AA$2),\"\")","v":""},{"$f":"IF(ItineraryPrograms!F12=\"y\",getScoreFactor(\"Program\",AB$2),\"\")","v":""},{"$f":"IF(ItineraryPrograms!G12=\"y\",getScoreFactor(\"Program\",AC$2),\"\")","v":14.25},{"$f":"IF(ItineraryPrograms!H12=\"y\",getScoreFactor(\"Program\",AD$2),\"\")","v":""},{"$f":"IF(ItineraryPrograms!I12=\"y\",getScoreFactor(\"Program\",AE$2),\"\")","v":9},{"$f":"IF(ItineraryPrograms!J12=\"y\",getScoreFactor(\"Program\",AF$2),\"\")","v":""},{"$f":"IF(ItineraryPrograms!K12=\"y\",getScoreFactor(\"Program\",AG$2),\"\")","v":""},{"$f":"IF(ItineraryPrograms!L12=\"y\",getScoreFactor(\"Program\",AH$2),\"\")","v":7.5},{"$f":"IF(ItineraryPrograms!M12=\"y\",getScoreFactor(\"Program\",AI$2),\"\")","v":15.75},{"$f":"IF(ItineraryPrograms!N12=\"y\",getScoreFactor(\"Program\",AJ$2),\"\")","v":""},{"$f":"IF(ItineraryPrograms!O12=\"y\",getScoreFactor(\"Program\",AK$2),\"\")","v":""},{"$f":"IF(ItineraryPrograms!P12=\"y\",getScoreFactor(\"Program\",AL$2),\"\")","v":7.5},{"$f":"IF(ItineraryPrograms!Q12=\"y\",getScoreFactor(\"Program\",AM$2),\"\")","v":""},{"$f":"IF(ItineraryPrograms!R12=\"y\",getScoreFactor(\"Program\",AN$2),\"\")","v":""},{"$f":"IF(ItineraryPrograms!S12=\"y\",getScoreFactor(\"Program\",AO$2),\"\")","v":15},{"$f":"IF(ItineraryPrograms!T12=\"y\",getScoreFactor(\"Program\",AP$2),\"\")","v":6},{"$f":"IF(ItineraryPrograms!U12=\"y\",getScoreFactor(\"Program\",AQ$2),\"\")","v":""},{"$f":"IF(ItineraryPrograms!V12=\"y\",getScoreFactor(\"Program\",AR$2),\"\")","v":6},{"$f":"IF(ItineraryPrograms!W12=\"y\",getScoreFactor(\"Program\",AS$2),\"\")","v":""},{"$f":"IF(ItineraryPrograms!X12=\"y\",getScoreFactor(\"Program\",AT$2),\"\")","v":""},{"$f":"IF(ItineraryPrograms!Y12=\"y\",getScoreFactor(\"Program\",AU$2),\"\")","v":22.5},{"$f":"IF(ItineraryPrograms!Z12=\"y\",getScoreFactor(\"Program\",AV$2),\"\")","v":18.75},{"$f":"IF(ItineraryPrograms!AA12=\"y\",getScoreFactor(\"Program\",AW$2),\"\")","v":""},{"$f":"IF(ItineraryPrograms!AB12=\"y\",getScoreFactor(\"Program\",AX$2),\"\")","v":""},{"$f":"IF(ItineraryPrograms!AC12=\"y\",getScoreFactor(\"Program\",AY$2),\"\")","v":""},{"$f":"IF(ItineraryPrograms!AD12=\"y\",getScoreFactor(\"Program\",AZ$2),\"\")","v":""},{"$f":"IF(ItineraryPrograms!AE12=\"y\",getScoreFactor(\"Program\",BA$2),\"\")","v":""},{"$f":"IF(ItineraryPrograms!AF12=\"y\",getScoreFactor(\"Program\",BB$2),\"\")","v":19.5},{"$f":"IF(ItineraryPrograms!AG12=\"y\",getScoreFactor(\"Program\",BC$2),\"\")","v":""},{"$f":"IF(ItineraryPrograms!AH12=\"y\",getScoreFactor(\"Program\",BD$2),\"\")","v":""},{"$f":"IF(ItineraryPrograms!AI12=\"y\",getScoreFactor(\"Program\",BE$2),\"\")","v":""},{"$f":"IF(ItineraryPrograms!AJ12=\"y\",getScoreFactor(\"Program\",BF$2),\"\")","v":""},{"$f":"IF(ItineraryPrograms!AK12=\"y\",getScoreFactor(\"Program\",BG$2),\"\")","v":""},{"$f":"IF(ItineraryPrograms!AL12=\"y\",getScoreFactor(\"Program\",BH$2),\"\")","v":""},{"$f":"IF(ItineraryPrograms!AM12=\"y\",getScoreFactor(\"Program\",BI$2),\"\")","v":18},{"$f":"IF(ItineraryPrograms!AN12=\"y\",getScoreFactor(\"Program\",BJ$2),\"\")","v":15},{"$f":"IF(ItineraryPrograms!AO12=\"y\",getScoreFactor(\"Program\",BK$2),\"\")","v":13.5}]
[{"$f":"Itineraries!A13","v":"9-11"},8719.8333333333321,{"$f":"getScoreFactor(C$2,itineraryCamps!C14)","v":2333.333333333333},{"$f":"getScoreFactor(D$2,\"Miles\") *itineraryCamps!D14","v":5100},{"$f":"IF($A13=\"\",\"\",getScoreFactor(E$2,Itineraries!B13))","v":40},{"$f":"IF(A13=\"\",\"\",getScoreFactor(F$2,Itineraries!C13))","v":80},{"$f":"IF(A13=\"\",\"\",getScoreFactor(G$2,Itineraries!E13))","v":75},{"$f":"IF(A13=\"\",\"\",getScoreFactor(H$2,Itineraries!H13))","v":250},{"$f":"IF(A13=\"\",\"\",getScoreFactor(I$2,Itineraries!G13))","v":75},{"$f":"IF(A13=\"\",\"\",getScoreFactor(J$2,Itineraries!J13))","v":70},{"$f":"IF(A13=\"\",\"\",getScoreFactor(K$2,Itineraries!K13))","v":80},{"$f":"IF(A13=\"\",\"\",getScoreFactor(L$2,Itineraries!L13))","v":300},{"$f":"IF(A13=\"\",\"\",IF(INDEX(startingTA,numericItinerary($A13))=$M$2,getScoreFactor(M$2,\"y\"),getScoreFactor(M$2,\"n\")))","v":0},{"$f":"IF(A13=\"\",\"\",IF(INDEX(startingTA,numericItinerary($A13))=$M$2,getScoreFactor(N$2,\"y\"),getScoreFactor(N$2,\"n\")))","v":0},{"$f":"IF(A13=\"\",\"\",IF(INDEX(baldyMountainHike,numericItinerary($A13))=\"\",\"\",getPeakScore(O$2)))","v":""},{"$f":"IF(A13=\"\",\"\",IF(INDEX(mountPhillipsHike,numericItinerary($A13))=\"\",\"\",getPeakScore(P$2)))","v":33.75},{"$f":"IF(A13=\"\",\"\",IF(INDEX(toothOfTimeHike,numericItinerary($A13))=\"\",\"\",getPeakScore(Q$2)))","v":27},{"$f":"IF(A13=\"\",\"\",IF(INDEX(trailPeakHike,numericItinerary($A13))=\"\",\"\",getPeakScore(R$2)))","v":0},{"$f":"IF(A13=\"\",\"\",IF(INDEX(mountaineeringHike,numericItinerary($A13))=\"\",\"\",getPeakScore(S$2)))","v":0},{"$f":"IF(areaImportant<>\"y\",\"\",IF(Itineraries!P13<>\"Y\",\"\",getareascore(T$2)))","v":""},{"$f":"IF(areaImportant<>\"y\",\"\",IF(Itineraries!Q13<>\"Y\",\"\",getareascore(U$2)))","v":""},{"$f":"IF(areaImportant<>\"y\",\"\",IF(Itineraries!R13<>\"Y\",\"\",getareascore(V$2)))","v":""},{"$f":"IF(areaImportant<>\"y\",\"\",IF(Itineraries!S13<>\"Y\",\"\",getareascore(W$2)))","v":""},{"$f":"IF(ItineraryPrograms!B13=\"y\",getScoreFactor(\"Program\",X$2),\"\")","v":""},{"$f":"IF(ItineraryPrograms!C13=\"y\",getScoreFactor(\"Program\",Y$2),\"\")","v":""},{"$f":"IF(ItineraryPrograms!D13=\"y\",getScoreFactor(\"Program\",Z$2),\"\")","v":""},{"$f":"IF(ItineraryPrograms!E13=\"y\",getScoreFactor(\"Program\",AA$2),\"\")","v":""},{"$f":"IF(ItineraryPrograms!F13=\"y\",getScoreFactor(\"Program\",AB$2),\"\")","v":12.75},{"$f":"IF(ItineraryPrograms!G13=\"y\",getScoreFactor(\"Program\",AC$2),\"\")","v":14.25},{"$f":"IF(ItineraryPrograms!H13=\"y\",getScoreFactor(\"Program\",AD$2),\"\")","v":14.25},{"$f":"IF(ItineraryPrograms!I13=\"y\",getScoreFactor(\"Program\",AE$2),\"\")","v":""},{"$f":"IF(ItineraryPrograms!J13=\"y\",getScoreFactor(\"Program\",AF$2),\"\")","v":13.5},{"$f":"IF(ItineraryPrograms!K13=\"y\",getScoreFactor(\"Program\",AG$2),\"\")","v":""},{"$f":"IF(ItineraryPrograms!L13=\"y\",getScoreFactor(\"Program\",AH$2),\"\")","v":""},{"$f":"IF(ItineraryPrograms!M13=\"y\",getScoreFactor(\"Program\",AI$2),\"\")","v":""},{"$f":"IF(ItineraryPrograms!N13=\"y\",getScoreFactor(\"Program\",AJ$2),\"\")","v":""},{"$f":"IF(ItineraryPrograms!O13=\"y\",getScoreFactor(\"Program\",AK$2),\"\")","v":""},{"$f":"IF(ItineraryPrograms!P13=\"y\",getScoreFactor(\"Program\",AL$2),\"\")","v":7.5},{"$f":"IF(ItineraryPrograms!Q13=\"y\",getScoreFactor(\"Program\",AM$2),\"\")","v":12},{"$f":"IF(ItineraryPrograms!R13=\"y\",getScoreFactor(\"Program\",AN$2),\"\")","v":""},{"$f":"IF(ItineraryPrograms!S13=\"y\",getScoreFactor(\"Program\",AO$2),\"\")","v":""},{"$f":"IF(ItineraryPrograms!T13=\"y\",getScoreFactor(\"Program\",AP$2),\"\")","v":""},{"$f":"IF(ItineraryPrograms!U13=\"y\",getScoreFactor(\"Program\",AQ$2),\"\")","v":""},{"$f":"IF(ItineraryPrograms!V13=\"y\",getScoreFactor(\"Program\",AR$2),\"\")","v":6},{"$f":"IF(ItineraryPrograms!W13=\"y\",getScoreFactor(\"Program\",AS$2),\"\")","v":""},{"$f":"IF(ItineraryPrograms!X13=\"y\",getScoreFactor(\"Program\",AT$2),\"\")","v":""},{"$f":"IF(ItineraryPrograms!Y13=\"y\",getScoreFactor(\"Program\",AU$2),\"\")","v":""},{"$f":"IF(ItineraryPrograms!Z13=\"y\",getScoreFactor(\"Program\",AV$2),\"\")","v":""},{"$f":"IF(ItineraryPrograms!AA13=\"y\",getScoreFactor(\"Program\",AW$2),\"\")","v":15},{"$f":"IF(ItineraryPrograms!AB13=\"y\",getScoreFactor(\"Program\",AX$2),\"\")","v":18},{"$f":"IF(ItineraryPrograms!AC13=\"y\",getScoreFactor(\"Program\",AY$2),\"\")","v":""},{"$f":"IF(ItineraryPrograms!AD13=\"y\",getScoreFactor(\"Program\",AZ$2),\"\")","v":18},{"$f":"IF(ItineraryPrograms!AE13=\"y\",getScoreFactor(\"Program\",BA$2),\"\")","v":""},{"$f":"IF(ItineraryPrograms!AF13=\"y\",getScoreFactor(\"Program\",BB$2),\"\")","v":""},{"$f":"IF(ItineraryPrograms!AG13=\"y\",getScoreFactor(\"Program\",BC$2),\"\")","v":7.5},{"$f":"IF(ItineraryPrograms!AH13=\"y\",getScoreFactor(\"Program\",BD$2),\"\")","v":""},{"$f":"IF(ItineraryPrograms!AI13=\"y\",getScoreFactor(\"Program\",BE$2),\"\")","v":""},{"$f":"IF(ItineraryPrograms!AJ13=\"y\",getScoreFactor(\"Program\",BF$2),\"\")","v":21},{"$f":"IF(ItineraryPrograms!AK13=\"y\",getScoreFactor(\"Program\",BG$2),\"\")","v":27},{"$f":"IF(ItineraryPrograms!AL13=\"y\",getScoreFactor(\"Program\",BH$2),\"\")","v":22.5},{"$f":"IF(ItineraryPrograms!AM13=\"y\",getScoreFactor(\"Program\",BI$2),\"\")","v":18},{"$f":"IF(ItineraryPrograms!AN13=\"y\",getScoreFactor(\"Program\",BJ$2),\"\")","v":15},{"$f":"IF(ItineraryPrograms!AO13=\"y\",getScoreFactor(\"Program\",BK$2),\"\")","v":13.5}]
[{"$f":"Itineraries!A14","v":"9-12"},8633.8333333333321,{"$f":"getScoreFactor(C$2,itineraryCamps!C15)","v":2333.333333333333},{"$f":"getScoreFactor(D$2,\"Miles\") *itineraryCamps!D15","v":5200},{"$f":"IF($A14=\"\",\"\",getScoreFactor(E$2,Itineraries!B14))","v":30},{"$f":"IF(A14=\"\",\"\",getScoreFactor(F$2,Itineraries!C14))","v":90},{"$f":"IF(A14=\"\",\"\",getScoreFactor(G$2,Itineraries!E14))","v":50},{"$f":"IF(A14=\"\",\"\",getScoreFactor(H$2,Itineraries!H14))","v":250},{"$f":"IF(A14=\"\",\"\",getScoreFactor(I$2,Itineraries!G14))","v":75},{"$f":"IF(A14=\"\",\"\",getScoreFactor(J$2,Itineraries!J14))","v":110},{"$f":"IF(A14=\"\",\"\",getScoreFactor(K$2,Itineraries!K14))","v":90},{"$f":"IF(A14=\"\",\"\",getScoreFactor(L$2,Itineraries!L14))","v":200},{"$f":"IF(A14=\"\",\"\",IF(INDEX(startingTA,numericItinerary($A14))=$M$2,getScoreFactor(M$2,\"y\"),getScoreFactor(M$2,\"n\")))","v":0},{"$f":"IF(A14=\"\",\"\",IF(INDEX(startingTA,numericItinerary($A14))=$M$2,getScoreFactor(N$2,\"y\"),getScoreFactor(N$2,\"n\")))","v":0},{"$f":"IF(A14=\"\",\"\",IF(INDEX(baldyMountainHike,numericItinerary($A14))=\"\",\"\",getPeakScore(O$2)))","v":""},{"$f":"IF(A14=\"\",\"\",IF(INDEX(mountPhillipsHike,numericItinerary($A14))=\"\",\"\",getPeakScore(P$2)))","v":33.75},{"$f":"IF(A14=\"\",\"\",IF(INDEX(toothOfTimeHike,numericItinerary($A14))=\"\",\"\",getPeakScore(Q$2)))","v":""},{"$f":"IF(A14=\"\",\"\",IF(INDEX(trailPeakHike,numericItinerary($A14))=\"\",\"\",getPeakScore(R$2)))","v":""},{"$f":"IF(A14=\"\",\"\",IF(INDEX(mountaineeringHike,numericItinerary($A14))=\"\",\"\",getPeakScore(S$2)))","v":0},{"$f":"IF(areaImportant<>\"y\",\"\",IF(Itineraries!P14<>\"Y\",\"\",getareascore(T$2)))","v":""},{"$f":"IF(areaImportant<>\"y\",\"\",IF(Itineraries!Q14<>\"Y\",\"\",getareascore(U$2)))","v":""},{"$f":"IF(areaImportant<>\"y\",\"\",IF(Itineraries!R14<>\"Y\",\"\",getareascore(V$2)))","v":""},{"$f":"IF(areaImportant<>\"y\",\"\",IF(Itineraries!S14<>\"Y\",\"\",getareascore(W$2)))","v":""},{"$f":"IF(ItineraryPrograms!B14=\"y\",getScoreFactor(\"Program\",X$2),\"\")","v":""},{"$f":"IF(ItineraryPrograms!C14=\"y\",getScoreFactor(\"Program\",Y$2),\"\")","v":30},{"$f":"IF(ItineraryPrograms!D14=\"y\",getScoreFactor(\"Program\",Z$2),\"\")","v":""},{"$f":"IF(ItineraryPrograms!E14=\"y\",getScoreFactor(\"Program\",AA$2),\"\")","v":""},{"$f":"IF(ItineraryPrograms!F14=\"y\",getScoreFactor(\"Program\",AB$2),\"\")","v":""},{"$f":"IF(ItineraryPrograms!G14=\"y\",getScoreFactor(\"Program\",AC$2),\"\")","v":14.25},{"$f":"IF(ItineraryPrograms!H14=\"y\",getScoreFactor(\"Program\",AD$2),\"\")","v":14.25},{"$f":"IF(ItineraryPrograms!I14=\"y\",getScoreFactor(\"Program\",AE$2),\"\")","v":""},{"$f":"IF(ItineraryPrograms!J14=\"y\",getScoreFactor(\"Program\",AF$2),\"\")","v":13.5},{"$f":"IF(ItineraryPrograms!K14=\"y\",getScoreFactor(\"Program\",AG$2),\"\")","v":""},{"$f":"IF(ItineraryPrograms!L14=\"y\",getScoreFactor(\"Program\",AH$2),\"\")","v":""},{"$f":"IF(ItineraryPrograms!M14=\"y\",getScoreFactor(\"Program\",AI$2),\"\")","v":""},{"$f":"IF(ItineraryPrograms!N14=\"y\",getScoreFactor(\"Program\",AJ$2),\"\")","v":""},{"$f":"IF(ItineraryPrograms!O14=\"y\",getScoreFactor(\"Program\",AK$2),\"\")","v":""},{"$f":"IF(ItineraryPrograms!P14=\"y\",getScoreFactor(\"Program\",AL$2),\"\")","v":7.5},{"$f":"IF(ItineraryPrograms!Q14=\"y\",getScoreFactor(\"Program\",AM$2),\"\")","v":""},{"$f":"IF(ItineraryPrograms!R14=\"y\",getScoreFactor(\"Program\",AN$2),\"\")","v":""},{"$f":"IF(ItineraryPrograms!S14=\"y\",getScoreFactor(\"Program\",AO$2),\"\")","v":""},{"$f":"IF(ItineraryPrograms!T14=\"y\",getScoreFactor(\"Program\",AP$2),\"\")","v":6},{"$f":"IF(ItineraryPrograms!U14=\"y\",getScoreFactor(\"Program\",AQ$2),\"\")","v":""},{"$f":"IF(ItineraryPrograms!V14=\"y\",getScoreFactor(\"Program\",AR$2),\"\")","v":6},{"$f":"IF(ItineraryPrograms!W14=\"y\",getScoreFactor(\"Program\",AS$2),\"\")","v":""},{"$f":"IF(ItineraryPrograms!X14=\"y\",getScoreFactor(\"Program\",AT$2),\"\")","v":""},{"$f":"IF(ItineraryPrograms!Y14=\"y\",getScoreFactor(\"Program\",AU$2),\"\")","v":""},{"$f":"IF(ItineraryPrograms!Z14=\"y\",getScoreFactor(\"Program\",AV$2),\"\")","v":18.75},{"$f":"IF(ItineraryPrograms!AA14=\"y\",getScoreFactor(\"Program\",AW$2),\"\")","v":""},{"$f":"IF(ItineraryPrograms!AB14=\"y\",getScoreFactor(\"Program\",AX$2),\"\")","v":18},{"$f":"IF(ItineraryPrograms!AC14=\"y\",getScoreFactor(\"Program\",AY$2),\"\")","v":""},{"$f":"IF(ItineraryPrograms!AD14=\"y\",getScoreFactor(\"Program\",AZ$2),\"\")","v":""},{"$f":"IF(ItineraryPrograms!AE14=\"y\",getScoreFactor(\"Program\",BA$2),\"\")","v":""},{"$f":"IF(ItineraryPrograms!AF14=\"y\",getScoreFactor(\"Program\",BB$2),\"\")","v":""},{"$f":"IF(ItineraryPrograms!AG14=\"y\",getScoreFactor(\"Program\",BC$2),\"\")","v":7.5},{"$f":"IF(ItineraryPrograms!AH14=\"y\",getScoreFactor(\"Program\",BD$2),\"\")","v":""},{"$f":"IF(ItineraryPrograms!AI14=\"y\",getScoreFactor(\"Program\",BE$2),\"\")","v":""},{"$f":"IF(ItineraryPrograms!AJ14=\"y\",getScoreFactor(\"Program\",BF$2),\"\")","v":""},{"$f":"IF(ItineraryPrograms!AK14=\"y\",getScoreFactor(\"Program\",BG$2),\"\")","v":""},{"$f":"IF(ItineraryPrograms!AL14=\"y\",getScoreFactor(\"Program\",BH$2),\"\")","v":22.5},{"$f":"IF(ItineraryPrograms!AM14=\"y\",getScoreFactor(\"Program\",BI$2),\"\")","v":""},{"$f":"IF(ItineraryPrograms!AN14=\"y\",getScoreFactor(\"Program\",BJ$2),\"\")","v":""},{"$f":"IF(ItineraryPrograms!AO14=\"y\",getScoreFactor(\"Program\",BK$2),\"\")","v":13.5}]
[{"$f":"Itineraries!A15","v":"9-13"},7394.25,{"$f":"getScoreFactor(C$2,itineraryCamps!C16)","v":1500},{"$f":"getScoreFactor(D$2,\"Miles\") *itineraryCamps!D16","v":5000},{"$f":"IF($A15=\"\",\"\",getScoreFactor(E$2,Itineraries!B15))","v":30},{"$f":"IF(A15=\"\",\"\",getScoreFactor(F$2,Itineraries!C15))","v":90},{"$f":"IF(A15=\"\",\"\",getScoreFactor(G$2,Itineraries!E15))","v":50},{"$f":"IF(A15=\"\",\"\",getScoreFactor(H$2,Itineraries!H15))","v":200},{"$f":"IF(A15=\"\",\"\",getScoreFactor(I$2,Itineraries!G15))","v":75},{"$f":"IF(A15=\"\",\"\",getScoreFactor(J$2,Itineraries!J15))","v":110},{"$f":"IF(A15=\"\",\"\",getScoreFactor(K$2,Itineraries!K15))","v":100},{"$f":"IF(A15=\"\",\"\",getScoreFactor(L$2,Itineraries!L15))","v":0},{"$f":"IF(A15=\"\",\"\",IF(INDEX(startingTA,numericItinerary($A15))=$M$2,getScoreFactor(M$2,\"y\"),getScoreFactor(M$2,\"n\")))","v":0},{"$f":"IF(A15=\"\",\"\",IF(INDEX(startingTA,numericItinerary($A15))=$M$2,getScoreFactor(N$2,\"y\"),getScoreFactor(N$2,\"n\")))","v":0},{"$f":"IF(A15=\"\",\"\",IF(INDEX(baldyMountainHike,numericItinerary($A15))=\"\",\"\",getPeakScore(O$2)))","v":""},{"$f":"IF(A15=\"\",\"\",IF(INDEX(mountPhillipsHike,numericItinerary($A15))=\"\",\"\",getPeakScore(P$2)))","v":33.75},{"$f":"IF(A15=\"\",\"\",IF(INDEX(toothOfTimeHike,numericItinerary($A15))=\"\",\"\",getPeakScore(Q$2)))","v":27},{"$f":"IF(A15=\"\",\"\",IF(INDEX(trailPeakHike,numericItinerary($A15))=\"\",\"\",getPeakScore(R$2)))","v":""},{"$f":"IF(A15=\"\",\"\",IF(INDEX(mountaineeringHike,numericItinerary($A15))=\"\",\"\",getPeakScore(S$2)))","v":0},{"$f":"IF(areaImportant<>\"y\",\"\",IF(Itineraries!P15<>\"Y\",\"\",getareascore(T$2)))","v":""},{"$f":"IF(areaImportant<>\"y\",\"\",IF(Itineraries!Q15<>\"Y\",\"\",getareascore(U$2)))","v":""},{"$f":"IF(areaImportant<>\"y\",\"\",IF(Itineraries!R15<>\"Y\",\"\",getareascore(V$2)))","v":""},{"$f":"IF(areaImportant<>\"y\",\"\",IF(Itineraries!S15<>\"Y\",\"\",getareascore(W$2)))","v":""},{"$f":"IF(ItineraryPrograms!B15=\"y\",getScoreFactor(\"Program\",X$2),\"\")","v":""},{"$f":"IF(ItineraryPrograms!C15=\"y\",getScoreFactor(\"Program\",Y$2),\"\")","v":""},{"$f":"IF(ItineraryPrograms!D15=\"y\",getScoreFactor(\"Program\",Z$2),\"\")","v":""},{"$f":"IF(ItineraryPrograms!E15=\"y\",getScoreFactor(\"Program\",AA$2),\"\")","v":""},{"$f":"IF(ItineraryPrograms!F15=\"y\",getScoreFactor(\"Program\",AB$2),\"\")","v":12.75},{"$f":"IF(ItineraryPrograms!G15=\"y\",getScoreFactor(\"Program\",AC$2),\"\")","v":14.25},{"$f":"IF(ItineraryPrograms!H15=\"y\",getScoreFactor(\"Program\",AD$2),\"\")","v":""},{"$f":"IF(ItineraryPrograms!I15=\"y\",getScoreFactor(\"Program\",AE$2),\"\")","v":""},{"$f":"IF(ItineraryPrograms!J15=\"y\",getScoreFactor(\"Program\",AF$2),\"\")","v":13.5},{"$f":"IF(ItineraryPrograms!K15=\"y\",getScoreFactor(\"Program\",AG$2),\"\")","v":""},{"$f":"IF(ItineraryPrograms!L15=\"y\",getScoreFactor(\"Program\",AH$2),\"\")","v":""},{"$f":"IF(ItineraryPrograms!M15=\"y\",getScoreFactor(\"Program\",AI$2),\"\")","v":""},{"$f":"IF(ItineraryPrograms!N15=\"y\",getScoreFactor(\"Program\",AJ$2),\"\")","v":""},{"$f":"IF(ItineraryPrograms!O15=\"y\",getScoreFactor(\"Program\",AK$2),\"\")","v":""},{"$f":"IF(ItineraryPrograms!P15=\"y\",getScoreFactor(\"Program\",AL$2),\"\")","v":7.5},{"$f":"IF(ItineraryPrograms!Q15=\"y\",getScoreFactor(\"Program\",AM$2),\"\")","v":12},{"$f":"IF(ItineraryPrograms!R15=\"y\",getScoreFactor(\"Program\",AN$2),\"\")","v":""},{"$f":"IF(ItineraryPrograms!S15=\"y\",getScoreFactor(\"Program\",AO$2),\"\")","v":""},{"$f":"IF(ItineraryPrograms!T15=\"y\",getScoreFactor(\"Program\",AP$2),\"\")","v":""},{"$f":"IF(ItineraryPrograms!U15=\"y\",getScoreFactor(\"Program\",AQ$2),\"\")","v":""},{"$f":"IF(ItineraryPrograms!V15=\"y\",getScoreFactor(\"Program\",AR$2),\"\")","v":6},{"$f":"IF(ItineraryPrograms!W15=\"y\",getScoreFactor(\"Program\",AS$2),\"\")","v":""},{"$f":"IF(ItineraryPrograms!X15=\"y\",getScoreFactor(\"Program\",AT$2),\"\")","v":""},{"$f":"IF(ItineraryPrograms!Y15=\"y\",getScoreFactor(\"Program\",AU$2),\"\")","v":""},{"$f":"IF(ItineraryPrograms!Z15=\"y\",getScoreFactor(\"Program\",AV$2),\"\")","v":""},{"$f":"IF(ItineraryPrograms!AA15=\"y\",getScoreFactor(\"Program\",AW$2),\"\")","v":15},{"$f":"IF(ItineraryPrograms!AB15=\"y\",getScoreFactor(\"Program\",AX$2),\"\")","v":""},{"$f":"IF(ItineraryPrograms!AC15=\"y\",getScoreFactor(\"Program\",AY$2),\"\")","v":""},{"$f":"IF(ItineraryPrograms!AD15=\"y\",getScoreFactor(\"Program\",AZ$2),\"\")","v":18},{"$f":"IF(ItineraryPrograms!AE15=\"y\",getScoreFactor(\"Program\",BA$2),\"\")","v":""},{"$f":"IF(ItineraryPrograms!AF15=\"y\",getScoreFactor(\"Program\",BB$2),\"\")","v":""},{"$f":"IF(ItineraryPrograms!AG15=\"y\",getScoreFactor(\"Program\",BC$2),\"\")","v":7.5},{"$f":"IF(ItineraryPrograms!AH15=\"y\",getScoreFactor(\"Program\",BD$2),\"\")","v":""},{"$f":"IF(ItineraryPrograms!AI15=\"y\",getScoreFactor(\"Program\",BE$2),\"\")","v":18},{"$f":"IF(ItineraryPrograms!AJ15=\"y\",getScoreFactor(\"Program\",BF$2),\"\")","v":""},{"$f":"IF(ItineraryPrograms!AK15=\"y\",getScoreFactor(\"Program\",BG$2),\"\")","v":""},{"$f":"IF(ItineraryPrograms!AL15=\"y\",getScoreFactor(\"Program\",BH$2),\"\")","v":22.5},{"$f":"IF(ItineraryPrograms!AM15=\"y\",getScoreFactor(\"Program\",BI$2),\"\")","v":18},{"$f":"IF(ItineraryPrograms!AN15=\"y\",getScoreFactor(\"Program\",BJ$2),\"\")","v":""},{"$f":"IF(ItineraryPrograms!AO15=\"y\",getScoreFactor(\"Program\",BK$2),\"\")","v":13.5}]
[{"$f":"Itineraries!A16","v":"9-14"},8096,{"$f":"getScoreFactor(C$2,itineraryCamps!C17)","v":1500},{"$f":"getScoreFactor(D$2,\"Miles\") *itineraryCamps!D17","v":5600},{"$f":"IF($A16=\"\",\"\",getScoreFactor(E$2,Itineraries!B16))","v":40},{"$f":"IF(A16=\"\",\"\",getScoreFactor(F$2,Itineraries!C16))","v":80},{"$f":"IF(A16=\"\",\"\",getScoreFactor(G$2,Itineraries!E16))","v":50},{"$f":"IF(A16=\"\",\"\",getScoreFactor(H$2,Itineraries!H16))","v":250},{"$f":"IF(A16=\"\",\"\",getScoreFactor(I$2,Itineraries!G16))","v":100},{"$f":"IF(A16=\"\",\"\",getScoreFactor(J$2,Itineraries!J16))","v":50},{"$f":"IF(A16=\"\",\"\",getScoreFactor(K$2,Itineraries!K16))","v":50},{"$f":"IF(A16=\"\",\"\",getScoreFactor(L$2,Itineraries!L16))","v":100},{"$f":"IF(A16=\"\",\"\",IF(INDEX(startingTA,numericItinerary($A16))=$M$2,getScoreFactor(M$2,\"y\"),getScoreFactor(M$2,\"n\")))","v":0},{"$f":"IF(A16=\"\",\"\",IF(INDEX(startingTA,numericItinerary($A16))=$M$2,getScoreFactor(N$2,\"y\"),getScoreFactor(N$2,\"n\")))","v":0},{"$f":"IF(A16=\"\",\"\",IF(INDEX(baldyMountainHike,numericItinerary($A16))=\"\",\"\",getPeakScore(O$2)))","v":54},{"$f":"IF(A16=\"\",\"\",IF(INDEX(mountPhillipsHike,numericItinerary($A16))=\"\",\"\",getPeakScore(P$2)))","v":""},{"$f":"IF(A16=\"\",\"\",IF(INDEX(toothOfTimeHike,numericItinerary($A16))=\"\",\"\",getPeakScore(Q$2)))","v":""},{"$f":"IF(A16=\"\",\"\",IF(INDEX(trailPeakHike,numericItinerary($A16))=\"\",\"\",getPeakScore(R$2)))","v":""},{"$f":"IF(A16=\"\",\"\",IF(INDEX(mountaineeringHike,numericItinerary($A16))=\"\",\"\",getPeakScore(S$2)))","v":""},{"$f":"IF(areaImportant<>\"y\",\"\",IF(Itineraries!P16<>\"Y\",\"\",getareascore(T$2)))","v":""},{"$f":"IF(areaImportant<>\"y\",\"\",IF(Itineraries!Q16<>\"Y\",\"\",getareascore(U$2)))","v":""},{"$f":"IF(areaImportant<>\"y\",\"\",IF(Itineraries!R16<>\"Y\",\"\",getareascore(V$2)))","v":""},{"$f":"IF(areaImportant<>\"y\",\"\",IF(Itineraries!S16<>\"Y\",\"\",getareascore(W$2)))","v":""},{"$f":"IF(ItineraryPrograms!B16=\"y\",getScoreFactor(\"Program\",X$2),\"\")","v":""},{"$f":"IF(ItineraryPrograms!C16=\"y\",getScoreFactor(\"Program\",Y$2),\"\")","v":30},{"$f":"IF(ItineraryPrograms!D16=\"y\",getScoreFactor(\"Program\",Z$2),\"\")","v":""},{"$f":"IF(ItineraryPrograms!E16=\"y\",getScoreFactor(\"Program\",AA$2),\"\")","v":27},{"$f":"IF(ItineraryPrograms!F16=\"y\",getScoreFactor(\"Program\",AB$2),\"\")","v":12.75},{"$f":"IF(ItineraryPrograms!G16=\"y\",getScoreFactor(\"Program\",AC$2),\"\")","v":14.25},{"$f":"IF(ItineraryPrograms!H16=\"y\",getScoreFactor(\"Program\",AD$2),\"\")","v":14.25},{"$f":"IF(ItineraryPrograms!I16=\"y\",getScoreFactor(\"Program\",AE$2),\"\")","v":9},{"$f":"IF(ItineraryPrograms!J16=\"y\",getScoreFactor(\"Program\",AF$2),\"\")","v":""},{"$f":"IF(ItineraryPrograms!K16=\"y\",getScoreFactor(\"Program\",AG$2),\"\")","v":""},{"$f":"IF(ItineraryPrograms!L16=\"y\",getScoreFactor(\"Program\",AH$2),\"\")","v":""},{"$f":"IF(ItineraryPrograms!M16=\"y\",getScoreFactor(\"Program\",AI$2),\"\")","v":""},{"$f":"IF(ItineraryPrograms!N16=\"y\",getScoreFactor(\"Program\",AJ$2),\"\")","v":""},{"$f":"IF(ItineraryPrograms!O16=\"y\",getScoreFactor(\"Program\",AK$2),\"\")","v":10.5},{"$f":"IF(ItineraryPrograms!P30=\"y\",getScoreFactor(\"Program\",AL$2),\"\")","v":""},{"$f":"IF(ItineraryPrograms!Q16=\"y\",getScoreFactor(\"Program\",AM$2),\"\")","v":""},{"$f":"IF(ItineraryPrograms!R16=\"y\",getScoreFactor(\"Program\",AN$2),\"\")","v":""},{"$f":"IF(ItineraryPrograms!S16=\"y\",getScoreFactor(\"Program\",AO$2),\"\")","v":""},{"$f":"IF(ItineraryPrograms!T16=\"y\",getScoreFactor(\"Program\",AP$2),\"\")","v":""},{"$f":"IF(ItineraryPrograms!U16=\"y\",getScoreFactor(\"Program\",AQ$2),\"\")","v":15},{"$f":"IF(ItineraryPrograms!V16=\"y\",getScoreFactor(\"Program\",AR$2),\"\")","v":""},{"$f":"IF(ItineraryPrograms!W16=\"y\",getScoreFactor(\"Program\",AS$2),\"\")","v":""},{"$f":"IF(ItineraryPrograms!X16=\"y\",getScoreFactor(\"Program\",AT$2),\"\")","v":9.75},{"$f":"IF(ItineraryPrograms!Y16=\"y\",getScoreFactor(\"Program\",AU$2),\"\")","v":""},{"$f":"IF(ItineraryPrograms!Z16=\"y\",getScoreFactor(\"Program\",AV$2),\"\")","v":""},{"$f":"IF(ItineraryPrograms!AA16=\"y\",getScoreFactor(\"Program\",AW$2),\"\")","v":""},{"$f":"IF(ItineraryPrograms!AB16=\"y\",getScoreFactor(\"Program\",AX$2),\"\")","v":""},{"$f":"IF(ItineraryPrograms!AC16=\"y\",getScoreFactor(\"Program\",AY$2),\"\")","v":""},{"$f":"IF(ItineraryPrograms!AD16=\"y\",getScoreFactor(\"Program\",AZ$2),\"\")","v":""},{"$f":"IF(ItineraryPrograms!AE16=\"y\",getScoreFactor(\"Program\",BA$2),\"\")","v":""},{"$f":"IF(ItineraryPrograms!AF16=\"y\",getScoreFactor(\"Program\",BB$2),\"\")","v":""},{"$f":"IF(ItineraryPrograms!AG16=\"y\",getScoreFactor(\"Program\",BC$2),\"\")","v":""},{"$f":"IF(ItineraryPrograms!AH16=\"y\",getScoreFactor(\"Program\",BD$2),\"\")","v":""},{"$f":"IF(ItineraryPrograms!AI16=\"y\",getScoreFactor(\"Program\",BE$2),\"\")","v":18},{"$f":"IF(ItineraryPrograms!AJ16=\"y\",getScoreFactor(\"Program\",BF$2),\"\")","v":21},{"$f":"IF(ItineraryPrograms!AK16=\"y\",getScoreFactor(\"Program\",BG$2),\"\")","v":27},{"$f":"IF(ItineraryPrograms!AL16=\"y\",getScoreFactor(\"Program\",BH$2),\"\")","v":""},{"$f":"IF(ItineraryPrograms!AM16=\"y\",getScoreFactor(\"Program\",BI$2),\"\")","v":""},{"$f":"IF(ItineraryPrograms!AN16=\"y\",getScoreFactor(\"Program\",BJ$2),\"\")","v":""},{"$f":"IF(ItineraryPrograms!AO16=\"y\",getScoreFactor(\"Program\",BK$2),\"\")","v":13.5}]
[{"$f":"Itineraries!A17","v":"9-15"},9522,{"$f":"getScoreFactor(C$2,itineraryCamps!C18)","v":1500},{"$f":"getScoreFactor(D$2,\"Miles\") *itineraryCamps!D18","v":7000},{"$f":"IF($A17=\"\",\"\",getScoreFactor(E$2,Itineraries!B17))","v":50},{"$f":"IF(A17=\"\",\"\",getScoreFactor(F$2,Itineraries!C17))","v":70},{"$f":"IF(A17=\"\",\"\",getScoreFactor(G$2,Itineraries!E17))","v":75},{"$f":"IF(A17=\"\",\"\",getScoreFactor(H$2,Itineraries!H17))","v":250},{"$f":"IF(A17=\"\",\"\",getScoreFactor(I$2,Itineraries!G17))","v":75},{"$f":"IF(A17=\"\",\"\",getScoreFactor(J$2,Itineraries!J17))","v":80},{"$f":"IF(A17=\"\",\"\",getScoreFactor(K$2,Itineraries!K17))","v":80},{"$f":"IF(A17=\"\",\"\",getScoreFactor(L$2,Itineraries!L17))","v":0},{"$f":"IF(A17=\"\",\"\",IF(INDEX(startingTA,numericItinerary($A17))=$M$2,getScoreFactor(M$2,\"y\"),getScoreFactor(M$2,\"n\")))","v":0},{"$f":"IF(A17=\"\",\"\",IF(INDEX(startingTA,numericItinerary($A17))=$M$2,getScoreFactor(N$2,\"y\"),getScoreFactor(N$2,\"n\")))","v":0},{"$f":"IF(A17=\"\",\"\",IF(INDEX(baldyMountainHike,numericItinerary($A17))=\"\",\"\",getPeakScore(O$2)))","v":54},{"$f":"IF(A17=\"\",\"\",IF(INDEX(mountPhillipsHike,numericItinerary($A17))=\"\",\"\",getPeakScore(P$2)))","v":""},{"$f":"IF(A17=\"\",\"\",IF(INDEX(toothOfTimeHike,numericItinerary($A17))=\"\",\"\",getPeakScore(Q$2)))","v":27},{"$f":"IF(A17=\"\",\"\",IF(INDEX(trailPeakHike,numericItinerary($A17))=\"\",\"\",getPeakScore(R$2)))","v":""},{"$f":"IF(A17=\"\",\"\",IF(INDEX(mountaineeringHike,numericItinerary($A17))=\"\",\"\",getPeakScore(S$2)))","v":0},{"$f":"IF(areaImportant<>\"y\",\"\",IF(Itineraries!P17<>\"Y\",\"\",getareascore(T$2)))","v":""},{"$f":"IF(areaImportant<>\"y\",\"\",IF(Itineraries!Q17<>\"Y\",\"\",getareascore(U$2)))","v":""},{"$f":"IF(areaImportant<>\"y\",\"\",IF(Itineraries!R17<>\"Y\",\"\",getareascore(V$2)))","v":""},{"$f":"IF(areaImportant<>\"y\",\"\",IF(Itineraries!S17<>\"Y\",\"\",getareascore(W$2)))","v":""},{"$f":"IF(ItineraryPrograms!B17=\"y\",getScoreFactor(\"Program\",X$2),\"\")","v":""},{"$f":"IF(ItineraryPrograms!C17=\"y\",getScoreFactor(\"Program\",Y$2),\"\")","v":30},{"$f":"IF(ItineraryPrograms!D17=\"y\",getScoreFactor(\"Program\",Z$2),\"\")","v":""},{"$f":"IF(ItineraryPrograms!E17=\"y\",getScoreFactor(\"Program\",AA$2),\"\")","v":27},{"$f":"IF(ItineraryPrograms!F17=\"y\",getScoreFactor(\"Program\",AB$2),\"\")","v":12.75},{"$f":"IF(ItineraryPrograms!G17=\"y\",getScoreFactor(\"Program\",AC$2),\"\")","v":14.25},{"$f":"IF(ItineraryPrograms!H17=\"y\",getScoreFactor(\"Program\",AD$2),\"\")","v":14.25},{"$f":"IF(ItineraryPrograms!I17=\"y\",getScoreFactor(\"Program\",AE$2),\"\")","v":9},{"$f":"IF(ItineraryPrograms!J17=\"y\",getScoreFactor(\"Program\",AF$2),\"\")","v":13.5},{"$f":"IF(ItineraryPrograms!K17=\"y\",getScoreFactor(\"Program\",AG$2),\"\")","v":7.5},{"$f":"IF(ItineraryPrograms!L17=\"y\",getScoreFactor(\"Program\",AH$2),\"\")","v":""},{"$f":"IF(ItineraryPrograms!M17=\"y\",getScoreFactor(\"Program\",AI$2),\"\")","v":""},{"$f":"IF(ItineraryPrograms!N17=\"y\",getScoreFactor(\"Program\",AJ$2),\"\")","v":""},{"$f":"IF(ItineraryPrograms!O17=\"y\",getScoreFactor(\"Program\",AK$2),\"\")","v":10.5},{"$f":"IF(ItineraryPrograms!P17=\"y\",getScoreFactor(\"Program\",AL$2),\"\")","v":""},{"$f":"IF(ItineraryPrograms!Q17=\"y\",getScoreFactor(\"Program\",AM$2),\"\")","v":""},{"$f":"IF(ItineraryPrograms!R17=\"y\",getScoreFactor(\"Program\",AN$2),\"\")","v":""},{"$f":"IF(ItineraryPrograms!S17=\"y\",getScoreFactor(\"Program\",AO$2),\"\")","v":""},{"$f":"IF(ItineraryPrograms!T17=\"y\",getScoreFactor(\"Program\",AP$2),\"\")","v":""},{"$f":"IF(ItineraryPrograms!U17=\"y\",getScoreFactor(\"Program\",AQ$2),\"\")","v":15},{"$f":"IF(ItineraryPrograms!V17=\"y\",getScoreFactor(\"Program\",AR$2),\"\")","v":""},{"$f":"IF(ItineraryPrograms!W17=\"y\",getScoreFactor(\"Program\",AS$2),\"\")","v":""},{"$f":"IF(ItineraryPrograms!X17=\"y\",getScoreFactor(\"Program\",AT$2),\"\")","v":9.75},{"$f":"IF(ItineraryPrograms!Y17=\"y\",getScoreFactor(\"Program\",AU$2),\"\")","v":""},{"$f":"IF(ItineraryPrograms!Z17=\"y\",getScoreFactor(\"Program\",AV$2),\"\")","v":""},{"$f":"IF(ItineraryPrograms!AA17=\"y\",getScoreFactor(\"Program\",AW$2),\"\")","v":""},{"$f":"IF(ItineraryPrograms!AB17=\"y\",getScoreFactor(\"Program\",AX$2),\"\")","v":""},{"$f":"IF(ItineraryPrograms!AC17=\"y\",getScoreFactor(\"Program\",AY$2),\"\")","v":""},{"$f":"IF(ItineraryPrograms!AD17=\"y\",getScoreFactor(\"Program\",AZ$2),\"\")","v":""},{"$f":"IF(ItineraryPrograms!AE17=\"y\",getScoreFactor(\"Program\",BA$2),\"\")","v":""},{"$f":"IF(ItineraryPrograms!AF17=\"y\",getScoreFactor(\"Program\",BB$2),\"\")","v":""},{"$f":"IF(ItineraryPrograms!AG17=\"y\",getScoreFactor(\"Program\",BC$2),\"\")","v":""},{"$f":"IF(ItineraryPrograms!AH17=\"y\",getScoreFactor(\"Program\",BD$2),\"\")","v":18},{"$f":"IF(ItineraryPrograms!AI17=\"y\",getScoreFactor(\"Program\",BE$2),\"\")","v":""},{"$f":"IF(ItineraryPrograms!AJ17=\"y\",getScoreFactor(\"Program\",BF$2),\"\")","v":21},{"$f":"IF(ItineraryPrograms!AK17=\"y\",getScoreFactor(\"Program\",BG$2),\"\")","v":27},{"$f":"IF(ItineraryPrograms!AL17=\"y\",getScoreFactor(\"Program\",BH$2),\"\")","v":""},{"$f":"IF(ItineraryPrograms!AM17=\"y\",getScoreFactor(\"Program\",BI$2),\"\")","v":18},{"$f":"IF(ItineraryPrograms!AN17=\"y\",getScoreFactor(\"Program\",BJ$2),\"\")","v":""},{"$f":"IF(ItineraryPrograms!AO17=\"y\",getScoreFactor(\"Program\",BK$2),\"\")","v":13.5}]
[{"$f":"Itineraries!A18","v":""},0,{"$f":"getScoreFactor(C$2,itineraryCamps!C19)","v":0},{"$f":"getScoreFactor(D$2,\"Miles\") *itineraryCamps!D19","v":0},{"$f":"IF($A18=\"\",\"\",getScoreFactor(E$2,Itineraries!B18))","v":""},{"$f":"IF(A18=\"\",\"\",getScoreFactor(F$2,Itineraries!C18))","v":""},{"$f":"IF(A18=\"\",\"\",getScoreFactor(G$2,Itineraries!E18))","v":""},{"$f":"IF(A18=\"\",\"\",getScoreFactor(H$2,Itineraries!H18))","v":""},{"$f":"IF(A18=\"\",\"\",getScoreFactor(I$2,Itineraries!G18))","v":""},{"$f":"IF(A18=\"\",\"\",getScoreFactor(J$2,Itineraries!J18))","v":""},{"$f":"IF(A18=\"\",\"\",getScoreFactor(K$2,Itineraries!K18))","v":""},{"$f":"IF(A18=\"\",\"\",getScoreFactor(L$2,Itineraries!L18))","v":""},{"$f":"IF(A18=\"\",\"\",IF(INDEX(startingTA,numericItinerary($A18))=$M$2,getScoreFactor(M$2,\"y\"),getScoreFactor(M$2,\"n\")))","v":""},{"$f":"IF(A18=\"\",\"\",IF(INDEX(startingTA,numericItinerary($A18))=$M$2,getScoreFactor(N$2,\"y\"),getScoreFactor(N$2,\"n\")))","v":""},{"$f":"IF(A18=\"\",\"\",IF(INDEX(baldyMountainHike,numericItinerary($A18))=\"\",\"\",getPeakScore(O$2)))","v":""},{"$f":"IF(A18=\"\",\"\",IF(INDEX(mountPhillipsHike,numericItinerary($A18))=\"\",\"\",getPeakScore(P$2)))","v":""},{"$f":"IF(A18=\"\",\"\",IF(INDEX(toothOfTimeHike,numericItinerary($A18))=\"\",\"\",getPeakScore(Q$2)))","v":""},{"$f":"IF(A18=\"\",\"\",IF(INDEX(trailPeakHike,numericItinerary($A18))=\"\",\"\",getPeakScore(R$2)))","v":""},{"$f":"IF(A18=\"\",\"\",IF(INDEX(mountaineeringHike,numericItinerary($A18))=\"\",\"\",getPeakScore(S$2)))","v":""},{"$f":"IF(areaImportant<>\"y\",\"\",IF(Itineraries!P18<>\"Y\",\"\",getareascore(T$2)))","v":""},{"$f":"IF(areaImportant<>\"y\",\"\",IF(Itineraries!Q18<>\"Y\",\"\",getareascore(U$2)))","v":""},{"$f":"IF(areaImportant<>\"y\",\"\",IF(Itineraries!R18<>\"Y\",\"\",getareascore(V$2)))","v":""},{"$f":"IF(areaImportant<>\"y\",\"\",IF(Itineraries!S18<>\"Y\",\"\",getareascore(W$2)))","v":""},{"$f":"IF(ItineraryPrograms!B18=\"y\",getScoreFactor(\"Program\",X$2),\"\")","v":""},{"$f":"IF(ItineraryPrograms!C18=\"y\",getScoreFactor(\"Program\",Y$2),\"\")","v":""},{"$f":"IF(ItineraryPrograms!D18=\"y\",getScoreFactor(\"Program\",Z$2),\"\")","v":""},{"$f":"IF(ItineraryPrograms!E18=\"y\",getScoreFactor(\"Program\",AA$2),\"\")","v":""},{"$f":"IF(ItineraryPrograms!F18=\"y\",getScoreFactor(\"Program\",AB$2),\"\")","v":""},{"$f":"IF(ItineraryPrograms!G18=\"y\",getScoreFactor(\"Program\",AC$2),\"\")","v":""},{"$f":"IF(ItineraryPrograms!H18=\"y\",getScoreFactor(\"Program\",AD$2),\"\")","v":""},{"$f":"IF(ItineraryPrograms!I18=\"y\",getScoreFactor(\"Program\",AE$2),\"\")","v":""},{"$f":"IF(ItineraryPrograms!J18=\"y\",getScoreFactor(\"Program\",AF$2),\"\")","v":""},{"$f":"IF(ItineraryPrograms!K18=\"y\",getScoreFactor(\"Program\",AG$2),\"\")","v":""},{"$f":"IF(ItineraryPrograms!L18=\"y\",getScoreFactor(\"Program\",AH$2),\"\")","v":""},{"$f":"IF(ItineraryPrograms!M18=\"y\",getScoreFactor(\"Program\",AI$2),\"\")","v":""},{"$f":"IF(ItineraryPrograms!N18=\"y\",getScoreFactor(\"Program\",AJ$2),\"\")","v":""},{"$f":"IF(ItineraryPrograms!O18=\"y\",getScoreFactor(\"Program\",AK$2),\"\")","v":""},{"$f":"IF(ItineraryPrograms!P18=\"y\",getScoreFactor(\"Program\",AL$2),\"\")","v":""},{"$f":"IF(ItineraryPrograms!Q18=\"y\",getScoreFactor(\"Program\",AM$2),\"\")","v":""},{"$f":"IF(ItineraryPrograms!R18=\"y\",getScoreFactor(\"Program\",AN$2),\"\")","v":""},{"$f":"IF(ItineraryPrograms!S18=\"y\",getScoreFactor(\"Program\",AO$2),\"\")","v":""},{"$f":"IF(ItineraryPrograms!T18=\"y\",getScoreFactor(\"Program\",AP$2),\"\")","v":""},{"$f":"IF(ItineraryPrograms!U18=\"y\",getScoreFactor(\"Program\",AQ$2),\"\")","v":""},{"$f":"IF(ItineraryPrograms!V18=\"y\",getScoreFactor(\"Program\",AR$2),\"\")","v":""},{"$f":"IF(ItineraryPrograms!W18=\"y\",getScoreFactor(\"Program\",AS$2),\"\")","v":""},{"$f":"IF(ItineraryPrograms!X18=\"y\",getScoreFactor(\"Program\",AT$2),\"\")","v":""},{"$f":"IF(ItineraryPrograms!Y18=\"y\",getScoreFactor(\"Program\",AU$2),\"\")","v":""},{"$f":"IF(ItineraryPrograms!Z18=\"y\",getScoreFactor(\"Program\",AV$2),\"\")","v":""},{"$f":"IF(ItineraryPrograms!AA18=\"y\",getScoreFactor(\"Program\",AW$2),\"\")","v":""},{"$f":"IF(ItineraryPrograms!AB18=\"y\",getScoreFactor(\"Program\",AX$2),\"\")","v":""},{"$f":"IF(ItineraryPrograms!AC18=\"y\",getScoreFactor(\"Program\",AY$2),\"\")","v":""},{"$f":"IF(ItineraryPrograms!AD18=\"y\",getScoreFactor(\"Program\",AZ$2),\"\")","v":""},{"$f":"IF(ItineraryPrograms!AE18=\"y\",getScoreFactor(\"Program\",BA$2),\"\")","v":""},{"$f":"IF(ItineraryPrograms!AF18=\"y\",getScoreFactor(\"Program\",BB$2),\"\")","v":""},{"$f":"IF(ItineraryPrograms!AG18=\"y\",getScoreFactor(\"Program\",BC$2),\"\")","v":""},{"$f":"IF(ItineraryPrograms!AH18=\"y\",getScoreFactor(\"Program\",BD$2),\"\")","v":""},{"$f":"IF(ItineraryPrograms!AI18=\"y\",getScoreFactor(\"Program\",BE$2),\"\")","v":""},{"$f":"IF(ItineraryPrograms!AJ18=\"y\",getScoreFactor(\"Program\",BF$2),\"\")","v":""},{"$f":"IF(ItineraryPrograms!AK18=\"y\",getScoreFactor(\"Program\",BG$2),\"\")","v":""},{"$f":"IF(ItineraryPrograms!AL18=\"y\",getScoreFactor(\"Program\",BH$2),\"\")","v":""},{"$f":"IF(ItineraryPrograms!AM18=\"y\",getScoreFactor(\"Program\",BI$2),\"\")","v":""},{"$f":"IF(ItineraryPrograms!AN18=\"y\",getScoreFactor(\"Program\",BJ$2),\"\")","v":""},{"$f":"IF(ItineraryPrograms!AO18=\"y\",getScoreFactor(\"Program\",BK$2),\"\")","v":""}]
[{"$f":"Itineraries!A19","v":""},{"$f":"SUM(C19:BK19)","v":0},{"$f":"getScoreFactor(C$2,itineraryCamps!C20)","v":0},{"$f":"getScoreFactor(D$2,\"Miles\") *itineraryCamps!D20","v":0},{"$f":"IF($A19=\"\",\"\",getScoreFactor(E$2,Itineraries!B19))","v":""},{"$f":"IF(A19=\"\",\"\",getScoreFactor(F$2,Itineraries!C19))","v":""},{"$f":"IF(A19=\"\",\"\",getScoreFactor(G$2,Itineraries!E19))","v":""},{"$f":"IF(A19=\"\",\"\",getScoreFactor(H$2,Itineraries!H19))","v":""},{"$f":"IF(A19=\"\",\"\",getScoreFactor(I$2,Itineraries!G19))","v":""},{"$f":"IF(A19=\"\",\"\",getScoreFactor(J$2,Itineraries!J19))","v":""},{"$f":"IF(A19=\"\",\"\",getScoreFactor(K$2,Itineraries!K19))","v":""},{"$f":"IF(A19=\"\",\"\",getScoreFactor(L$2,Itineraries!L19))","v":""},{"$f":"IF(A19=\"\",\"\",IF(INDEX(startingTA,numericItinerary($A19))=$M$2,getScoreFactor(M$2,\"y\"),getScoreFactor(M$2,\"n\")))","v":""},{"$f":"IF(A19=\"\",\"\",IF(INDEX(startingTA,numericItinerary($A19))=$M$2,getScoreFactor(N$2,\"y\"),getScoreFactor(N$2,\"n\")))","v":""},{"$f":"IF(A19=\"\",\"\",IF(INDEX(baldyMountainHike,numericItinerary($A19))=\"\",\"\",getPeakScore(O$2)))","v":""},{"$f":"IF(A19=\"\",\"\",IF(INDEX(mountPhillipsHike,numericItinerary($A19))=\"\",\"\",getPeakScore(P$2)))","v":""},{"$f":"IF(A19=\"\",\"\",IF(INDEX(toothOfTimeHike,numericItinerary($A19))=\"\",\"\",getPeakScore(Q$2)))","v":""},{"$f":"IF(A19=\"\",\"\",IF(INDEX(trailPeakHike,numericItinerary($A19))=\"\",\"\",getPeakScore(R$2)))","v":""},{"$f":"IF(A19=\"\",\"\",IF(INDEX(mountaineeringHike,numericItinerary($A19))=\"\",\"\",getPeakScore(S$2)))","v":""},{"$f":"IF(areaImportant<>\"y\",\"\",IF(Itineraries!P19<>\"Y\",\"\",getareascore(T$2)))","v":""},{"$f":"IF(areaImportant<>\"y\",\"\",IF(Itineraries!Q19<>\"Y\",\"\",getareascore(U$2)))","v":""},{"$f":"IF(areaImportant<>\"y\",\"\",IF(Itineraries!R19<>\"Y\",\"\",getareascore(V$2)))","v":""},{"$f":"IF(areaImportant<>\"y\",\"\",IF(Itineraries!S19<>\"Y\",\"\",getareascore(W$2)))","v":""},{"$f":"IF(ItineraryPrograms!B19=\"y\",getScoreFactor(\"Program\",X$2),\"\")","v":""},{"$f":"IF(ItineraryPrograms!C19=\"y\",getScoreFactor(\"Program\",Y$2),\"\")","v":""},{"$f":"IF(ItineraryPrograms!D19=\"y\",getScoreFactor(\"Program\",Z$2),\"\")","v":""},{"$f":"IF(ItineraryPrograms!E19=\"y\",getScoreFactor(\"Program\",AA$2),\"\")","v":""},{"$f":"IF(ItineraryPrograms!F19=\"y\",getScoreFactor(\"Program\",AB$2),\"\")","v":""},{"$f":"IF(ItineraryPrograms!G19=\"y\",getScoreFactor(\"Program\",AC$2),\"\")","v":""},{"$f":"IF(ItineraryPrograms!H19=\"y\",getScoreFactor(\"Program\",AD$2),\"\")","v":""},{"$f":"IF(ItineraryPrograms!I19=\"y\",getScoreFactor(\"Program\",AE$2),\"\")","v":""},{"$f":"IF(ItineraryPrograms!J19=\"y\",getScoreFactor(\"Program\",AF$2),\"\")","v":""},{"$f":"IF(ItineraryPrograms!K19=\"y\",getScoreFactor(\"Program\",AG$2),\"\")","v":""},{"$f":"IF(ItineraryPrograms!L19=\"y\",getScoreFactor(\"Program\",AH$2),\"\")","v":""},{"$f":"IF(ItineraryPrograms!M19=\"y\",getScoreFactor(\"Program\",AI$2),\"\")","v":""},{"$f":"IF(ItineraryPrograms!N19=\"y\",getScoreFactor(\"Program\",AJ$2),\"\")","v":""},{"$f":"IF(ItineraryPrograms!O19=\"y\",getScoreFactor(\"Program\",AK$2),\"\")","v":""},{"$f":"IF(ItineraryPrograms!P19=\"y\",getScoreFactor(\"Program\",AL$2),\"\")","v":""},{"$f":"IF(ItineraryPrograms!Q19=\"y\",getScoreFactor(\"Program\",AM$2),\"\")","v":""},{"$f":"IF(ItineraryPrograms!R19=\"y\",getScoreFactor(\"Program\",AN$2),\"\")","v":""},{"$f":"IF(ItineraryPrograms!S19=\"y\",getScoreFactor(\"Program\",AO$2),\"\")","v":""},{"$f":"IF(ItineraryPrograms!T19=\"y\",getScoreFactor(\"Program\",AP$2),\"\")","v":""},{"$f":"IF(ItineraryPrograms!U19=\"y\",getScoreFactor(\"Program\",AQ$2),\"\")","v":""},{"$f":"IF(ItineraryPrograms!V19=\"y\",getScoreFactor(\"Program\",AR$2),\"\")","v":""},{"$f":"IF(ItineraryPrograms!W19=\"y\",getScoreFactor(\"Program\",AS$2),\"\")","v":""},{"$f":"IF(ItineraryPrograms!X19=\"y\",getScoreFactor(\"Program\",AT$2),\"\")","v":""},{"$f":"IF(ItineraryPrograms!Y19=\"y\",getScoreFactor(\"Program\",AU$2),\"\")","v":""},{"$f":"IF(ItineraryPrograms!Z19=\"y\",getScoreFactor(\"Program\",AV$2),\"\")","v":""},{"$f":"IF(ItineraryPrograms!AA19=\"y\",getScoreFactor(\"Program\",AW$2),\"\")","v":""},{"$f":"IF(ItineraryPrograms!AB19=\"y\",getScoreFactor(\"Program\",AX$2),\"\")","v":""},{"$f":"IF(ItineraryPrograms!AC19=\"y\",getScoreFactor(\"Program\",AY$2),\"\")","v":""},{"$f":"IF(ItineraryPrograms!AD19=\"y\",getScoreFactor(\"Program\",AZ$2),\"\")","v":""},{"$f":"IF(ItineraryPrograms!AE19=\"y\",getScoreFactor(\"Program\",BA$2),\"\")","v":""},{"$f":"IF(ItineraryPrograms!AF19=\"y\",getScoreFactor(\"Program\",BB$2),\"\")","v":""},{"$f":"IF(ItineraryPrograms!AG19=\"y\",getScoreFactor(\"Program\",BC$2),\"\")","v":""},{"$f":"IF(ItineraryPrograms!AH19=\"y\",getScoreFactor(\"Program\",BD$2),\"\")","v":""},{"$f":"IF(ItineraryPrograms!AI19=\"y\",getScoreFactor(\"Program\",BE$2),\"\")","v":""},{"$f":"IF(ItineraryPrograms!AJ19=\"y\",getScoreFactor(\"Program\",BF$2),\"\")","v":""},{"$f":"IF(ItineraryPrograms!AK19=\"y\",getScoreFactor(\"Program\",BG$2),\"\")","v":""},{"$f":"IF(ItineraryPrograms!AL19=\"y\",getScoreFactor(\"Program\",BH$2),\"\")","v":""},{"$f":"IF(ItineraryPrograms!AM19=\"y\",getScoreFactor(\"Program\",BI$2),\"\")","v":""},{"$f":"IF(ItineraryPrograms!AN19=\"y\",getScoreFactor(\"Program\",BJ$2),\"\")","v":""},{"$f":"IF(ItineraryPrograms!AO19=\"y\",getScoreFactor(\"Program\",BK$2),\"\")","v":""}]
[{"$f":"Itineraries!A20","v":""},0,{"$f":"getScoreFactor(C$2,itineraryCamps!C21)","v":0},{"$f":"getScoreFactor(D$2,\"Miles\") *itineraryCamps!D21","v":0},{"$f":"IF($A20=\"\",\"\",getScoreFactor(E$2,Itineraries!B20))","v":""},{"$f":"IF(A20=\"\",\"\",getScoreFactor(F$2,Itineraries!C20))","v":""},{"$f":"IF(A20=\"\",\"\",getScoreFactor(G$2,Itineraries!E20))","v":""},{"$f":"IF(A20=\"\",\"\",getScoreFactor(H$2,Itineraries!H20))","v":""},{"$f":"IF(A20=\"\",\"\",getScoreFactor(I$2,Itineraries!G20))","v":""},{"$f":"IF(A20=\"\",\"\",getScoreFactor(J$2,Itineraries!J20))","v":""},{"$f":"IF(A20=\"\",\"\",getScoreFactor(K$2,Itineraries!K20))","v":""},{"$f":"IF(A20=\"\",\"\",getScoreFactor(L$2,Itineraries!L20))","v":""},{"$f":"IF(A20=\"\",\"\",IF(INDEX(startingTA,numericItinerary($A20))=$M$2,getScoreFactor(M$2,\"y\"),getScoreFactor(M$2,\"n\")))","v":""},{"$f":"IF(A20=\"\",\"\",IF(INDEX(startingTA,numericItinerary($A20))=$M$2,getScoreFactor(N$2,\"y\"),getScoreFactor(N$2,\"n\")))","v":""},{"$f":"IF(A20=\"\",\"\",IF(INDEX(baldyMountainHike,numericItinerary($A20))=\"\",\"\",getPeakScore(O$2)))","v":""},{"$f":"IF(A20=\"\",\"\",IF(INDEX(mountPhillipsHike,numericItinerary($A20))=\"\",\"\",getPeakScore(P$2)))","v":""},{"$f":"IF(A20=\"\",\"\",IF(INDEX(toothOfTimeHike,numericItinerary($A20))=\"\",\"\",getPeakScore(Q$2)))","v":""},{"$f":"IF(A20=\"\",\"\",IF(INDEX(trailPeakHike,numericItinerary($A20))=\"\",\"\",getPeakScore(R$2)))","v":""},{"$f":"IF(A20=\"\",\"\",IF(INDEX(mountaineeringHike,numericItinerary($A20))=\"\",\"\",getPeakScore(S$2)))","v":""},{"$f":"IF(areaImportant<>\"y\",\"\",IF(Itineraries!P20<>\"Y\",\"\",getareascore(T$2)))","v":""},{"$f":"IF(areaImportant<>\"y\",\"\",IF(Itineraries!Q20<>\"Y\",\"\",getareascore(U$2)))","v":""},{"$f":"IF(areaImportant<>\"y\",\"\",IF(Itineraries!R20<>\"Y\",\"\",getareascore(V$2)))","v":""},{"$f":"IF(areaImportant<>\"y\",\"\",IF(Itineraries!S20<>\"Y\",\"\",getareascore(W$2)))","v":""},{"$f":"IF(ItineraryPrograms!B20=\"y\",getScoreFactor(\"Program\",X$2),\"\")","v":""},{"$f":"IF(ItineraryPrograms!C20=\"y\",getScoreFactor(\"Program\",Y$2),\"\")","v":""},{"$f":"IF(ItineraryPrograms!D20=\"y\",getScoreFactor(\"Program\",Z$2),\"\")","v":""},{"$f":"IF(ItineraryPrograms!E20=\"y\",getScoreFactor(\"Program\",AA$2),\"\")","v":""},{"$f":"IF(ItineraryPrograms!F20=\"y\",getScoreFactor(\"Program\",AB$2),\"\")","v":""},{"$f":"IF(ItineraryPrograms!G20=\"y\",getScoreFactor(\"Program\",AC$2),\"\")","v":""},{"$f":"IF(ItineraryPrograms!H20=\"y\",getScoreFactor(\"Program\",AD$2),\"\")","v":""},{"$f":"IF(ItineraryPrograms!I20=\"y\",getScoreFactor(\"Program\",AE$2),\"\")","v":""},{"$f":"IF(ItineraryPrograms!J20=\"y\",getScoreFactor(\"Program\",AF$2),\"\")","v":""},{"$f":"IF(ItineraryPrograms!K20=\"y\",getScoreFactor(\"Program\",AG$2),\"\")","v":""},{"$f":"IF(ItineraryPrograms!L20=\"y\",getScoreFactor(\"Program\",AH$2),\"\")","v":""},{"$f":"IF(ItineraryPrograms!M20=\"y\",getScoreFactor(\"Program\",AI$2),\"\")","v":""},{"$f":"IF(ItineraryPrograms!N20=\"y\",getScoreFactor(\"Program\",AJ$2),\"\")","v":""},{"$f":"IF(ItineraryPrograms!O20=\"y\",getScoreFactor(\"Program\",AK$2),\"\")","v":""},{"$f":"IF(ItineraryPrograms!P20=\"y\",getScoreFactor(\"Program\",AL$2),\"\")","v":""},{"$f":"IF(ItineraryPrograms!Q20=\"y\",getScoreFactor(\"Program\",AM$2),\"\")","v":""},{"$f":"IF(ItineraryPrograms!R20=\"y\",getScoreFactor(\"Program\",AN$2),\"\")","v":""},{"$f":"IF(ItineraryPrograms!S20=\"y\",getScoreFactor(\"Program\",AO$2),\"\")","v":""},{"$f":"IF(ItineraryPrograms!T20=\"y\",getScoreFactor(\"Program\",AP$2),\"\")","v":""},{"$f":"IF(ItineraryPrograms!U20=\"y\",getScoreFactor(\"Program\",AQ$2),\"\")","v":""},{"$f":"IF(ItineraryPrograms!V20=\"y\",getScoreFactor(\"Program\",AR$2),\"\")","v":""},{"$f":"IF(ItineraryPrograms!W20=\"y\",getScoreFactor(\"Program\",AS$2),\"\")","v":""},{"$f":"IF(ItineraryPrograms!X20=\"y\",getScoreFactor(\"Program\",AT$2),\"\")","v":""},{"$f":"IF(ItineraryPrograms!Y20=\"y\",getScoreFactor(\"Program\",AU$2),\"\")","v":""},{"$f":"IF(ItineraryPrograms!Z20=\"y\",getScoreFactor(\"Program\",AV$2),\"\")","v":""},{"$f":"IF(ItineraryPrograms!AA20=\"y\",getScoreFactor(\"Program\",AW$2),\"\")","v":""},{"$f":"IF(ItineraryPrograms!AB20=\"y\",getScoreFactor(\"Program\",AX$2),\"\")","v":""},{"$f":"IF(ItineraryPrograms!AC20=\"y\",getScoreFactor(\"Program\",AY$2),\"\")","v":""},{"$f":"IF(ItineraryPrograms!AD20=\"y\",getScoreFactor(\"Program\",AZ$2),\"\")","v":""},{"$f":"IF(ItineraryPrograms!AE20=\"y\",getScoreFactor(\"Program\",BA$2),\"\")","v":""},{"$f":"IF(ItineraryPrograms!AF20=\"y\",getScoreFactor(\"Program\",BB$2),\"\")","v":""},{"$f":"IF(ItineraryPrograms!AG20=\"y\",getScoreFactor(\"Program\",BC$2),\"\")","v":""},{"$f":"IF(ItineraryPrograms!AH20=\"y\",getScoreFactor(\"Program\",BD$2),\"\")","v":""},{"$f":"IF(ItineraryPrograms!AI20=\"y\",getScoreFactor(\"Program\",BE$2),\"\")","v":""},{"$f":"IF(ItineraryPrograms!AJ20=\"y\",getScoreFactor(\"Program\",BF$2),\"\")","v":""},{"$f":"IF(ItineraryPrograms!AK20=\"y\",getScoreFactor(\"Program\",BG$2),\"\")","v":""},{"$f":"IF(ItineraryPrograms!AL20=\"y\",getScoreFactor(\"Program\",BH$2),\"\")","v":""},{"$f":"IF(ItineraryPrograms!AM20=\"y\",getScoreFactor(\"Program\",BI$2),\"\")","v":""},{"$f":"IF(ItineraryPrograms!AN20=\"y\",getScoreFactor(\"Program\",BJ$2),\"\")","v":""},{"$f":"IF(ItineraryPrograms!AO20=\"y\",getScoreFactor(\"Program\",BK$2),\"\")","v":""}]
[{"$f":"Itineraries!A21","v":""},0,{"$f":"getScoreFactor(C$2,itineraryCamps!C22)","v":0},{"$f":"getScoreFactor(D$2,\"Miles\") *itineraryCamps!D22","v":0},{"$f":"IF($A21=\"\",\"\",getScoreFactor(E$2,Itineraries!B21))","v":""},{"$f":"IF(A21=\"\",\"\",getScoreFactor(F$2,Itineraries!C21))","v":""},{"$f":"IF(A21=\"\",\"\",getScoreFactor(G$2,Itineraries!E21))","v":""},{"$f":"IF(A21=\"\",\"\",getScoreFactor(H$2,Itineraries!H21))","v":""},{"$f":"IF(A21=\"\",\"\",getScoreFactor(I$2,Itineraries!G21))","v":""},{"$f":"IF(A21=\"\",\"\",getScoreFactor(J$2,Itineraries!J21))","v":""},{"$f":"IF(A21=\"\",\"\",getScoreFactor(K$2,Itineraries!K21))","v":""},{"$f":"IF(A21=\"\",\"\",getScoreFactor(L$2,Itineraries!L21))","v":""},{"$f":"IF(A21=\"\",\"\",IF(INDEX(startingTA,numericItinerary($A21))=$M$2,getScoreFactor(M$2,\"y\"),getScoreFactor(M$2,\"n\")))","v":""},{"$f":"IF(A21=\"\",\"\",IF(INDEX(startingTA,numericItinerary($A21))=$M$2,getScoreFactor(N$2,\"y\"),getScoreFactor(N$2,\"n\")))","v":""},{"$f":"IF(A21=\"\",\"\",IF(INDEX(baldyMountainHike,numericItinerary($A21))=\"\",\"\",getPeakScore(O$2)))","v":""},{"$f":"IF(A21=\"\",\"\",IF(INDEX(mountPhillipsHike,numericItinerary($A21))=\"\",\"\",getPeakScore(P$2)))","v":""},{"$f":"IF(A21=\"\",\"\",IF(INDEX(toothOfTimeHike,numericItinerary($A21))=\"\",\"\",getPeakScore(Q$2)))","v":""},{"$f":"IF(A21=\"\",\"\",IF(INDEX(trailPeakHike,numericItinerary($A21))=\"\",\"\",getPeakScore(R$2)))","v":""},{"$f":"IF(A21=\"\",\"\",IF(INDEX(mountaineeringHike,numericItinerary($A21))=\"\",\"\",getPeakScore(S$2)))","v":""},{"$f":"IF(areaImportant<>\"y\",\"\",IF(Itineraries!P21<>\"Y\",\"\",getareascore(T$2)))","v":""},{"$f":"IF(areaImportant<>\"y\",\"\",IF(Itineraries!Q21<>\"Y\",\"\",getareascore(U$2)))","v":""},{"$f":"IF(areaImportant<>\"y\",\"\",IF(Itineraries!R21<>\"Y\",\"\",getareascore(V$2)))","v":""},{"$f":"IF(areaImportant<>\"y\",\"\",IF(Itineraries!S21<>\"Y\",\"\",getareascore(W$2)))","v":""},{"$f":"IF(ItineraryPrograms!B21=\"y\",getScoreFactor(\"Program\",X$2),\"\")","v":""},{"$f":"IF(ItineraryPrograms!C21=\"y\",getScoreFactor(\"Program\",Y$2),\"\")","v":""},{"$f":"IF(ItineraryPrograms!D21=\"y\",getScoreFactor(\"Program\",Z$2),\"\")","v":""},{"$f":"IF(ItineraryPrograms!E21=\"y\",getScoreFactor(\"Program\",AA$2),\"\")","v":""},{"$f":"IF(ItineraryPrograms!F21=\"y\",getScoreFactor(\"Program\",AB$2),\"\")","v":""},{"$f":"IF(ItineraryPrograms!G21=\"y\",getScoreFactor(\"Program\",AC$2),\"\")","v":""},{"$f":"IF(ItineraryPrograms!H21=\"y\",getScoreFactor(\"Program\",AD$2),\"\")","v":""},{"$f":"IF(ItineraryPrograms!I21=\"y\",getScoreFactor(\"Program\",AE$2),\"\")","v":""},{"$f":"IF(ItineraryPrograms!J21=\"y\",getScoreFactor(\"Program\",AF$2),\"\")","v":""},{"$f":"IF(ItineraryPrograms!K21=\"y\",getScoreFactor(\"Program\",AG$2),\"\")","v":""},{"$f":"IF(ItineraryPrograms!L21=\"y\",getScoreFactor(\"Program\",AH$2),\"\")","v":""},{"$f":"IF(ItineraryPrograms!M21=\"y\",getScoreFactor(\"Program\",AI$2),\"\")","v":""},{"$f":"IF(ItineraryPrograms!N21=\"y\",getScoreFactor(\"Program\",AJ$2),\"\")","v":""},{"$f":"IF(ItineraryPrograms!O21=\"y\",getScoreFactor(\"Program\",AK$2),\"\")","v":""},{"$f":"IF(ItineraryPrograms!P21=\"y\",getScoreFactor(\"Program\",AL$2),\"\")","v":""},{"$f":"IF(ItineraryPrograms!Q21=\"y\",getScoreFactor(\"Program\",AM$2),\"\")","v":""},{"$f":"IF(ItineraryPrograms!R21=\"y\",getScoreFactor(\"Program\",AN$2),\"\")","v":""},{"$f":"IF(ItineraryPrograms!S21=\"y\",getScoreFactor(\"Program\",AO$2),\"\")","v":""},{"$f":"IF(ItineraryPrograms!T21=\"y\",getScoreFactor(\"Program\",AP$2),\"\")","v":""},{"$f":"IF(ItineraryPrograms!U21=\"y\",getScoreFactor(\"Program\",AQ$2),\"\")","v":""},{"$f":"IF(ItineraryPrograms!V21=\"y\",getScoreFactor(\"Program\",AR$2),\"\")","v":""},{"$f":"IF(ItineraryPrograms!W21=\"y\",getScoreFactor(\"Program\",AS$2),\"\")","v":""},{"$f":"IF(ItineraryPrograms!X21=\"y\",getScoreFactor(\"Program\",AT$2),\"\")","v":""},{"$f":"IF(ItineraryPrograms!Y21=\"y\",getScoreFactor(\"Program\",AU$2),\"\")","v":""},{"$f":"IF(ItineraryPrograms!Z21=\"y\",getScoreFactor(\"Program\",AV$2),\"\")","v":""},{"$f":"IF(ItineraryPrograms!AA21=\"y\",getScoreFactor(\"Program\",AW$2),\"\")","v":""},{"$f":"IF(ItineraryPrograms!AB21=\"y\",getScoreFactor(\"Program\",AX$2),\"\")","v":""},{"$f":"IF(ItineraryPrograms!AC21=\"y\",getScoreFactor(\"Program\",AY$2),\"\")","v":""},{"$f":"IF(ItineraryPrograms!AD21=\"y\",getScoreFactor(\"Program\",AZ$2),\"\")","v":""},{"$f":"IF(ItineraryPrograms!AE21=\"y\",getScoreFactor(\"Program\",BA$2),\"\")","v":""},{"$f":"IF(ItineraryPrograms!AF21=\"y\",getScoreFactor(\"Program\",BB$2),\"\")","v":""},{"$f":"IF(ItineraryPrograms!AG21=\"y\",getScoreFactor(\"Program\",BC$2),\"\")","v":""},{"$f":"IF(ItineraryPrograms!AH21=\"y\",getScoreFactor(\"Program\",BD$2),\"\")","v":""},{"$f":"IF(ItineraryPrograms!AI21=\"y\",getScoreFactor(\"Program\",BE$2),\"\")","v":""},{"$f":"IF(ItineraryPrograms!AJ21=\"y\",getScoreFactor(\"Program\",BF$2),\"\")","v":""},{"$f":"IF(ItineraryPrograms!AK21=\"y\",getScoreFactor(\"Program\",BG$2),\"\")","v":""},{"$f":"IF(ItineraryPrograms!AL21=\"y\",getScoreFactor(\"Program\",BH$2),\"\")","v":""},{"$f":"IF(ItineraryPrograms!AM21=\"y\",getScoreFactor(\"Program\",BI$2),\"\")","v":""},{"$f":"IF(ItineraryPrograms!AN21=\"y\",getScoreFactor(\"Program\",BJ$2),\"\")","v":""},{"$f":"IF(ItineraryPrograms!AO21=\"y\",getScoreFactor(\"Program\",BK$2),\"\")","v":""}]
[{"$f":"Itineraries!A22","v":""},0,{"$f":"getScoreFactor(C$2,itineraryCamps!C23)","v":0},{"$f":"getScoreFactor(D$2,\"Miles\") *itineraryCamps!D23","v":0},{"$f":"IF($A22=\"\",\"\",getScoreFactor(E$2,Itineraries!B22))","v":""},{"$f":"IF(A22=\"\",\"\",getScoreFactor(F$2,Itineraries!C22))","v":""},{"$f":"IF(A22=\"\",\"\",getScoreFactor(G$2,Itineraries!E22))","v":""},{"$f":"IF(A22=\"\",\"\",getScoreFactor(H$2,Itineraries!H22))","v":""},{"$f":"IF(A22=\"\",\"\",getScoreFactor(I$2,Itineraries!G22))","v":""},{"$f":"IF(A22=\"\",\"\",getScoreFactor(J$2,Itineraries!J22))","v":""},{"$f":"IF(A22=\"\",\"\",getScoreFactor(K$2,Itineraries!K22))","v":""},{"$f":"IF(A22=\"\",\"\",getScoreFactor(L$2,Itineraries!L22))","v":""},{"$f":"IF(A22=\"\",\"\",IF(INDEX(startingTA,numericItinerary($A22))=$M$2,getScoreFactor(M$2,\"y\"),getScoreFactor(M$2,\"n\")))","v":""},{"$f":"IF(A22=\"\",\"\",IF(INDEX(startingTA,numericItinerary($A22))=$M$2,getScoreFactor(N$2,\"y\"),getScoreFactor(N$2,\"n\")))","v":""},{"$f":"IF(A22=\"\",\"\",IF(INDEX(baldyMountainHike,numericItinerary($A22))=\"\",\"\",getPeakScore(O$2)))","v":""},{"$f":"IF(A22=\"\",\"\",IF(INDEX(mountPhillipsHike,numericItinerary($A22))=\"\",\"\",getPeakScore(P$2)))","v":""},{"$f":"IF(A22=\"\",\"\",IF(INDEX(toothOfTimeHike,numericItinerary($A22))=\"\",\"\",getPeakScore(Q$2)))","v":""},{"$f":"IF(A22=\"\",\"\",IF(INDEX(trailPeakHike,numericItinerary($A22))=\"\",\"\",getPeakScore(R$2)))","v":""},{"$f":"IF(A22=\"\",\"\",IF(INDEX(mountaineeringHike,numericItinerary($A22))=\"\",\"\",getPeakScore(S$2)))","v":""},{"$f":"IF(areaImportant<>\"y\",\"\",IF(Itineraries!P22<>\"Y\",\"\",getareascore(T$2)))","v":""},{"$f":"IF(areaImportant<>\"y\",\"\",IF(Itineraries!Q22<>\"Y\",\"\",getareascore(U$2)))","v":""},{"$f":"IF(areaImportant<>\"y\",\"\",IF(Itineraries!R22<>\"Y\",\"\",getareascore(V$2)))","v":""},{"$f":"IF(areaImportant<>\"y\",\"\",IF(Itineraries!S22<>\"Y\",\"\",getareascore(W$2)))","v":""},{"$f":"IF(ItineraryPrograms!B22=\"y\",getScoreFactor(\"Program\",X$2),\"\")","v":""},{"$f":"IF(ItineraryPrograms!C22=\"y\",getScoreFactor(\"Program\",Y$2),\"\")","v":""},{"$f":"IF(ItineraryPrograms!D22=\"y\",getScoreFactor(\"Program\",Z$2),\"\")","v":""},{"$f":"IF(ItineraryPrograms!E22=\"y\",getScoreFactor(\"Program\",AA$2),\"\")","v":""},{"$f":"IF(ItineraryPrograms!F22=\"y\",getScoreFactor(\"Program\",AB$2),\"\")","v":""},{"$f":"IF(ItineraryPrograms!G22=\"y\",getScoreFactor(\"Program\",AC$2),\"\")","v":""},{"$f":"IF(ItineraryPrograms!H22=\"y\",getScoreFactor(\"Program\",AD$2),\"\")","v":""},{"$f":"IF(ItineraryPrograms!I22=\"y\",getScoreFactor(\"Program\",AE$2),\"\")","v":""},{"$f":"IF(ItineraryPrograms!J22=\"y\",getScoreFactor(\"Program\",AF$2),\"\")","v":""},{"$f":"IF(ItineraryPrograms!K22=\"y\",getScoreFactor(\"Program\",AG$2),\"\")","v":""},{"$f":"IF(ItineraryPrograms!L22=\"y\",getScoreFactor(\"Program\",AH$2),\"\")","v":""},{"$f":"IF(ItineraryPrograms!M22=\"y\",getScoreFactor(\"Program\",AI$2),\"\")","v":""},{"$f":"IF(ItineraryPrograms!N22=\"y\",getScoreFactor(\"Program\",AJ$2),\"\")","v":""},{"$f":"IF(ItineraryPrograms!O22=\"y\",getScoreFactor(\"Program\",AK$2),\"\")","v":""},{"$f":"IF(ItineraryPrograms!P22=\"y\",getScoreFactor(\"Program\",AL$2),\"\")","v":""},{"$f":"IF(ItineraryPrograms!Q22=\"y\",getScoreFactor(\"Program\",AM$2),\"\")","v":""},{"$f":"IF(ItineraryPrograms!R22=\"y\",getScoreFactor(\"Program\",AN$2),\"\")","v":""},{"$f":"IF(ItineraryPrograms!S22=\"y\",getScoreFactor(\"Program\",AO$2),\"\")","v":""},{"$f":"IF(ItineraryPrograms!T22=\"y\",getScoreFactor(\"Program\",AP$2),\"\")","v":""},{"$f":"IF(ItineraryPrograms!U22=\"y\",getScoreFactor(\"Program\",AQ$2),\"\")","v":""},{"$f":"IF(ItineraryPrograms!V22=\"y\",getScoreFactor(\"Program\",AR$2),\"\")","v":""},{"$f":"IF(ItineraryPrograms!W22=\"y\",getScoreFactor(\"Program\",AS$2),\"\")","v":""},{"$f":"IF(ItineraryPrograms!X22=\"y\",getScoreFactor(\"Program\",AT$2),\"\")","v":""},{"$f":"IF(ItineraryPrograms!Y22=\"y\",getScoreFactor(\"Program\",AU$2),\"\")","v":""},{"$f":"IF(ItineraryPrograms!Z22=\"y\",getScoreFactor(\"Program\",AV$2),\"\")","v":""},{"$f":"IF(ItineraryPrograms!AA22=\"y\",getScoreFactor(\"Program\",AW$2),\"\")","v":""},{"$f":"IF(ItineraryPrograms!AB22=\"y\",getScoreFactor(\"Program\",AX$2),\"\")","v":""},{"$f":"IF(ItineraryPrograms!AC22=\"y\",getScoreFactor(\"Program\",AY$2),\"\")","v":""},{"$f":"IF(ItineraryPrograms!AD22=\"y\",getScoreFactor(\"Program\",AZ$2),\"\")","v":""},{"$f":"IF(ItineraryPrograms!AE22=\"y\",getScoreFactor(\"Program\",BA$2),\"\")","v":""},{"$f":"IF(ItineraryPrograms!AF22=\"y\",getScoreFactor(\"Program\",BB$2),\"\")","v":""},{"$f":"IF(ItineraryPrograms!AG22=\"y\",getScoreFactor(\"Program\",BC$2),\"\")","v":""},{"$f":"IF(ItineraryPrograms!AH22=\"y\",getScoreFactor(\"Program\",BD$2),\"\")","v":""},{"$f":"IF(ItineraryPrograms!AI22=\"y\",getScoreFactor(\"Program\",BE$2),\"\")","v":""},{"$f":"IF(ItineraryPrograms!AJ22=\"y\",getScoreFactor(\"Program\",BF$2),\"\")","v":""},{"$f":"IF(ItineraryPrograms!AK22=\"y\",getScoreFactor(\"Program\",BG$2),\"\")","v":""},{"$f":"IF(ItineraryPrograms!AL22=\"y\",getScoreFactor(\"Program\",BH$2),\"\")","v":""},{"$f":"IF(ItineraryPrograms!AM22=\"y\",getScoreFactor(\"Program\",BI$2),\"\")","v":""},{"$f":"IF(ItineraryPrograms!AN22=\"y\",getScoreFactor(\"Program\",BJ$2),\"\")","v":""},{"$f":"IF(ItineraryPrograms!AO22=\"y\",getScoreFactor(\"Program\",BK$2),\"\")","v":""}]
[{"$f":"Itineraries!A23","v":""},0,{"$f":"getScoreFactor(C$2,itineraryCamps!C24)","v":0},{"$f":"getScoreFactor(D$2,\"Miles\") *itineraryCamps!D24","v":0},{"$f":"IF($A23=\"\",\"\",getScoreFactor(E$2,Itineraries!B23))","v":""},{"$f":"IF(A23=\"\",\"\",getScoreFactor(F$2,Itineraries!C23))","v":""},{"$f":"IF(A23=\"\",\"\",getScoreFactor(G$2,Itineraries!E23))","v":""},{"$f":"IF(A23=\"\",\"\",getScoreFactor(H$2,Itineraries!H23))","v":""},{"$f":"IF(A23=\"\",\"\",getScoreFactor(I$2,Itineraries!G23))","v":""},{"$f":"IF(A23=\"\",\"\",getScoreFactor(J$2,Itineraries!J23))","v":""},{"$f":"IF(A23=\"\",\"\",getScoreFactor(K$2,Itineraries!K23))","v":""},{"$f":"IF(A23=\"\",\"\",getScoreFactor(L$2,Itineraries!L23))","v":""},{"$f":"IF(A23=\"\",\"\",IF(INDEX(startingTA,numericItinerary($A23))=$M$2,getScoreFactor(M$2,\"y\"),getScoreFactor(M$2,\"n\")))","v":""},{"$f":"IF(A23=\"\",\"\",IF(INDEX(startingTA,numericItinerary($A23))=$M$2,getScoreFactor(N$2,\"y\"),getScoreFactor(N$2,\"n\")))","v":""},{"$f":"IF(A23=\"\",\"\",IF(INDEX(baldyMountainHike,numericItinerary($A23))=\"\",\"\",getPeakScore(O$2)))","v":""},{"$f":"IF(A23=\"\",\"\",IF(INDEX(mountPhillipsHike,numericItinerary($A23))=\"\",\"\",getPeakScore(P$2)))","v":""},{"$f":"IF(A23=\"\",\"\",IF(INDEX(toothOfTimeHike,numericItinerary($A23))=\"\",\"\",getPeakScore(Q$2)))","v":""},{"$f":"IF(A23=\"\",\"\",IF(INDEX(trailPeakHike,numericItinerary($A23))=\"\",\"\",getPeakScore(R$2)))","v":""},{"$f":"IF(A23=\"\",\"\",IF(INDEX(mountaineeringHike,numericItinerary($A23))=\"\",\"\",getPeakScore(S$2)))","v":""},{"$f":"IF(areaImportant<>\"y\",\"\",IF(Itineraries!P23<>\"Y\",\"\",getareascore(T$2)))","v":""},{"$f":"IF(areaImportant<>\"y\",\"\",IF(Itineraries!Q23<>\"Y\",\"\",getareascore(U$2)))","v":""},{"$f":"IF(areaImportant<>\"y\",\"\",IF(Itineraries!R23<>\"Y\",\"\",getareascore(V$2)))","v":""},{"$f":"IF(areaImportant<>\"y\",\"\",IF(Itineraries!S23<>\"Y\",\"\",getareascore(W$2)))","v":""},{"$f":"IF(ItineraryPrograms!B23=\"y\",getScoreFactor(\"Program\",X$2),\"\")","v":""},{"$f":"IF(ItineraryPrograms!C23=\"y\",getScoreFactor(\"Program\",Y$2),\"\")","v":""},{"$f":"IF(ItineraryPrograms!D23=\"y\",getScoreFactor(\"Program\",Z$2),\"\")","v":""},{"$f":"IF(ItineraryPrograms!E23=\"y\",getScoreFactor(\"Program\",AA$2),\"\")","v":""},{"$f":"IF(ItineraryPrograms!F23=\"y\",getScoreFactor(\"Program\",AB$2),\"\")","v":""},{"$f":"IF(ItineraryPrograms!G23=\"y\",getScoreFactor(\"Program\",AC$2),\"\")","v":""},{"$f":"IF(ItineraryPrograms!H23=\"y\",getScoreFactor(\"Program\",AD$2),\"\")","v":""},{"$f":"IF(ItineraryPrograms!I23=\"y\",getScoreFactor(\"Program\",AE$2),\"\")","v":""},{"$f":"IF(ItineraryPrograms!J23=\"y\",getScoreFactor(\"Program\",AF$2),\"\")","v":""},{"$f":"IF(ItineraryPrograms!K23=\"y\",getScoreFactor(\"Program\",AG$2),\"\")","v":""},{"$f":"IF(ItineraryPrograms!L23=\"y\",getScoreFactor(\"Program\",AH$2),\"\")","v":""},{"$f":"IF(ItineraryPrograms!M23=\"y\",getScoreFactor(\"Program\",AI$2),\"\")","v":""},{"$f":"IF(ItineraryPrograms!N23=\"y\",getScoreFactor(\"Program\",AJ$2),\"\")","v":""},{"$f":"IF(ItineraryPrograms!O23=\"y\",getScoreFactor(\"Program\",AK$2),\"\")","v":""},{"$f":"IF(ItineraryPrograms!P23=\"y\",getScoreFactor(\"Program\",AL$2),\"\")","v":""},{"$f":"IF(ItineraryPrograms!Q23=\"y\",getScoreFactor(\"Program\",AM$2),\"\")","v":""},{"$f":"IF(ItineraryPrograms!R23=\"y\",getScoreFactor(\"Program\",AN$2),\"\")","v":""},{"$f":"IF(ItineraryPrograms!S23=\"y\",getScoreFactor(\"Program\",AO$2),\"\")","v":""},{"$f":"IF(ItineraryPrograms!T23=\"y\",getScoreFactor(\"Program\",AP$2),\"\")","v":""},{"$f":"IF(ItineraryPrograms!U23=\"y\",getScoreFactor(\"Program\",AQ$2),\"\")","v":""},{"$f":"IF(ItineraryPrograms!V23=\"y\",getScoreFactor(\"Program\",AR$2),\"\")","v":""},{"$f":"IF(ItineraryPrograms!W23=\"y\",getScoreFactor(\"Program\",AS$2),\"\")","v":""},{"$f":"IF(ItineraryPrograms!X23=\"y\",getScoreFactor(\"Program\",AT$2),\"\")","v":""},{"$f":"IF(ItineraryPrograms!Y23=\"y\",getScoreFactor(\"Program\",AU$2),\"\")","v":""},{"$f":"IF(ItineraryPrograms!Z23=\"y\",getScoreFactor(\"Program\",AV$2),\"\")","v":""},{"$f":"IF(ItineraryPrograms!AA23=\"y\",getScoreFactor(\"Program\",AW$2),\"\")","v":""},{"$f":"IF(ItineraryPrograms!AB23=\"y\",getScoreFactor(\"Program\",AX$2),\"\")","v":""},{"$f":"IF(ItineraryPrograms!AC23=\"y\",getScoreFactor(\"Program\",AY$2),\"\")","v":""},{"$f":"IF(ItineraryPrograms!AD23=\"y\",getScoreFactor(\"Program\",AZ$2),\"\")","v":""},{"$f":"IF(ItineraryPrograms!AE23=\"y\",getScoreFactor(\"Program\",BA$2),\"\")","v":""},{"$f":"IF(ItineraryPrograms!AF23=\"y\",getScoreFactor(\"Program\",BB$2),\"\")","v":""},{"$f":"IF(ItineraryPrograms!AG23=\"y\",getScoreFactor(\"Program\",BC$2),\"\")","v":""},{"$f":"IF(ItineraryPrograms!AH23=\"y\",getScoreFactor(\"Program\",BD$2),\"\")","v":""},{"$f":"IF(ItineraryPrograms!AI23=\"y\",getScoreFactor(\"Program\",BE$2),\"\")","v":""},{"$f":"IF(ItineraryPrograms!AJ23=\"y\",getScoreFactor(\"Program\",BF$2),\"\")","v":""},{"$f":"IF(ItineraryPrograms!AK23=\"y\",getScoreFactor(\"Program\",BG$2),\"\")","v":""},{"$f":"IF(ItineraryPrograms!AL23=\"y\",getScoreFactor(\"Program\",BH$2),\"\")","v":""},{"$f":"IF(ItineraryPrograms!AM23=\"y\",getScoreFactor(\"Program\",BI$2),\"\")","v":""},{"$f":"IF(ItineraryPrograms!AN23=\"y\",getScoreFactor(\"Program\",BJ$2),\"\")","v":""},{"$f":"IF(ItineraryPrograms!AO23=\"y\",getScoreFactor(\"Program\",BK$2),\"\")","v":""}]
[{"$f":"Itineraries!A24","v":""},0,{"$f":"getScoreFactor(C$2,itineraryCamps!C25)","v":0},{"$f":"getScoreFactor(D$2,\"Miles\") *itineraryCamps!D25","v":0},{"$f":"IF($A24=\"\",\"\",getScoreFactor(E$2,Itineraries!B24))","v":""},{"$f":"IF(A24=\"\",\"\",getScoreFactor(F$2,Itineraries!C24))","v":""},{"$f":"IF(A24=\"\",\"\",getScoreFactor(G$2,Itineraries!E24))","v":""},{"$f":"IF(A24=\"\",\"\",getScoreFactor(H$2,Itineraries!H24))","v":""},{"$f":"IF(A24=\"\",\"\",getScoreFactor(I$2,Itineraries!G24))","v":""},{"$f":"IF(A24=\"\",\"\",getScoreFactor(J$2,Itineraries!J24))","v":""},{"$f":"IF(A24=\"\",\"\",getScoreFactor(K$2,Itineraries!K24))","v":""},{"$f":"IF(A24=\"\",\"\",getScoreFactor(L$2,Itineraries!L24))","v":""},{"$f":"IF(A24=\"\",\"\",IF(INDEX(startingTA,numericItinerary($A24))=$M$2,getScoreFactor(M$2,\"y\"),getScoreFactor(M$2,\"n\")))","v":""},{"$f":"IF(A24=\"\",\"\",IF(INDEX(startingTA,numericItinerary($A24))=$M$2,getScoreFactor(N$2,\"y\"),getScoreFactor(N$2,\"n\")))","v":""},{"$f":"IF(A24=\"\",\"\",IF(INDEX(baldyMountainHike,numericItinerary($A24))=\"\",\"\",getPeakScore(O$2)))","v":""},{"$f":"IF(A24=\"\",\"\",IF(INDEX(mountPhillipsHike,numericItinerary($A24))=\"\",\"\",getPeakScore(P$2)))","v":""},{"$f":"IF(A24=\"\",\"\",IF(INDEX(toothOfTimeHike,numericItinerary($A24))=\"\",\"\",getPeakScore(Q$2)))","v":""},{"$f":"IF(A24=\"\",\"\",IF(INDEX(trailPeakHike,numericItinerary($A24))=\"\",\"\",getPeakScore(R$2)))","v":""},{"$f":"IF(A24=\"\",\"\",IF(INDEX(mountaineeringHike,numericItinerary($A24))=\"\",\"\",getPeakScore(S$2)))","v":""},{"$f":"IF(areaImportant<>\"y\",\"\",IF(Itineraries!P24<>\"Y\",\"\",getareascore(T$2)))","v":""},{"$f":"IF(areaImportant<>\"y\",\"\",IF(Itineraries!Q24<>\"Y\",\"\",getareascore(U$2)))","v":""},{"$f":"IF(areaImportant<>\"y\",\"\",IF(Itineraries!R24<>\"Y\",\"\",getareascore(V$2)))","v":""},{"$f":"IF(areaImportant<>\"y\",\"\",IF(Itineraries!S24<>\"Y\",\"\",getareascore(W$2)))","v":""},{"$f":"IF(ItineraryPrograms!B24=\"y\",getScoreFactor(\"Program\",X$2),\"\")","v":""},{"$f":"IF(ItineraryPrograms!C24=\"y\",getScoreFactor(\"Program\",Y$2),\"\")","v":""},{"$f":"IF(ItineraryPrograms!D24=\"y\",getScoreFactor(\"Program\",Z$2),\"\")","v":""},{"$f":"IF(ItineraryPrograms!E24=\"y\",getScoreFactor(\"Program\",AA$2),\"\")","v":""},{"$f":"IF(ItineraryPrograms!F24=\"y\",getScoreFactor(\"Program\",AB$2),\"\")","v":""},{"$f":"IF(ItineraryPrograms!G24=\"y\",getScoreFactor(\"Program\",AC$2),\"\")","v":""},{"$f":"IF(ItineraryPrograms!H24=\"y\",getScoreFactor(\"Program\",AD$2),\"\")","v":""},{"$f":"IF(ItineraryPrograms!I24=\"y\",getScoreFactor(\"Program\",AE$2),\"\")","v":""},{"$f":"IF(ItineraryPrograms!J24=\"y\",getScoreFactor(\"Program\",AF$2),\"\")","v":""},{"$f":"IF(ItineraryPrograms!K24=\"y\",getScoreFactor(\"Program\",AG$2),\"\")","v":""},{"$f":"IF(ItineraryPrograms!L24=\"y\",getScoreFactor(\"Program\",AH$2),\"\")","v":""},{"$f":"IF(ItineraryPrograms!M24=\"y\",getScoreFactor(\"Program\",AI$2),\"\")","v":""},{"$f":"IF(ItineraryPrograms!N24=\"y\",getScoreFactor(\"Program\",AJ$2),\"\")","v":""},{"$f":"IF(ItineraryPrograms!O24=\"y\",getScoreFactor(\"Program\",AK$2),\"\")","v":""},{"$f":"IF(ItineraryPrograms!P24=\"y\",getScoreFactor(\"Program\",AL$2),\"\")","v":""},{"$f":"IF(ItineraryPrograms!Q24=\"y\",getScoreFactor(\"Program\",AM$2),\"\")","v":""},{"$f":"IF(ItineraryPrograms!R24=\"y\",getScoreFactor(\"Program\",AN$2),\"\")","v":""},{"$f":"IF(ItineraryPrograms!S24=\"y\",getScoreFactor(\"Program\",AO$2),\"\")","v":""},{"$f":"IF(ItineraryPrograms!T24=\"y\",getScoreFactor(\"Program\",AP$2),\"\")","v":""},{"$f":"IF(ItineraryPrograms!U24=\"y\",getScoreFactor(\"Program\",AQ$2),\"\")","v":""},{"$f":"IF(ItineraryPrograms!V24=\"y\",getScoreFactor(\"Program\",AR$2),\"\")","v":""},{"$f":"IF(ItineraryPrograms!W24=\"y\",getScoreFactor(\"Program\",AS$2),\"\")","v":""},{"$f":"IF(ItineraryPrograms!X24=\"y\",getScoreFactor(\"Program\",AT$2),\"\")","v":""},{"$f":"IF(ItineraryPrograms!Y24=\"y\",getScoreFactor(\"Program\",AU$2),\"\")","v":""},{"$f":"IF(ItineraryPrograms!Z24=\"y\",getScoreFactor(\"Program\",AV$2),\"\")","v":""},{"$f":"IF(ItineraryPrograms!AA24=\"y\",getScoreFactor(\"Program\",AW$2),\"\")","v":""},{"$f":"IF(ItineraryPrograms!AB24=\"y\",getScoreFactor(\"Program\",AX$2),\"\")","v":""},{"$f":"IF(ItineraryPrograms!AC24=\"y\",getScoreFactor(\"Program\",AY$2),\"\")","v":""},{"$f":"IF(ItineraryPrograms!AD24=\"y\",getScoreFactor(\"Program\",AZ$2),\"\")","v":""},{"$f":"IF(ItineraryPrograms!AE24=\"y\",getScoreFactor(\"Program\",BA$2),\"\")","v":""},{"$f":"IF(ItineraryPrograms!AF24=\"y\",getScoreFactor(\"Program\",BB$2),\"\")","v":""},{"$f":"IF(ItineraryPrograms!AG24=\"y\",getScoreFactor(\"Program\",BC$2),\"\")","v":""},{"$f":"IF(ItineraryPrograms!AH24=\"y\",getScoreFactor(\"Program\",BD$2),\"\")","v":""},{"$f":"IF(ItineraryPrograms!AI24=\"y\",getScoreFactor(\"Program\",BE$2),\"\")","v":""},{"$f":"IF(ItineraryPrograms!AJ24=\"y\",getScoreFactor(\"Program\",BF$2),\"\")","v":""},{"$f":"IF(ItineraryPrograms!AK24=\"y\",getScoreFactor(\"Program\",BG$2),\"\")","v":""},{"$f":"IF(ItineraryPrograms!AL24=\"y\",getScoreFactor(\"Program\",BH$2),\"\")","v":""},{"$f":"IF(ItineraryPrograms!AM24=\"y\",getScoreFactor(\"Program\",BI$2),\"\")","v":""},{"$f":"IF(ItineraryPrograms!AN24=\"y\",getScoreFactor(\"Program\",BJ$2),\"\")","v":""},{"$f":"IF(ItineraryPrograms!AO24=\"y\",getScoreFactor(\"Program\",BK$2),\"\")","v":""}]
[{"$f":"Itineraries!A25","v":""},0,{"$f":"getScoreFactor(C$2,itineraryCamps!C26)","v":0},{"$f":"getScoreFactor(D$2,\"Miles\") *itineraryCamps!D26","v":0},{"$f":"IF($A25=\"\",\"\",getScoreFactor(E$2,Itineraries!B25))","v":""},{"$f":"IF(A25=\"\",\"\",getScoreFactor(F$2,Itineraries!C25))","v":""},{"$f":"IF(A25=\"\",\"\",getScoreFactor(G$2,Itineraries!E25))","v":""},{"$f":"IF(A25=\"\",\"\",getScoreFactor(H$2,Itineraries!H25))","v":""},{"$f":"IF(A25=\"\",\"\",getScoreFactor(I$2,Itineraries!G25))","v":""},{"$f":"IF(A25=\"\",\"\",getScoreFactor(J$2,Itineraries!J25))","v":""},{"$f":"IF(A25=\"\",\"\",getScoreFactor(K$2,Itineraries!K25))","v":""},{"$f":"IF(A25=\"\",\"\",getScoreFactor(L$2,Itineraries!L25))","v":""},{"$f":"IF(A25=\"\",\"\",IF(INDEX(startingTA,numericItinerary($A25))=$M$2,getScoreFactor(M$2,\"y\"),getScoreFactor(M$2,\"n\")))","v":""},{"$f":"IF(A25=\"\",\"\",IF(INDEX(startingTA,numericItinerary($A25))=$M$2,getScoreFactor(N$2,\"y\"),getScoreFactor(N$2,\"n\")))","v":""},{"$f":"IF(A25=\"\",\"\",IF(INDEX(baldyMountainHike,numericItinerary($A25))=\"\",\"\",getPeakScore(O$2)))","v":""},{"$f":"IF(A25=\"\",\"\",IF(INDEX(mountPhillipsHike,numericItinerary($A25))=\"\",\"\",getPeakScore(P$2)))","v":""},{"$f":"IF(A25=\"\",\"\",IF(INDEX(toothOfTimeHike,numericItinerary($A25))=\"\",\"\",getPeakScore(Q$2)))","v":""},{"$f":"IF(A25=\"\",\"\",IF(INDEX(trailPeakHike,numericItinerary($A25))=\"\",\"\",getPeakScore(R$2)))","v":""},{"$f":"IF(A25=\"\",\"\",IF(INDEX(mountaineeringHike,numericItinerary($A25))=\"\",\"\",getPeakScore(S$2)))","v":""},{"$f":"IF(areaImportant<>\"y\",\"\",IF(Itineraries!P25<>\"Y\",\"\",getareascore(T$2)))","v":""},{"$f":"IF(areaImportant<>\"y\",\"\",IF(Itineraries!Q25<>\"Y\",\"\",getareascore(U$2)))","v":""},{"$f":"IF(areaImportant<>\"y\",\"\",IF(Itineraries!R25<>\"Y\",\"\",getareascore(V$2)))","v":""},{"$f":"IF(areaImportant<>\"y\",\"\",IF(Itineraries!S25<>\"Y\",\"\",getareascore(W$2)))","v":""},{"$f":"IF(ItineraryPrograms!B25=\"y\",getScoreFactor(\"Program\",X$2),\"\")","v":""},{"$f":"IF(ItineraryPrograms!C25=\"y\",getScoreFactor(\"Program\",Y$2),\"\")","v":""},{"$f":"IF(ItineraryPrograms!D25=\"y\",getScoreFactor(\"Program\",Z$2),\"\")","v":""},{"$f":"IF(ItineraryPrograms!E25=\"y\",getScoreFactor(\"Program\",AA$2),\"\")","v":""},{"$f":"IF(ItineraryPrograms!F25=\"y\",getScoreFactor(\"Program\",AB$2),\"\")","v":""},{"$f":"IF(ItineraryPrograms!G25=\"y\",getScoreFactor(\"Program\",AC$2),\"\")","v":""},{"$f":"IF(ItineraryPrograms!H25=\"y\",getScoreFactor(\"Program\",AD$2),\"\")","v":""},{"$f":"IF(ItineraryPrograms!I25=\"y\",getScoreFactor(\"Program\",AE$2),\"\")","v":""},{"$f":"IF(ItineraryPrograms!J25=\"y\",getScoreFactor(\"Program\",AF$2),\"\")","v":""},{"$f":"IF(ItineraryPrograms!K25=\"y\",getScoreFactor(\"Program\",AG$2),\"\")","v":""},{"$f":"IF(ItineraryPrograms!L25=\"y\",getScoreFactor(\"Program\",AH$2),\"\")","v":""},{"$f":"IF(ItineraryPrograms!M25=\"y\",getScoreFactor(\"Program\",AI$2),\"\")","v":""},{"$f":"IF(ItineraryPrograms!N25=\"y\",getScoreFactor(\"Program\",AJ$2),\"\")","v":""},{"$f":"IF(ItineraryPrograms!O25=\"y\",getScoreFactor(\"Program\",AK$2),\"\")","v":""},{"$f":"IF(ItineraryPrograms!P25=\"y\",getScoreFactor(\"Program\",AL$2),\"\")","v":""},{"$f":"IF(ItineraryPrograms!Q25=\"y\",getScoreFactor(\"Program\",AM$2),\"\")","v":""},{"$f":"IF(ItineraryPrograms!R25=\"y\",getScoreFactor(\"Program\",AN$2),\"\")","v":""},{"$f":"IF(ItineraryPrograms!S25=\"y\",getScoreFactor(\"Program\",AO$2),\"\")","v":""},{"$f":"IF(ItineraryPrograms!T25=\"y\",getScoreFactor(\"Program\",AP$2),\"\")","v":""},{"$f":"IF(ItineraryPrograms!U25=\"y\",getScoreFactor(\"Program\",AQ$2),\"\")","v":""},{"$f":"IF(ItineraryPrograms!V25=\"y\",getScoreFactor(\"Program\",AR$2),\"\")","v":""},{"$f":"IF(ItineraryPrograms!W25=\"y\",getScoreFactor(\"Program\",AS$2),\"\")","v":""},{"$f":"IF(ItineraryPrograms!X25=\"y\",getScoreFactor(\"Program\",AT$2),\"\")","v":""},{"$f":"IF(ItineraryPrograms!Y25=\"y\",getScoreFactor(\"Program\",AU$2),\"\")","v":""},{"$f":"IF(ItineraryPrograms!Z25=\"y\",getScoreFactor(\"Program\",AV$2),\"\")","v":""},{"$f":"IF(ItineraryPrograms!AA25=\"y\",getScoreFactor(\"Program\",AW$2),\"\")","v":""},{"$f":"IF(ItineraryPrograms!AB25=\"y\",getScoreFactor(\"Program\",AX$2),\"\")","v":""},{"$f":"IF(ItineraryPrograms!AC25=\"y\",getScoreFactor(\"Program\",AY$2),\"\")","v":""},{"$f":"IF(ItineraryPrograms!AD25=\"y\",getScoreFactor(\"Program\",AZ$2),\"\")","v":""},{"$f":"IF(ItineraryPrograms!AE25=\"y\",getScoreFactor(\"Program\",BA$2),\"\")","v":""},{"$f":"IF(ItineraryPrograms!AF25=\"y\",getScoreFactor(\"Program\",BB$2),\"\")","v":""},{"$f":"IF(ItineraryPrograms!AG25=\"y\",getScoreFactor(\"Program\",BC$2),\"\")","v":""},{"$f":"IF(ItineraryPrograms!AH25=\"y\",getScoreFactor(\"Program\",BD$2),\"\")","v":""},{"$f":"IF(ItineraryPrograms!AI25=\"y\",getScoreFactor(\"Program\",BE$2),\"\")","v":""},{"$f":"IF(ItineraryPrograms!AJ25=\"y\",getScoreFactor(\"Program\",BF$2),\"\")","v":""},{"$f":"IF(ItineraryPrograms!AK25=\"y\",getScoreFactor(\"Program\",BG$2),\"\")","v":""},{"$f":"IF(ItineraryPrograms!AL25=\"y\",getScoreFactor(\"Program\",BH$2),\"\")","v":""},{"$f":"IF(ItineraryPrograms!AM25=\"y\",getScoreFactor(\"Program\",BI$2),\"\")","v":""},{"$f":"IF(ItineraryPrograms!AN25=\"y\",getScoreFactor(\"Program\",BJ$2),\"\")","v":""},{"$f":"IF(ItineraryPrograms!AO25=\"y\",getScoreFactor(\"Program\",BK$2),\"\")","v":""}]
[{"$f":"Itineraries!A26","v":""},0,{"$f":"getScoreFactor(C$2,itineraryCamps!C27)","v":0},{"$f":"getScoreFactor(D$2,\"Miles\") *itineraryCamps!D27","v":0},{"$f":"IF($A26=\"\",\"\",getScoreFactor(E$2,Itineraries!B26))","v":""},{"$f":"IF(A26=\"\",\"\",getScoreFactor(F$2,Itineraries!C26))","v":""},{"$f":"IF(A26=\"\",\"\",getScoreFactor(G$2,Itineraries!E26))","v":""},{"$f":"IF(A26=\"\",\"\",getScoreFactor(H$2,Itineraries!H26))","v":""},{"$f":"IF(A26=\"\",\"\",getScoreFactor(I$2,Itineraries!G26))","v":""},{"$f":"IF(A26=\"\",\"\",getScoreFactor(J$2,Itineraries!J26))","v":""},{"$f":"IF(A26=\"\",\"\",getScoreFactor(K$2,Itineraries!K26))","v":""},{"$f":"IF(A26=\"\",\"\",getScoreFactor(L$2,Itineraries!L26))","v":""},{"$f":"IF(A26=\"\",\"\",IF(INDEX(startingTA,numericItinerary($A26))=$M$2,getScoreFactor(M$2,\"y\"),getScoreFactor(M$2,\"n\")))","v":""},{"$f":"IF(A26=\"\",\"\",IF(INDEX(startingTA,numericItinerary($A26))=$M$2,getScoreFactor(N$2,\"y\"),getScoreFactor(N$2,\"n\")))","v":""},{"$f":"IF(A26=\"\",\"\",IF(INDEX(baldyMountainHike,numericItinerary($A26))=\"\",\"\",getPeakScore(O$2)))","v":""},{"$f":"IF(A26=\"\",\"\",IF(INDEX(mountPhillipsHike,numericItinerary($A26))=\"\",\"\",getPeakScore(P$2)))","v":""},{"$f":"IF(A26=\"\",\"\",IF(INDEX(toothOfTimeHike,numericItinerary($A26))=\"\",\"\",getPeakScore(Q$2)))","v":""},{"$f":"IF(A26=\"\",\"\",IF(INDEX(trailPeakHike,numericItinerary($A26))=\"\",\"\",getPeakScore(R$2)))","v":""},{"$f":"IF(A26=\"\",\"\",IF(INDEX(mountaineeringHike,numericItinerary($A26))=\"\",\"\",getPeakScore(S$2)))","v":""},{"$f":"IF(areaImportant<>\"y\",\"\",IF(Itineraries!P26<>\"Y\",\"\",getareascore(T$2)))","v":""},{"$f":"IF(areaImportant<>\"y\",\"\",IF(Itineraries!Q26<>\"Y\",\"\",getareascore(U$2)))","v":""},{"$f":"IF(areaImportant<>\"y\",\"\",IF(Itineraries!R26<>\"Y\",\"\",getareascore(V$2)))","v":""},{"$f":"IF(areaImportant<>\"y\",\"\",IF(Itineraries!S26<>\"Y\",\"\",getareascore(W$2)))","v":""},{"$f":"IF(ItineraryPrograms!B26=\"y\",getScoreFactor(\"Program\",X$2),\"\")","v":""},{"$f":"IF(ItineraryPrograms!C26=\"y\",getScoreFactor(\"Program\",Y$2),\"\")","v":""},{"$f":"IF(ItineraryPrograms!D26=\"y\",getScoreFactor(\"Program\",Z$2),\"\")","v":""},{"$f":"IF(ItineraryPrograms!E26=\"y\",getScoreFactor(\"Program\",AA$2),\"\")","v":""},{"$f":"IF(ItineraryPrograms!F26=\"y\",getScoreFactor(\"Program\",AB$2),\"\")","v":""},{"$f":"IF(ItineraryPrograms!G26=\"y\",getScoreFactor(\"Program\",AC$2),\"\")","v":""},{"$f":"IF(ItineraryPrograms!H26=\"y\",getScoreFactor(\"Program\",AD$2),\"\")","v":""},{"$f":"IF(ItineraryPrograms!I26=\"y\",getScoreFactor(\"Program\",AE$2),\"\")","v":""},{"$f":"IF(ItineraryPrograms!J26=\"y\",getScoreFactor(\"Program\",AF$2),\"\")","v":""},{"$f":"IF(ItineraryPrograms!K26=\"y\",getScoreFactor(\"Program\",AG$2),\"\")","v":""},{"$f":"IF(ItineraryPrograms!L26=\"y\",getScoreFactor(\"Program\",AH$2),\"\")","v":""},{"$f":"IF(ItineraryPrograms!M26=\"y\",getScoreFactor(\"Program\",AI$2),\"\")","v":""},{"$f":"IF(ItineraryPrograms!N26=\"y\",getScoreFactor(\"Program\",AJ$2),\"\")","v":""},{"$f":"IF(ItineraryPrograms!O26=\"y\",getScoreFactor(\"Program\",AK$2),\"\")","v":""},{"$f":"IF(ItineraryPrograms!P26=\"y\",getScoreFactor(\"Program\",AL$2),\"\")","v":""},{"$f":"IF(ItineraryPrograms!Q26=\"y\",getScoreFactor(\"Program\",AM$2),\"\")","v":""},{"$f":"IF(ItineraryPrograms!R26=\"y\",getScoreFactor(\"Program\",AN$2),\"\")","v":""},{"$f":"IF(ItineraryPrograms!S26=\"y\",getScoreFactor(\"Program\",AO$2),\"\")","v":""},{"$f":"IF(ItineraryPrograms!T26=\"y\",getScoreFactor(\"Program\",AP$2),\"\")","v":""},{"$f":"IF(ItineraryPrograms!U26=\"y\",getScoreFactor(\"Program\",AQ$2),\"\")","v":""},{"$f":"IF(ItineraryPrograms!V26=\"y\",getScoreFactor(\"Program\",AR$2),\"\")","v":""},{"$f":"IF(ItineraryPrograms!W26=\"y\",getScoreFactor(\"Program\",AS$2),\"\")","v":""},{"$f":"IF(ItineraryPrograms!X26=\"y\",getScoreFactor(\"Program\",AT$2),\"\")","v":""},{"$f":"IF(ItineraryPrograms!Y26=\"y\",getScoreFactor(\"Program\",AU$2),\"\")","v":""},{"$f":"IF(ItineraryPrograms!Z26=\"y\",getScoreFactor(\"Program\",AV$2),\"\")","v":""},{"$f":"IF(ItineraryPrograms!AA26=\"y\",getScoreFactor(\"Program\",AW$2),\"\")","v":""},{"$f":"IF(ItineraryPrograms!AB26=\"y\",getScoreFactor(\"Program\",AX$2),\"\")","v":""},{"$f":"IF(ItineraryPrograms!AC26=\"y\",getScoreFactor(\"Program\",AY$2),\"\")","v":""},{"$f":"IF(ItineraryPrograms!AD26=\"y\",getScoreFactor(\"Program\",AZ$2),\"\")","v":""},{"$f":"IF(ItineraryPrograms!AE26=\"y\",getScoreFactor(\"Program\",BA$2),\"\")","v":""},{"$f":"IF(ItineraryPrograms!AF26=\"y\",getScoreFactor(\"Program\",BB$2),\"\")","v":""},{"$f":"IF(ItineraryPrograms!AG26=\"y\",getScoreFactor(\"Program\",BC$2),\"\")","v":""},{"$f":"IF(ItineraryPrograms!AH26=\"y\",getScoreFactor(\"Program\",BD$2),\"\")","v":""},{"$f":"IF(ItineraryPrograms!AI26=\"y\",getScoreFactor(\"Program\",BE$2),\"\")","v":""},{"$f":"IF(ItineraryPrograms!AJ26=\"y\",getScoreFactor(\"Program\",BF$2),\"\")","v":""},{"$f":"IF(ItineraryPrograms!AK26=\"y\",getScoreFactor(\"Program\",BG$2),\"\")","v":""},{"$f":"IF(ItineraryPrograms!AL26=\"y\",getScoreFactor(\"Program\",BH$2),\"\")","v":""},{"$f":"IF(ItineraryPrograms!AM26=\"y\",getScoreFactor(\"Program\",BI$2),\"\")","v":""},{"$f":"IF(ItineraryPrograms!AN26=\"y\",getScoreFactor(\"Program\",BJ$2),\"\")","v":""},{"$f":"IF(ItineraryPrograms!AO26=\"y\",getScoreFactor(\"Program\",BK$2),\"\")","v":""}]
[{"$f":"Itineraries!A27","v":""},0,{"$f":"getScoreFactor(C$2,itineraryCamps!C28)","v":0},{"$f":"getScoreFactor(D$2,\"Miles\") *itineraryCamps!D28","v":0},{"$f":"IF($A27=\"\",\"\",getScoreFactor(E$2,Itineraries!B27))","v":""},{"$f":"IF(A27=\"\",\"\",getScoreFactor(F$2,Itineraries!C27))","v":""},{"$f":"IF(A27=\"\",\"\",getScoreFactor(G$2,Itineraries!E27))","v":""},{"$f":"IF(A27=\"\",\"\",getScoreFactor(H$2,Itineraries!H27))","v":""},{"$f":"IF(A27=\"\",\"\",getScoreFactor(I$2,Itineraries!G27))","v":""},{"$f":"IF(A27=\"\",\"\",getScoreFactor(J$2,Itineraries!J27))","v":""},{"$f":"IF(A27=\"\",\"\",getScoreFactor(K$2,Itineraries!K27))","v":""},{"$f":"IF(A27=\"\",\"\",getScoreFactor(L$2,Itineraries!L27))","v":""},{"$f":"IF(A27=\"\",\"\",IF(INDEX(startingTA,numericItinerary($A27))=$M$2,getScoreFactor(M$2,\"y\"),getScoreFactor(M$2,\"n\")))","v":""},{"$f":"IF(A27=\"\",\"\",IF(INDEX(startingTA,numericItinerary($A27))=$M$2,getScoreFactor(N$2,\"y\"),getScoreFactor(N$2,\"n\")))","v":""},{"$f":"IF(A27=\"\",\"\",IF(INDEX(baldyMountainHike,numericItinerary($A27))=\"\",\"\",getPeakScore(O$2)))","v":""},{"$f":"IF(A27=\"\",\"\",IF(INDEX(mountPhillipsHike,numericItinerary($A27))=\"\",\"\",getPeakScore(P$2)))","v":""},{"$f":"IF(A27=\"\",\"\",IF(INDEX(toothOfTimeHike,numericItinerary($A27))=\"\",\"\",getPeakScore(Q$2)))","v":""},{"$f":"IF(A27=\"\",\"\",IF(INDEX(trailPeakHike,numericItinerary($A27))=\"\",\"\",getPeakScore(R$2)))","v":""},{"$f":"IF(A27=\"\",\"\",IF(INDEX(mountaineeringHike,numericItinerary($A27))=\"\",\"\",getPeakScore(S$2)))","v":""},{"$f":"IF(areaImportant<>\"y\",\"\",IF(Itineraries!P27<>\"Y\",\"\",getareascore(T$2)))","v":""},{"$f":"IF(areaImportant<>\"y\",\"\",IF(Itineraries!Q27<>\"Y\",\"\",getareascore(U$2)))","v":""},{"$f":"IF(areaImportant<>\"y\",\"\",IF(Itineraries!R27<>\"Y\",\"\",getareascore(V$2)))","v":""},{"$f":"IF(areaImportant<>\"y\",\"\",IF(Itineraries!S27<>\"Y\",\"\",getareascore(W$2)))","v":""},{"$f":"IF(ItineraryPrograms!B27=\"y\",getScoreFactor(\"Program\",X$2),\"\")","v":""},{"$f":"IF(ItineraryPrograms!C27=\"y\",getScoreFactor(\"Program\",Y$2),\"\")","v":""},{"$f":"IF(ItineraryPrograms!D27=\"y\",getScoreFactor(\"Program\",Z$2),\"\")","v":""},{"$f":"IF(ItineraryPrograms!E27=\"y\",getScoreFactor(\"Program\",AA$2),\"\")","v":""},{"$f":"IF(ItineraryPrograms!F27=\"y\",getScoreFactor(\"Program\",AB$2),\"\")","v":""},{"$f":"IF(ItineraryPrograms!G27=\"y\",getScoreFactor(\"Program\",AC$2),\"\")","v":""},{"$f":"IF(ItineraryPrograms!H27=\"y\",getScoreFactor(\"Program\",AD$2),\"\")","v":""},{"$f":"IF(ItineraryPrograms!I27=\"y\",getScoreFactor(\"Program\",AE$2),\"\")","v":""},{"$f":"IF(ItineraryPrograms!J27=\"y\",getScoreFactor(\"Program\",AF$2),\"\")","v":""},{"$f":"IF(ItineraryPrograms!K27=\"y\",getScoreFactor(\"Program\",AG$2),\"\")","v":""},{"$f":"IF(ItineraryPrograms!L27=\"y\",getScoreFactor(\"Program\",AH$2),\"\")","v":""},{"$f":"IF(ItineraryPrograms!M27=\"y\",getScoreFactor(\"Program\",AI$2),\"\")","v":""},{"$f":"IF(ItineraryPrograms!N27=\"y\",getScoreFactor(\"Program\",AJ$2),\"\")","v":""},{"$f":"IF(ItineraryPrograms!O27=\"y\",getScoreFactor(\"Program\",AK$2),\"\")","v":""},{"$f":"IF(ItineraryPrograms!P27=\"y\",getScoreFactor(\"Program\",AL$2),\"\")","v":""},{"$f":"IF(ItineraryPrograms!Q27=\"y\",getScoreFactor(\"Program\",AM$2),\"\")","v":""},{"$f":"IF(ItineraryPrograms!R27=\"y\",getScoreFactor(\"Program\",AN$2),\"\")","v":""},{"$f":"IF(ItineraryPrograms!S27=\"y\",getScoreFactor(\"Program\",AO$2),\"\")","v":""},{"$f":"IF(ItineraryPrograms!T27=\"y\",getScoreFactor(\"Program\",AP$2),\"\")","v":""},{"$f":"IF(ItineraryPrograms!U27=\"y\",getScoreFactor(\"Program\",AQ$2),\"\")","v":""},{"$f":"IF(ItineraryPrograms!V27=\"y\",getScoreFactor(\"Program\",AR$2),\"\")","v":""},{"$f":"IF(ItineraryPrograms!W27=\"y\",getScoreFactor(\"Program\",AS$2),\"\")","v":""},{"$f":"IF(ItineraryPrograms!X27=\"y\",getScoreFactor(\"Program\",AT$2),\"\")","v":""},{"$f":"IF(ItineraryPrograms!Y27=\"y\",getScoreFactor(\"Program\",AU$2),\"\")","v":""},{"$f":"IF(ItineraryPrograms!Z27=\"y\",getScoreFactor(\"Program\",AV$2),\"\")","v":""},{"$f":"IF(ItineraryPrograms!AA27=\"y\",getScoreFactor(\"Program\",AW$2),\"\")","v":""},{"$f":"IF(ItineraryPrograms!AB27=\"y\",getScoreFactor(\"Program\",AX$2),\"\")","v":""},{"$f":"IF(ItineraryPrograms!AC27=\"y\",getScoreFactor(\"Program\",AY$2),\"\")","v":""},{"$f":"IF(ItineraryPrograms!AD27=\"y\",getScoreFactor(\"Program\",AZ$2),\"\")","v":""},{"$f":"IF(ItineraryPrograms!AE27=\"y\",getScoreFactor(\"Program\",BA$2),\"\")","v":""},{"$f":"IF(ItineraryPrograms!AF27=\"y\",getScoreFactor(\"Program\",BB$2),\"\")","v":""},{"$f":"IF(ItineraryPrograms!AG27=\"y\",getScoreFactor(\"Program\",BC$2),\"\")","v":""},{"$f":"IF(ItineraryPrograms!AH27=\"y\",getScoreFactor(\"Program\",BD$2),\"\")","v":""},{"$f":"IF(ItineraryPrograms!AI27=\"y\",getScoreFactor(\"Program\",BE$2),\"\")","v":""},{"$f":"IF(ItineraryPrograms!AJ27=\"y\",getScoreFactor(\"Program\",BF$2),\"\")","v":""},{"$f":"IF(ItineraryPrograms!AK27=\"y\",getScoreFactor(\"Program\",BG$2),\"\")","v":""},{"$f":"IF(ItineraryPrograms!AL27=\"y\",getScoreFactor(\"Program\",BH$2),\"\")","v":""},{"$f":"IF(ItineraryPrograms!AM27=\"y\",getScoreFactor(\"Program\",BI$2),\"\")","v":""},{"$f":"IF(ItineraryPrograms!AN27=\"y\",getScoreFactor(\"Program\",BJ$2),\"\")","v":""},{"$f":"IF(ItineraryPrograms!AO27=\"y\",getScoreFactor(\"Program\",BK$2),\"\")","v":""}]
[{"$f":"Itineraries!A28","v":""},0,{"$f":"getScoreFactor(C$2,itineraryCamps!C29)","v":0},{"$f":"getScoreFactor(D$2,\"Miles\") *itineraryCamps!D29","v":0},{"$f":"IF($A28=\"\",\"\",getScoreFactor(E$2,Itineraries!B28))","v":""},{"$f":"IF(A28=\"\",\"\",getScoreFactor(F$2,Itineraries!C28))","v":""},{"$f":"IF(A28=\"\",\"\",getScoreFactor(G$2,Itineraries!E28))","v":""},{"$f":"IF(A28=\"\",\"\",getScoreFactor(H$2,Itineraries!H28))","v":""},{"$f":"IF(A28=\"\",\"\",getScoreFactor(I$2,Itineraries!G28))","v":""},{"$f":"IF(A28=\"\",\"\",getScoreFactor(J$2,Itineraries!J28))","v":""},{"$f":"IF(A28=\"\",\"\",getScoreFactor(K$2,Itineraries!K28))","v":""},{"$f":"IF(A28=\"\",\"\",getScoreFactor(L$2,Itineraries!L28))","v":""},{"$f":"IF(A28=\"\",\"\",IF(INDEX(startingTA,numericItinerary($A28))=$M$2,getScoreFactor(M$2,\"y\"),getScoreFactor(M$2,\"n\")))","v":""},{"$f":"IF(A28=\"\",\"\",IF(INDEX(startingTA,numericItinerary($A28))=$M$2,getScoreFactor(N$2,\"y\"),getScoreFactor(N$2,\"n\")))","v":""},{"$f":"IF(A28=\"\",\"\",IF(INDEX(baldyMountainHike,numericItinerary($A28))=\"\",\"\",getPeakScore(O$2)))","v":""},{"$f":"IF(A28=\"\",\"\",IF(INDEX(mountPhillipsHike,numericItinerary($A28))=\"\",\"\",getPeakScore(P$2)))","v":""},{"$f":"IF(A28=\"\",\"\",IF(INDEX(toothOfTimeHike,numericItinerary($A28))=\"\",\"\",getPeakScore(Q$2)))","v":""},{"$f":"IF(A28=\"\",\"\",IF(INDEX(trailPeakHike,numericItinerary($A28))=\"\",\"\",getPeakScore(R$2)))","v":""},{"$f":"IF(A28=\"\",\"\",IF(INDEX(mountaineeringHike,numericItinerary($A28))=\"\",\"\",getPeakScore(S$2)))","v":""},{"$f":"IF(areaImportant<>\"y\",\"\",IF(Itineraries!P28<>\"Y\",\"\",getareascore(T$2)))","v":""},{"$f":"IF(areaImportant<>\"y\",\"\",IF(Itineraries!Q28<>\"Y\",\"\",getareascore(U$2)))","v":""},{"$f":"IF(areaImportant<>\"y\",\"\",IF(Itineraries!R28<>\"Y\",\"\",getareascore(V$2)))","v":""},{"$f":"IF(areaImportant<>\"y\",\"\",IF(Itineraries!S28<>\"Y\",\"\",getareascore(W$2)))","v":""},{"$f":"IF(ItineraryPrograms!B28=\"y\",getScoreFactor(\"Program\",X$2),\"\")","v":""},{"$f":"IF(ItineraryPrograms!C28=\"y\",getScoreFactor(\"Program\",Y$2),\"\")","v":""},{"$f":"IF(ItineraryPrograms!D28=\"y\",getScoreFactor(\"Program\",Z$2),\"\")","v":""},{"$f":"IF(ItineraryPrograms!E28=\"y\",getScoreFactor(\"Program\",AA$2),\"\")","v":""},{"$f":"IF(ItineraryPrograms!F28=\"y\",getScoreFactor(\"Program\",AB$2),\"\")","v":""},{"$f":"IF(ItineraryPrograms!G28=\"y\",getScoreFactor(\"Program\",AC$2),\"\")","v":""},{"$f":"IF(ItineraryPrograms!H28=\"y\",getScoreFactor(\"Program\",AD$2),\"\")","v":""},{"$f":"IF(ItineraryPrograms!I28=\"y\",getScoreFactor(\"Program\",AE$2),\"\")","v":""},{"$f":"IF(ItineraryPrograms!J28=\"y\",getScoreFactor(\"Program\",AF$2),\"\")","v":""},{"$f":"IF(ItineraryPrograms!K28=\"y\",getScoreFactor(\"Program\",AG$2),\"\")","v":""},{"$f":"IF(ItineraryPrograms!L28=\"y\",getScoreFactor(\"Program\",AH$2),\"\")","v":""},{"$f":"IF(ItineraryPrograms!M28=\"y\",getScoreFactor(\"Program\",AI$2),\"\")","v":""},{"$f":"IF(ItineraryPrograms!N28=\"y\",getScoreFactor(\"Program\",AJ$2),\"\")","v":""},{"$f":"IF(ItineraryPrograms!O28=\"y\",getScoreFactor(\"Program\",AK$2),\"\")","v":""},{"$f":"IF(ItineraryPrograms!P28=\"y\",getScoreFactor(\"Program\",AL$2),\"\")","v":""},{"$f":"IF(ItineraryPrograms!Q28=\"y\",getScoreFactor(\"Program\",AM$2),\"\")","v":""},{"$f":"IF(ItineraryPrograms!R28=\"y\",getScoreFactor(\"Program\",AN$2),\"\")","v":""},{"$f":"IF(ItineraryPrograms!S28=\"y\",getScoreFactor(\"Program\",AO$2),\"\")","v":""},{"$f":"IF(ItineraryPrograms!T28=\"y\",getScoreFactor(\"Program\",AP$2),\"\")","v":""},{"$f":"IF(ItineraryPrograms!U28=\"y\",getScoreFactor(\"Program\",AQ$2),\"\")","v":""},{"$f":"IF(ItineraryPrograms!V28=\"y\",getScoreFactor(\"Program\",AR$2),\"\")","v":""},{"$f":"IF(ItineraryPrograms!W28=\"y\",getScoreFactor(\"Program\",AS$2),\"\")","v":""},{"$f":"IF(ItineraryPrograms!X28=\"y\",getScoreFactor(\"Program\",AT$2),\"\")","v":""},{"$f":"IF(ItineraryPrograms!Y28=\"y\",getScoreFactor(\"Program\",AU$2),\"\")","v":""},{"$f":"IF(ItineraryPrograms!Z28=\"y\",getScoreFactor(\"Program\",AV$2),\"\")","v":""},{"$f":"IF(ItineraryPrograms!AA28=\"y\",getScoreFactor(\"Program\",AW$2),\"\")","v":""},{"$f":"IF(ItineraryPrograms!AB28=\"y\",getScoreFactor(\"Program\",AX$2),\"\")","v":""},{"$f":"IF(ItineraryPrograms!AC28=\"y\",getScoreFactor(\"Program\",AY$2),\"\")","v":""},{"$f":"IF(ItineraryPrograms!AD28=\"y\",getScoreFactor(\"Program\",AZ$2),\"\")","v":""},{"$f":"IF(ItineraryPrograms!AE28=\"y\",getScoreFactor(\"Program\",BA$2),\"\")","v":""},{"$f":"IF(ItineraryPrograms!AF28=\"y\",getScoreFactor(\"Program\",BB$2),\"\")","v":""},{"$f":"IF(ItineraryPrograms!AG28=\"y\",getScoreFactor(\"Program\",BC$2),\"\")","v":""},{"$f":"IF(ItineraryPrograms!AH28=\"y\",getScoreFactor(\"Program\",BD$2),\"\")","v":""},{"$f":"IF(ItineraryPrograms!AI28=\"y\",getScoreFactor(\"Program\",BE$2),\"\")","v":""},{"$f":"IF(ItineraryPrograms!AJ28=\"y\",getScoreFactor(\"Program\",BF$2),\"\")","v":""},{"$f":"IF(ItineraryPrograms!AK28=\"y\",getScoreFactor(\"Program\",BG$2),\"\")","v":""},{"$f":"IF(ItineraryPrograms!AL28=\"y\",getScoreFactor(\"Program\",BH$2),\"\")","v":""},{"$f":"IF(ItineraryPrograms!AM28=\"y\",getScoreFactor(\"Program\",BI$2),\"\")","v":""},{"$f":"IF(ItineraryPrograms!AN28=\"y\",getScoreFactor(\"Program\",BJ$2),\"\")","v":""},{"$f":"IF(ItineraryPrograms!AO28=\"y\",getScoreFactor(\"Program\",BK$2),\"\")","v":""}]
[{"$f":"Itineraries!A29","v":""},0,{"$f":"getScoreFactor(C$2,itineraryCamps!C30)","v":0},{"$f":"getScoreFactor(D$2,\"Miles\") *itineraryCamps!D30","v":0},{"$f":"IF($A29=\"\",\"\",getScoreFactor(E$2,Itineraries!B29))","v":""},{"$f":"IF(A29=\"\",\"\",getScoreFactor(F$2,Itineraries!C29))","v":""},{"$f":"IF(A29=\"\",\"\",getScoreFactor(G$2,Itineraries!E29))","v":""},{"$f":"IF(A29=\"\",\"\",getScoreFactor(H$2,Itineraries!H29))","v":""},{"$f":"IF(A29=\"\",\"\",getScoreFactor(I$2,Itineraries!G29))","v":""},{"$f":"IF(A29=\"\",\"\",getScoreFactor(J$2,Itineraries!J29))","v":""},{"$f":"IF(A29=\"\",\"\",getScoreFactor(K$2,Itineraries!K29))","v":""},{"$f":"IF(A29=\"\",\"\",getScoreFactor(L$2,Itineraries!L29))","v":""},{"$f":"IF(A29=\"\",\"\",IF(INDEX(startingTA,numericItinerary($A29))=$M$2,getScoreFactor(M$2,\"y\"),getScoreFactor(M$2,\"n\")))","v":""},{"$f":"IF(A29=\"\",\"\",IF(INDEX(startingTA,numericItinerary($A29))=$M$2,getScoreFactor(N$2,\"y\"),getScoreFactor(N$2,\"n\")))","v":""},{"$f":"IF(A29=\"\",\"\",IF(INDEX(baldyMountainHike,numericItinerary($A29))=\"\",\"\",getPeakScore(O$2)))","v":""},{"$f":"IF(A29=\"\",\"\",IF(INDEX(mountPhillipsHike,numericItinerary($A29))=\"\",\"\",getPeakScore(P$2)))","v":""},{"$f":"IF(A29=\"\",\"\",IF(INDEX(toothOfTimeHike,numericItinerary($A29))=\"\",\"\",getPeakScore(Q$2)))","v":""},{"$f":"IF(A29=\"\",\"\",IF(INDEX(trailPeakHike,numericItinerary($A29))=\"\",\"\",getPeakScore(R$2)))","v":""},{"$f":"IF(A29=\"\",\"\",IF(INDEX(mountaineeringHike,numericItinerary($A29))=\"\",\"\",getPeakScore(S$2)))","v":""},{"$f":"IF(areaImportant<>\"y\",\"\",IF(Itineraries!P29<>\"Y\",\"\",getareascore(T$2)))","v":""},{"$f":"IF(areaImportant<>\"y\",\"\",IF(Itineraries!Q29<>\"Y\",\"\",getareascore(U$2)))","v":""},{"$f":"IF(areaImportant<>\"y\",\"\",IF(Itineraries!R29<>\"Y\",\"\",getareascore(V$2)))","v":""},{"$f":"IF(areaImportant<>\"y\",\"\",IF(Itineraries!S29<>\"Y\",\"\",getareascore(W$2)))","v":""},{"$f":"IF(ItineraryPrograms!B29=\"y\",getScoreFactor(\"Program\",X$2),\"\")","v":""},{"$f":"IF(ItineraryPrograms!C29=\"y\",getScoreFactor(\"Program\",Y$2),\"\")","v":""},{"$f":"IF(ItineraryPrograms!D29=\"y\",getScoreFactor(\"Program\",Z$2),\"\")","v":""},{"$f":"IF(ItineraryPrograms!E29=\"y\",getScoreFactor(\"Program\",AA$2),\"\")","v":""},{"$f":"IF(ItineraryPrograms!F29=\"y\",getScoreFactor(\"Program\",AB$2),\"\")","v":""},{"$f":"IF(ItineraryPrograms!G29=\"y\",getScoreFactor(\"Program\",AC$2),\"\")","v":""},{"$f":"IF(ItineraryPrograms!H29=\"y\",getScoreFactor(\"Program\",AD$2),\"\")","v":""},{"$f":"IF(ItineraryPrograms!I29=\"y\",getScoreFactor(\"Program\",AE$2),\"\")","v":""},{"$f":"IF(ItineraryPrograms!J29=\"y\",getScoreFactor(\"Program\",AF$2),\"\")","v":""},{"$f":"IF(ItineraryPrograms!K29=\"y\",getScoreFactor(\"Program\",AG$2),\"\")","v":""},{"$f":"IF(ItineraryPrograms!L29=\"y\",getScoreFactor(\"Program\",AH$2),\"\")","v":""},{"$f":"IF(ItineraryPrograms!M29=\"y\",getScoreFactor(\"Program\",AI$2),\"\")","v":""},{"$f":"IF(ItineraryPrograms!N29=\"y\",getScoreFactor(\"Program\",AJ$2),\"\")","v":""},{"$f":"IF(ItineraryPrograms!O29=\"y\",getScoreFactor(\"Program\",AK$2),\"\")","v":""},{"$f":"IF(ItineraryPrograms!P29=\"y\",getScoreFactor(\"Program\",AL$2),\"\")","v":""},{"$f":"IF(ItineraryPrograms!Q29=\"y\",getScoreFactor(\"Program\",AM$2),\"\")","v":""},{"$f":"IF(ItineraryPrograms!R29=\"y\",getScoreFactor(\"Program\",AN$2),\"\")","v":""},{"$f":"IF(ItineraryPrograms!S29=\"y\",getScoreFactor(\"Program\",AO$2),\"\")","v":""},{"$f":"IF(ItineraryPrograms!T29=\"y\",getScoreFactor(\"Program\",AP$2),\"\")","v":""},{"$f":"IF(ItineraryPrograms!U29=\"y\",getScoreFactor(\"Program\",AQ$2),\"\")","v":""},{"$f":"IF(ItineraryPrograms!V29=\"y\",getScoreFactor(\"Program\",AR$2),\"\")","v":""},{"$f":"IF(ItineraryPrograms!W29=\"y\",getScoreFactor(\"Program\",AS$2),\"\")","v":""},{"$f":"IF(ItineraryPrograms!X29=\"y\",getScoreFactor(\"Program\",AT$2),\"\")","v":""},{"$f":"IF(ItineraryPrograms!Y29=\"y\",getScoreFactor(\"Program\",AU$2),\"\")","v":""},{"$f":"IF(ItineraryPrograms!Z29=\"y\",getScoreFactor(\"Program\",AV$2),\"\")","v":""},{"$f":"IF(ItineraryPrograms!AA29=\"y\",getScoreFactor(\"Program\",AW$2),\"\")","v":""},{"$f":"IF(ItineraryPrograms!AB29=\"y\",getScoreFactor(\"Program\",AX$2),\"\")","v":""},{"$f":"IF(ItineraryPrograms!AC29=\"y\",getScoreFactor(\"Program\",AY$2),\"\")","v":""},{"$f":"IF(ItineraryPrograms!AD29=\"y\",getScoreFactor(\"Program\",AZ$2),\"\")","v":""},{"$f":"IF(ItineraryPrograms!AE29=\"y\",getScoreFactor(\"Program\",BA$2),\"\")","v":""},{"$f":"IF(ItineraryPrograms!AF29=\"y\",getScoreFactor(\"Program\",BB$2),\"\")","v":""},{"$f":"IF(ItineraryPrograms!AG29=\"y\",getScoreFactor(\"Program\",BC$2),\"\")","v":""},{"$f":"IF(ItineraryPrograms!AH29=\"y\",getScoreFactor(\"Program\",BD$2),\"\")","v":""},{"$f":"IF(ItineraryPrograms!AI29=\"y\",getScoreFactor(\"Program\",BE$2),\"\")","v":""},{"$f":"IF(ItineraryPrograms!AJ29=\"y\",getScoreFactor(\"Program\",BF$2),\"\")","v":""},{"$f":"IF(ItineraryPrograms!AK29=\"y\",getScoreFactor(\"Program\",BG$2),\"\")","v":""},{"$f":"IF(ItineraryPrograms!AL29=\"y\",getScoreFactor(\"Program\",BH$2),\"\")","v":""},{"$f":"IF(ItineraryPrograms!AM29=\"y\",getScoreFactor(\"Program\",BI$2),\"\")","v":""},{"$f":"IF(ItineraryPrograms!AN29=\"y\",getScoreFactor(\"Program\",BJ$2),\"\")","v":""},{"$f":"IF(ItineraryPrograms!AO29=\"y\",getScoreFactor(\"Program\",BK$2),\"\")","v":""}]
[{"$f":"Itineraries!A30","v":""},0,{"$f":"getScoreFactor(C$2,itineraryCamps!C31)","v":0},{"$f":"getScoreFactor(D$2,\"Miles\") *itineraryCamps!D31","v":0},{"$f":"IF($A30=\"\",\"\",getScoreFactor(E$2,Itineraries!B30))","v":""},{"$f":"IF(A30=\"\",\"\",getScoreFactor(F$2,Itineraries!C30))","v":""},{"$f":"IF(A30=\"\",\"\",getScoreFactor(G$2,Itineraries!E30))","v":""},{"$f":"IF(A30=\"\",\"\",getScoreFactor(H$2,Itineraries!H30))","v":""},{"$f":"IF(A30=\"\",\"\",getScoreFactor(I$2,Itineraries!G30))","v":""},{"$f":"IF(A30=\"\",\"\",getScoreFactor(J$2,Itineraries!J30))","v":""},{"$f":"IF(A30=\"\",\"\",getScoreFactor(K$2,Itineraries!K30))","v":""},{"$f":"IF(A30=\"\",\"\",getScoreFactor(L$2,Itineraries!L30))","v":""},{"$f":"IF(A30=\"\",\"\",IF(INDEX(startingTA,numericItinerary($A30))=$M$2,getScoreFactor(M$2,\"y\"),getScoreFactor(M$2,\"n\")))","v":""},{"$f":"IF(A30=\"\",\"\",IF(INDEX(startingTA,numericItinerary($A30))=$M$2,getScoreFactor(N$2,\"y\"),getScoreFactor(N$2,\"n\")))","v":""},{"$f":"IF(A30=\"\",\"\",IF(INDEX(baldyMountainHike,numericItinerary($A30))=\"\",\"\",getPeakScore(O$2)))","v":""},{"$f":"IF(A30=\"\",\"\",IF(INDEX(mountPhillipsHike,numericItinerary($A30))=\"\",\"\",getPeakScore(P$2)))","v":""},{"$f":"IF(A30=\"\",\"\",IF(INDEX(toothOfTimeHike,numericItinerary($A30))=\"\",\"\",getPeakScore(Q$2)))","v":""},{"$f":"IF(A30=\"\",\"\",IF(INDEX(trailPeakHike,numericItinerary($A30))=\"\",\"\",getPeakScore(R$2)))","v":""},{"$f":"IF(A30=\"\",\"\",IF(INDEX(mountaineeringHike,numericItinerary($A30))=\"\",\"\",getPeakScore(S$2)))","v":""},{"$f":"IF(areaImportant<>\"y\",\"\",IF(Itineraries!P30<>\"Y\",\"\",getareascore(T$2)))","v":""},{"$f":"IF(areaImportant<>\"y\",\"\",IF(Itineraries!Q30<>\"Y\",\"\",getareascore(U$2)))","v":""},{"$f":"IF(areaImportant<>\"y\",\"\",IF(Itineraries!R30<>\"Y\",\"\",getareascore(V$2)))","v":""},{"$f":"IF(areaImportant<>\"y\",\"\",IF(Itineraries!S30<>\"Y\",\"\",getareascore(W$2)))","v":""},{"$f":"IF(ItineraryPrograms!B30=\"y\",getScoreFactor(\"Program\",X$2),\"\")","v":""},{"$f":"IF(ItineraryPrograms!C30=\"y\",getScoreFactor(\"Program\",Y$2),\"\")","v":""},{"$f":"IF(ItineraryPrograms!D30=\"y\",getScoreFactor(\"Program\",Z$2),\"\")","v":""},{"$f":"IF(ItineraryPrograms!E30=\"y\",getScoreFactor(\"Program\",AA$2),\"\")","v":""},{"$f":"IF(ItineraryPrograms!F30=\"y\",getScoreFactor(\"Program\",AB$2),\"\")","v":""},{"$f":"IF(ItineraryPrograms!G30=\"y\",getScoreFactor(\"Program\",AC$2),\"\")","v":""},{"$f":"IF(ItineraryPrograms!H30=\"y\",getScoreFactor(\"Program\",AD$2),\"\")","v":""},{"$f":"IF(ItineraryPrograms!I30=\"y\",getScoreFactor(\"Program\",AE$2),\"\")","v":""},{"$f":"IF(ItineraryPrograms!J30=\"y\",getScoreFactor(\"Program\",AF$2),\"\")","v":""},{"$f":"IF(ItineraryPrograms!K30=\"y\",getScoreFactor(\"Program\",AG$2),\"\")","v":""},{"$f":"IF(ItineraryPrograms!L30=\"y\",getScoreFactor(\"Program\",AH$2),\"\")","v":""},{"$f":"IF(ItineraryPrograms!M30=\"y\",getScoreFactor(\"Program\",AI$2),\"\")","v":""},{"$f":"IF(ItineraryPrograms!N30=\"y\",getScoreFactor(\"Program\",AJ$2),\"\")","v":""},{"$f":"IF(ItineraryPrograms!O30=\"y\",getScoreFactor(\"Program\",AK$2),\"\")","v":""},{"$f":"IF(ItineraryPrograms!P30=\"y\",getScoreFactor(\"Program\",AL$2),\"\")","v":""},{"$f":"IF(ItineraryPrograms!Q30=\"y\",getScoreFactor(\"Program\",AM$2),\"\")","v":""},{"$f":"IF(ItineraryPrograms!R30=\"y\",getScoreFactor(\"Program\",AN$2),\"\")","v":""},{"$f":"IF(ItineraryPrograms!S30=\"y\",getScoreFactor(\"Program\",AO$2),\"\")","v":""},{"$f":"IF(ItineraryPrograms!T30=\"y\",getScoreFactor(\"Program\",AP$2),\"\")","v":""},{"$f":"IF(ItineraryPrograms!U30=\"y\",getScoreFactor(\"Program\",AQ$2),\"\")","v":""},{"$f":"IF(ItineraryPrograms!V30=\"y\",getScoreFactor(\"Program\",AR$2),\"\")","v":""},{"$f":"IF(ItineraryPrograms!W30=\"y\",getScoreFactor(\"Program\",AS$2),\"\")","v":""},{"$f":"IF(ItineraryPrograms!X30=\"y\",getScoreFactor(\"Program\",AT$2),\"\")","v":""},{"$f":"IF(ItineraryPrograms!Y30=\"y\",getScoreFactor(\"Program\",AU$2),\"\")","v":""},{"$f":"IF(ItineraryPrograms!Z30=\"y\",getScoreFactor(\"Program\",AV$2),\"\")","v":""},{"$f":"IF(ItineraryPrograms!AA30=\"y\",getScoreFactor(\"Program\",AW$2),\"\")","v":""},{"$f":"IF(ItineraryPrograms!AB30=\"y\",getScoreFactor(\"Program\",AX$2),\"\")","v":""},{"$f":"IF(ItineraryPrograms!AC30=\"y\",getScoreFactor(\"Program\",AY$2),\"\")","v":""},{"$f":"IF(ItineraryPrograms!AD30=\"y\",getScoreFactor(\"Program\",AZ$2),\"\")","v":""},{"$f":"IF(ItineraryPrograms!AE30=\"y\",getScoreFactor(\"Program\",BA$2),\"\")","v":""},{"$f":"IF(ItineraryPrograms!AF30=\"y\",getScoreFactor(\"Program\",BB$2),\"\")","v":""},{"$f":"IF(ItineraryPrograms!AG30=\"y\",getScoreFactor(\"Program\",BC$2),\"\")","v":""},{"$f":"IF(ItineraryPrograms!AH30=\"y\",getScoreFactor(\"Program\",BD$2),\"\")","v":""},{"$f":"IF(ItineraryPrograms!AI30=\"y\",getScoreFactor(\"Program\",BE$2),\"\")","v":""},{"$f":"IF(ItineraryPrograms!AJ30=\"y\",getScoreFactor(\"Program\",BF$2),\"\")","v":""},{"$f":"IF(ItineraryPrograms!AK30=\"y\",getScoreFactor(\"Program\",BG$2),\"\")","v":""},{"$f":"IF(ItineraryPrograms!AL30=\"y\",getScoreFactor(\"Program\",BH$2),\"\")","v":""},{"$f":"IF(ItineraryPrograms!AM30=\"y\",getScoreFactor(\"Program\",BI$2),\"\")","v":""},{"$f":"IF(ItineraryPrograms!AN30=\"y\",getScoreFactor(\"Program\",BJ$2),\"\")","v":""},{"$f":"IF(ItineraryPrograms!AO30=\"y\",getScoreFactor(\"Program\",BK$2),\"\")","v":""}]
[{"$f":"Itineraries!A31","v":""},0,{"$f":"getScoreFactor(C$2,itineraryCamps!C32)","v":0},{"$f":"getScoreFactor(D$2,\"Miles\") *itineraryCamps!D32","v":0},{"$f":"IF($A31=\"\",\"\",getScoreFactor(E$2,Itineraries!B31))","v":""},{"$f":"IF(A31=\"\",\"\",getScoreFactor(F$2,Itineraries!C31))","v":""},{"$f":"IF(A31=\"\",\"\",getScoreFactor(G$2,Itineraries!E31))","v":""},{"$f":"IF(A31=\"\",\"\",getScoreFactor(H$2,Itineraries!H31))","v":""},{"$f":"IF(A31=\"\",\"\",getScoreFactor(I$2,Itineraries!G31))","v":""},{"$f":"IF(A31=\"\",\"\",getScoreFactor(J$2,Itineraries!J31))","v":""},{"$f":"IF(A31=\"\",\"\",getScoreFactor(K$2,Itineraries!K31))","v":""},{"$f":"IF(A31=\"\",\"\",getScoreFactor(L$2,Itineraries!L31))","v":""},{"$f":"IF(A31=\"\",\"\",IF(INDEX(startingTA,numericItinerary($A31))=$M$2,getScoreFactor(M$2,\"y\"),getScoreFactor(M$2,\"n\")))","v":""},{"$f":"IF(A31=\"\",\"\",IF(INDEX(startingTA,numericItinerary($A31))=$M$2,getScoreFactor(N$2,\"y\"),getScoreFactor(N$2,\"n\")))","v":""},{"$f":"IF(A31=\"\",\"\",IF(INDEX(baldyMountainHike,numericItinerary($A31))=\"\",\"\",getPeakScore(O$2)))","v":""},{"$f":"IF(A31=\"\",\"\",IF(INDEX(mountPhillipsHike,numericItinerary($A31))=\"\",\"\",getPeakScore(P$2)))","v":""},{"$f":"IF(A31=\"\",\"\",IF(INDEX(toothOfTimeHike,numericItinerary($A31))=\"\",\"\",getPeakScore(Q$2)))","v":""},{"$f":"IF(A31=\"\",\"\",IF(INDEX(trailPeakHike,numericItinerary($A31))=\"\",\"\",getPeakScore(R$2)))","v":""},{"$f":"IF(A31=\"\",\"\",IF(INDEX(mountaineeringHike,numericItinerary($A31))=\"\",\"\",getPeakScore(S$2)))","v":""},{"$f":"IF(areaImportant<>\"y\",\"\",IF(Itineraries!P31<>\"Y\",\"\",getareascore(T$2)))","v":""},{"$f":"IF(areaImportant<>\"y\",\"\",IF(Itineraries!Q31<>\"Y\",\"\",getareascore(U$2)))","v":""},{"$f":"IF(areaImportant<>\"y\",\"\",IF(Itineraries!R31<>\"Y\",\"\",getareascore(V$2)))","v":""},{"$f":"IF(areaImportant<>\"y\",\"\",IF(Itineraries!S31<>\"Y\",\"\",getareascore(W$2)))","v":""},{"$f":"IF(ItineraryPrograms!B31=\"y\",getScoreFactor(\"Program\",X$2),\"\")","v":""},{"$f":"IF(ItineraryPrograms!C31=\"y\",getScoreFactor(\"Program\",Y$2),\"\")","v":""},{"$f":"IF(ItineraryPrograms!D31=\"y\",getScoreFactor(\"Program\",Z$2),\"\")","v":""},{"$f":"IF(ItineraryPrograms!E31=\"y\",getScoreFactor(\"Program\",AA$2),\"\")","v":""},{"$f":"IF(ItineraryPrograms!F31=\"y\",getScoreFactor(\"Program\",AB$2),\"\")","v":""},{"$f":"IF(ItineraryPrograms!G31=\"y\",getScoreFactor(\"Program\",AC$2),\"\")","v":""},{"$f":"IF(ItineraryPrograms!H31=\"y\",getScoreFactor(\"Program\",AD$2),\"\")","v":""},{"$f":"IF(ItineraryPrograms!I31=\"y\",getScoreFactor(\"Program\",AE$2),\"\")","v":""},{"$f":"IF(ItineraryPrograms!J31=\"y\",getScoreFactor(\"Program\",AF$2),\"\")","v":""},{"$f":"IF(ItineraryPrograms!K31=\"y\",getScoreFactor(\"Program\",AG$2),\"\")","v":""},{"$f":"IF(ItineraryPrograms!L31=\"y\",getScoreFactor(\"Program\",AH$2),\"\")","v":""},{"$f":"IF(ItineraryPrograms!M31=\"y\",getScoreFactor(\"Program\",AI$2),\"\")","v":""},{"$f":"IF(ItineraryPrograms!N31=\"y\",getScoreFactor(\"Program\",AJ$2),\"\")","v":""},{"$f":"IF(ItineraryPrograms!O31=\"y\",getScoreFactor(\"Program\",AK$2),\"\")","v":""},{"$f":"IF(ItineraryPrograms!P31=\"y\",getScoreFactor(\"Program\",AL$2),\"\")","v":""},{"$f":"IF(ItineraryPrograms!Q31=\"y\",getScoreFactor(\"Program\",AM$2),\"\")","v":""},{"$f":"IF(ItineraryPrograms!R31=\"y\",getScoreFactor(\"Program\",AN$2),\"\")","v":""},{"$f":"IF(ItineraryPrograms!S31=\"y\",getScoreFactor(\"Program\",AO$2),\"\")","v":""},{"$f":"IF(ItineraryPrograms!T31=\"y\",getScoreFactor(\"Program\",AP$2),\"\")","v":""},{"$f":"IF(ItineraryPrograms!U31=\"y\",getScoreFactor(\"Program\",AQ$2),\"\")","v":""},{"$f":"IF(ItineraryPrograms!V31=\"y\",getScoreFactor(\"Program\",AR$2),\"\")","v":""},{"$f":"IF(ItineraryPrograms!W31=\"y\",getScoreFactor(\"Program\",AS$2),\"\")","v":""},{"$f":"IF(ItineraryPrograms!X31=\"y\",getScoreFactor(\"Program\",AT$2),\"\")","v":""},{"$f":"IF(ItineraryPrograms!Y31=\"y\",getScoreFactor(\"Program\",AU$2),\"\")","v":""},{"$f":"IF(ItineraryPrograms!Z31=\"y\",getScoreFactor(\"Program\",AV$2),\"\")","v":""},{"$f":"IF(ItineraryPrograms!AA31=\"y\",getScoreFactor(\"Program\",AW$2),\"\")","v":""},{"$f":"IF(ItineraryPrograms!AB31=\"y\",getScoreFactor(\"Program\",AX$2),\"\")","v":""},{"$f":"IF(ItineraryPrograms!AC31=\"y\",getScoreFactor(\"Program\",AY$2),\"\")","v":""},{"$f":"IF(ItineraryPrograms!AD31=\"y\",getScoreFactor(\"Program\",AZ$2),\"\")","v":""},{"$f":"IF(ItineraryPrograms!AE31=\"y\",getScoreFactor(\"Program\",BA$2),\"\")","v":""},{"$f":"IF(ItineraryPrograms!AF31=\"y\",getScoreFactor(\"Program\",BB$2),\"\")","v":""},{"$f":"IF(ItineraryPrograms!AG31=\"y\",getScoreFactor(\"Program\",BC$2),\"\")","v":""},{"$f":"IF(ItineraryPrograms!AH31=\"y\",getScoreFactor(\"Program\",BD$2),\"\")","v":""},{"$f":"IF(ItineraryPrograms!AI31=\"y\",getScoreFactor(\"Program\",BE$2),\"\")","v":""},{"$f":"IF(ItineraryPrograms!AJ31=\"y\",getScoreFactor(\"Program\",BF$2),\"\")","v":""},{"$f":"IF(ItineraryPrograms!AK31=\"y\",getScoreFactor(\"Program\",BG$2),\"\")","v":""},{"$f":"IF(ItineraryPrograms!AL31=\"y\",getScoreFactor(\"Program\",BH$2),\"\")","v":""},{"$f":"IF(ItineraryPrograms!AM31=\"y\",getScoreFactor(\"Program\",BI$2),\"\")","v":""},{"$f":"IF(ItineraryPrograms!AN31=\"y\",getScoreFactor(\"Program\",BJ$2),\"\")","v":""},{"$f":"IF(ItineraryPrograms!AO31=\"y\",getScoreFactor(\"Program\",BK$2),\"\")","v":""}]
[{"$f":"Itineraries!A32","v":""},0,{"$f":"getScoreFactor(C$2,itineraryCamps!C33)","v":0},{"$f":"getScoreFactor(D$2,\"Miles\") *itineraryCamps!D33","v":0},{"$f":"IF($A32=\"\",\"\",getScoreFactor(E$2,Itineraries!B32))","v":""},{"$f":"IF(A32=\"\",\"\",getScoreFactor(F$2,Itineraries!C32))","v":""},{"$f":"IF(A32=\"\",\"\",getScoreFactor(G$2,Itineraries!E32))","v":""},{"$f":"IF(A32=\"\",\"\",getScoreFactor(H$2,Itineraries!H32))","v":""},{"$f":"IF(A32=\"\",\"\",getScoreFactor(I$2,Itineraries!G32))","v":""},{"$f":"IF(A32=\"\",\"\",getScoreFactor(J$2,Itineraries!J32))","v":""},{"$f":"IF(A32=\"\",\"\",getScoreFactor(K$2,Itineraries!K32))","v":""},{"$f":"IF(A32=\"\",\"\",getScoreFactor(L$2,Itineraries!L32))","v":""},{"$f":"IF(A32=\"\",\"\",IF(INDEX(startingTA,numericItinerary($A32))=$M$2,getScoreFactor(M$2,\"y\"),getScoreFactor(M$2,\"n\")))","v":""},{"$f":"IF(A32=\"\",\"\",IF(INDEX(startingTA,numericItinerary($A32))=$M$2,getScoreFactor(N$2,\"y\"),getScoreFactor(N$2,\"n\")))","v":""},{"$f":"IF(A32=\"\",\"\",IF(INDEX(baldyMountainHike,numericItinerary($A32))=\"\",\"\",getPeakScore(O$2)))","v":""},{"$f":"IF(A32=\"\",\"\",IF(INDEX(mountPhillipsHike,numericItinerary($A32))=\"\",\"\",getPeakScore(P$2)))","v":""},{"$f":"IF(A32=\"\",\"\",IF(INDEX(toothOfTimeHike,numericItinerary($A32))=\"\",\"\",getPeakScore(Q$2)))","v":""},{"$f":"IF(A32=\"\",\"\",IF(INDEX(trailPeakHike,numericItinerary($A32))=\"\",\"\",getPeakScore(R$2)))","v":""},{"$f":"IF(A32=\"\",\"\",IF(INDEX(mountaineeringHike,numericItinerary($A32))=\"\",\"\",getPeakScore(S$2)))","v":""},{"$f":"IF(areaImportant<>\"y\",\"\",IF(Itineraries!P32<>\"Y\",\"\",getareascore(T$2)))","v":""},{"$f":"IF(areaImportant<>\"y\",\"\",IF(Itineraries!Q32<>\"Y\",\"\",getareascore(U$2)))","v":""},{"$f":"IF(areaImportant<>\"y\",\"\",IF(Itineraries!R32<>\"Y\",\"\",getareascore(V$2)))","v":""},{"$f":"IF(areaImportant<>\"y\",\"\",IF(Itineraries!S32<>\"Y\",\"\",getareascore(W$2)))","v":""},{"$f":"IF(ItineraryPrograms!B32=\"y\",getScoreFactor(\"Program\",X$2),\"\")","v":""},{"$f":"IF(ItineraryPrograms!C32=\"y\",getScoreFactor(\"Program\",Y$2),\"\")","v":""},{"$f":"IF(ItineraryPrograms!D32=\"y\",getScoreFactor(\"Program\",Z$2),\"\")","v":""},{"$f":"IF(ItineraryPrograms!E32=\"y\",getScoreFactor(\"Program\",AA$2),\"\")","v":""},{"$f":"IF(ItineraryPrograms!F32=\"y\",getScoreFactor(\"Program\",AB$2),\"\")","v":""},{"$f":"IF(ItineraryPrograms!G32=\"y\",getScoreFactor(\"Program\",AC$2),\"\")","v":""},{"$f":"IF(ItineraryPrograms!H32=\"y\",getScoreFactor(\"Program\",AD$2),\"\")","v":""},{"$f":"IF(ItineraryPrograms!I32=\"y\",getScoreFactor(\"Program\",AE$2),\"\")","v":""},{"$f":"IF(ItineraryPrograms!J32=\"y\",getScoreFactor(\"Program\",AF$2),\"\")","v":""},{"$f":"IF(ItineraryPrograms!K32=\"y\",getScoreFactor(\"Program\",AG$2),\"\")","v":""},{"$f":"IF(ItineraryPrograms!L32=\"y\",getScoreFactor(\"Program\",AH$2),\"\")","v":""},{"$f":"IF(ItineraryPrograms!M32=\"y\",getScoreFactor(\"Program\",AI$2),\"\")","v":""},{"$f":"IF(ItineraryPrograms!N32=\"y\",getScoreFactor(\"Program\",AJ$2),\"\")","v":""},{"$f":"IF(ItineraryPrograms!O32=\"y\",getScoreFactor(\"Program\",AK$2),\"\")","v":""},{"$f":"IF(ItineraryPrograms!P32=\"y\",getScoreFactor(\"Program\",AL$2),\"\")","v":""},{"$f":"IF(ItineraryPrograms!Q32=\"y\",getScoreFactor(\"Program\",AM$2),\"\")","v":""},{"$f":"IF(ItineraryPrograms!R32=\"y\",getScoreFactor(\"Program\",AN$2),\"\")","v":""},{"$f":"IF(ItineraryPrograms!S32=\"y\",getScoreFactor(\"Program\",AO$2),\"\")","v":""},{"$f":"IF(ItineraryPrograms!T32=\"y\",getScoreFactor(\"Program\",AP$2),\"\")","v":""},{"$f":"IF(ItineraryPrograms!U32=\"y\",getScoreFactor(\"Program\",AQ$2),\"\")","v":""},{"$f":"IF(ItineraryPrograms!V32=\"y\",getScoreFactor(\"Program\",AR$2),\"\")","v":""},{"$f":"IF(ItineraryPrograms!W32=\"y\",getScoreFactor(\"Program\",AS$2),\"\")","v":""},{"$f":"IF(ItineraryPrograms!X32=\"y\",getScoreFactor(\"Program\",AT$2),\"\")","v":""},{"$f":"IF(ItineraryPrograms!Y32=\"y\",getScoreFactor(\"Program\",AU$2),\"\")","v":""},{"$f":"IF(ItineraryPrograms!Z32=\"y\",getScoreFactor(\"Program\",AV$2),\"\")","v":""},{"$f":"IF(ItineraryPrograms!AA32=\"y\",getScoreFactor(\"Program\",AW$2),\"\")","v":""},{"$f":"IF(ItineraryPrograms!AB32=\"y\",getScoreFactor(\"Program\",AX$2),\"\")","v":""},{"$f":"IF(ItineraryPrograms!AC32=\"y\",getScoreFactor(\"Program\",AY$2),\"\")","v":""},{"$f":"IF(ItineraryPrograms!AD32=\"y\",getScoreFactor(\"Program\",AZ$2),\"\")","v":""},{"$f":"IF(ItineraryPrograms!AE32=\"y\",getScoreFactor(\"Program\",BA$2),\"\")","v":""},{"$f":"IF(ItineraryPrograms!AF32=\"y\",getScoreFactor(\"Program\",BB$2),\"\")","v":""},{"$f":"IF(ItineraryPrograms!AG32=\"y\",getScoreFactor(\"Program\",BC$2),\"\")","v":""},{"$f":"IF(ItineraryPrograms!AH32=\"y\",getScoreFactor(\"Program\",BD$2),\"\")","v":""},{"$f":"IF(ItineraryPrograms!AI32=\"y\",getScoreFactor(\"Program\",BE$2),\"\")","v":""},{"$f":"IF(ItineraryPrograms!AJ32=\"y\",getScoreFactor(\"Program\",BF$2),\"\")","v":""},{"$f":"IF(ItineraryPrograms!AK32=\"y\",getScoreFactor(\"Program\",BG$2),\"\")","v":""},{"$f":"IF(ItineraryPrograms!AL32=\"y\",getScoreFactor(\"Program\",BH$2),\"\")","v":""},{"$f":"IF(ItineraryPrograms!AM32=\"y\",getScoreFactor(\"Program\",BI$2),\"\")","v":""},{"$f":"IF(ItineraryPrograms!AN32=\"y\",getScoreFactor(\"Program\",BJ$2),\"\")","v":""},{"$f":"IF(ItineraryPrograms!AO32=\"y\",getScoreFactor(\"Program\",BK$2),\"\")","v":""}]
[{"$f":"Itineraries!A33","v":""},0,{"$f":"getScoreFactor(C$2,itineraryCamps!C34)","v":0},{"$f":"getScoreFactor(D$2,\"Miles\") *itineraryCamps!D34","v":0},{"$f":"IF($A33=\"\",\"\",getScoreFactor(E$2,Itineraries!B33))","v":""},{"$f":"IF(A33=\"\",\"\",getScoreFactor(F$2,Itineraries!C33))","v":""},{"$f":"IF(A33=\"\",\"\",getScoreFactor(G$2,Itineraries!E33))","v":""},{"$f":"IF(A33=\"\",\"\",getScoreFactor(H$2,Itineraries!H33))","v":""},{"$f":"IF(A33=\"\",\"\",getScoreFactor(I$2,Itineraries!G33))","v":""},{"$f":"IF(A33=\"\",\"\",getScoreFactor(J$2,Itineraries!J33))","v":""},{"$f":"IF(A33=\"\",\"\",getScoreFactor(K$2,Itineraries!K33))","v":""},{"$f":"IF(A33=\"\",\"\",getScoreFactor(L$2,Itineraries!L33))","v":""},{"$f":"IF(A33=\"\",\"\",IF(INDEX(startingTA,numericItinerary($A33))=$M$2,getScoreFactor(M$2,\"y\"),getScoreFactor(M$2,\"n\")))","v":""},{"$f":"IF(A33=\"\",\"\",IF(INDEX(startingTA,numericItinerary($A33))=$M$2,getScoreFactor(N$2,\"y\"),getScoreFactor(N$2,\"n\")))","v":""},{"$f":"IF(A33=\"\",\"\",IF(INDEX(baldyMountainHike,numericItinerary($A33))=\"\",\"\",getPeakScore(O$2)))","v":""},{"$f":"IF(A33=\"\",\"\",IF(INDEX(mountPhillipsHike,numericItinerary($A33))=\"\",\"\",getPeakScore(P$2)))","v":""},{"$f":"IF(A33=\"\",\"\",IF(INDEX(toothOfTimeHike,numericItinerary($A33))=\"\",\"\",getPeakScore(Q$2)))","v":""},{"$f":"IF(A33=\"\",\"\",IF(INDEX(trailPeakHike,numericItinerary($A33))=\"\",\"\",getPeakScore(R$2)))","v":""},{"$f":"IF(A33=\"\",\"\",IF(INDEX(mountaineeringHike,numericItinerary($A33))=\"\",\"\",getPeakScore(S$2)))","v":""},{"$f":"IF(areaImportant<>\"y\",\"\",IF(Itineraries!P33<>\"Y\",\"\",getareascore(T$2)))","v":""},{"$f":"IF(areaImportant<>\"y\",\"\",IF(Itineraries!Q33<>\"Y\",\"\",getareascore(U$2)))","v":""},{"$f":"IF(areaImportant<>\"y\",\"\",IF(Itineraries!R33<>\"Y\",\"\",getareascore(V$2)))","v":""},{"$f":"IF(areaImportant<>\"y\",\"\",IF(Itineraries!S33<>\"Y\",\"\",getareascore(W$2)))","v":""},{"$f":"IF(ItineraryPrograms!B33=\"y\",getScoreFactor(\"Program\",X$2),\"\")","v":""},{"$f":"IF(ItineraryPrograms!C33=\"y\",getScoreFactor(\"Program\",Y$2),\"\")","v":""},{"$f":"IF(ItineraryPrograms!D33=\"y\",getScoreFactor(\"Program\",Z$2),\"\")","v":""},{"$f":"IF(ItineraryPrograms!E33=\"y\",getScoreFactor(\"Program\",AA$2),\"\")","v":""},{"$f":"IF(ItineraryPrograms!F33=\"y\",getScoreFactor(\"Program\",AB$2),\"\")","v":""},{"$f":"IF(ItineraryPrograms!G33=\"y\",getScoreFactor(\"Program\",AC$2),\"\")","v":""},{"$f":"IF(ItineraryPrograms!H33=\"y\",getScoreFactor(\"Program\",AD$2),\"\")","v":""},{"$f":"IF(ItineraryPrograms!I33=\"y\",getScoreFactor(\"Program\",AE$2),\"\")","v":""},{"$f":"IF(ItineraryPrograms!J33=\"y\",getScoreFactor(\"Program\",AF$2),\"\")","v":""},{"$f":"IF(ItineraryPrograms!K33=\"y\",getScoreFactor(\"Program\",AG$2),\"\")","v":""},{"$f":"IF(ItineraryPrograms!L33=\"y\",getScoreFactor(\"Program\",AH$2),\"\")","v":""},{"$f":"IF(ItineraryPrograms!M33=\"y\",getScoreFactor(\"Program\",AI$2),\"\")","v":""},{"$f":"IF(ItineraryPrograms!N33=\"y\",getScoreFactor(\"Program\",AJ$2),\"\")","v":""},{"$f":"IF(ItineraryPrograms!O33=\"y\",getScoreFactor(\"Program\",AK$2),\"\")","v":""},{"$f":"IF(ItineraryPrograms!P33=\"y\",getScoreFactor(\"Program\",AL$2),\"\")","v":""},{"$f":"IF(ItineraryPrograms!Q33=\"y\",getScoreFactor(\"Program\",AM$2),\"\")","v":""},{"$f":"IF(ItineraryPrograms!R33=\"y\",getScoreFactor(\"Program\",AN$2),\"\")","v":""},{"$f":"IF(ItineraryPrograms!S33=\"y\",getScoreFactor(\"Program\",AO$2),\"\")","v":""},{"$f":"IF(ItineraryPrograms!T33=\"y\",getScoreFactor(\"Program\",AP$2),\"\")","v":""},{"$f":"IF(ItineraryPrograms!U33=\"y\",getScoreFactor(\"Program\",AQ$2),\"\")","v":""},{"$f":"IF(ItineraryPrograms!V33=\"y\",getScoreFactor(\"Program\",AR$2),\"\")","v":""},{"$f":"IF(ItineraryPrograms!W33=\"y\",getScoreFactor(\"Program\",AS$2),\"\")","v":""},{"$f":"IF(ItineraryPrograms!X33=\"y\",getScoreFactor(\"Program\",AT$2),\"\")","v":""},{"$f":"IF(ItineraryPrograms!Y33=\"y\",getScoreFactor(\"Program\",AU$2),\"\")","v":""},{"$f":"IF(ItineraryPrograms!Z33=\"y\",getScoreFactor(\"Program\",AV$2),\"\")","v":""},{"$f":"IF(ItineraryPrograms!AA33=\"y\",getScoreFactor(\"Program\",AW$2),\"\")","v":""},{"$f":"IF(ItineraryPrograms!AB33=\"y\",getScoreFactor(\"Program\",AX$2),\"\")","v":""},{"$f":"IF(ItineraryPrograms!AC33=\"y\",getScoreFactor(\"Program\",AY$2),\"\")","v":""},{"$f":"IF(ItineraryPrograms!AD33=\"y\",getScoreFactor(\"Program\",AZ$2),\"\")","v":""},{"$f":"IF(ItineraryPrograms!AE33=\"y\",getScoreFactor(\"Program\",BA$2),\"\")","v":""},{"$f":"IF(ItineraryPrograms!AF33=\"y\",getScoreFactor(\"Program\",BB$2),\"\")","v":""},{"$f":"IF(ItineraryPrograms!AG33=\"y\",getScoreFactor(\"Program\",BC$2),\"\")","v":""},{"$f":"IF(ItineraryPrograms!AH33=\"y\",getScoreFactor(\"Program\",BD$2),\"\")","v":""},{"$f":"IF(ItineraryPrograms!AI33=\"y\",getScoreFactor(\"Program\",BE$2),\"\")","v":""},{"$f":"IF(ItineraryPrograms!AJ33=\"y\",getScoreFactor(\"Program\",BF$2),\"\")","v":""},{"$f":"IF(ItineraryPrograms!AK33=\"y\",getScoreFactor(\"Program\",BG$2),\"\")","v":""},{"$f":"IF(ItineraryPrograms!AL33=\"y\",getScoreFactor(\"Program\",BH$2),\"\")","v":""},{"$f":"IF(ItineraryPrograms!AM33=\"y\",getScoreFactor(\"Program\",BI$2),\"\")","v":""},{"$f":"IF(ItineraryPrograms!AN33=\"y\",getScoreFactor(\"Program\",BJ$2),\"\")","v":""},{"$f":"IF(ItineraryPrograms!AO33=\"y\",getScoreFactor(\"Program\",BK$2),\"\")","v":""}]
[{"$f":"Itineraries!A34","v":""},0,{"$f":"getScoreFactor(C$2,itineraryCamps!C35)","v":0},{"$f":"getScoreFactor(D$2,\"Miles\") *itineraryCamps!D35","v":0},{"$f":"IF($A34=\"\",\"\",getScoreFactor(E$2,Itineraries!B34))","v":""},{"$f":"IF(A34=\"\",\"\",getScoreFactor(F$2,Itineraries!C34))","v":""},{"$f":"IF(A34=\"\",\"\",getScoreFactor(G$2,Itineraries!E34))","v":""},{"$f":"IF(A34=\"\",\"\",getScoreFactor(H$2,Itineraries!H34))","v":""},{"$f":"IF(A34=\"\",\"\",getScoreFactor(I$2,Itineraries!G34))","v":""},{"$f":"IF(A34=\"\",\"\",getScoreFactor(J$2,Itineraries!J34))","v":""},{"$f":"IF(A34=\"\",\"\",getScoreFactor(K$2,Itineraries!K34))","v":""},{"$f":"IF(A34=\"\",\"\",getScoreFactor(L$2,Itineraries!L34))","v":""},{"$f":"IF(A34=\"\",\"\",IF(INDEX(startingTA,numericItinerary($A34))=$M$2,getScoreFactor(M$2,\"y\"),getScoreFactor(M$2,\"n\")))","v":""},{"$f":"IF(A34=\"\",\"\",IF(INDEX(startingTA,numericItinerary($A34))=$M$2,getScoreFactor(N$2,\"y\"),getScoreFactor(N$2,\"n\")))","v":""},{"$f":"IF(A34=\"\",\"\",IF(INDEX(baldyMountainHike,numericItinerary($A34))=\"\",\"\",getPeakScore(O$2)))","v":""},{"$f":"IF(A34=\"\",\"\",IF(INDEX(mountPhillipsHike,numericItinerary($A34))=\"\",\"\",getPeakScore(P$2)))","v":""},{"$f":"IF(A34=\"\",\"\",IF(INDEX(toothOfTimeHike,numericItinerary($A34))=\"\",\"\",getPeakScore(Q$2)))","v":""},{"$f":"IF(A34=\"\",\"\",IF(INDEX(trailPeakHike,numericItinerary($A34))=\"\",\"\",getPeakScore(R$2)))","v":""},{"$f":"IF(A34=\"\",\"\",IF(INDEX(mountaineeringHike,numericItinerary($A34))=\"\",\"\",getPeakScore(S$2)))","v":""},{"$f":"IF(areaImportant<>\"y\",\"\",IF(Itineraries!P34<>\"Y\",\"\",getareascore(T$2)))","v":""},{"$f":"IF(areaImportant<>\"y\",\"\",IF(Itineraries!Q34<>\"Y\",\"\",getareascore(U$2)))","v":""},{"$f":"IF(areaImportant<>\"y\",\"\",IF(Itineraries!R34<>\"Y\",\"\",getareascore(V$2)))","v":""},{"$f":"IF(areaImportant<>\"y\",\"\",IF(Itineraries!S34<>\"Y\",\"\",getareascore(W$2)))","v":""},{"$f":"IF(ItineraryPrograms!B34=\"y\",getScoreFactor(\"Program\",X$2),\"\")","v":""},{"$f":"IF(ItineraryPrograms!C34=\"y\",getScoreFactor(\"Program\",Y$2),\"\")","v":""},{"$f":"IF(ItineraryPrograms!D34=\"y\",getScoreFactor(\"Program\",Z$2),\"\")","v":""},{"$f":"IF(ItineraryPrograms!E34=\"y\",getScoreFactor(\"Program\",AA$2),\"\")","v":""},{"$f":"IF(ItineraryPrograms!F34=\"y\",getScoreFactor(\"Program\",AB$2),\"\")","v":""},{"$f":"IF(ItineraryPrograms!G34=\"y\",getScoreFactor(\"Program\",AC$2),\"\")","v":""},{"$f":"IF(ItineraryPrograms!H34=\"y\",getScoreFactor(\"Program\",AD$2),\"\")","v":""},{"$f":"IF(ItineraryPrograms!I34=\"y\",getScoreFactor(\"Program\",AE$2),\"\")","v":""},{"$f":"IF(ItineraryPrograms!J34=\"y\",getScoreFactor(\"Program\",AF$2),\"\")","v":""},{"$f":"IF(ItineraryPrograms!K34=\"y\",getScoreFactor(\"Program\",AG$2),\"\")","v":""},{"$f":"IF(ItineraryPrograms!L34=\"y\",getScoreFactor(\"Program\",AH$2),\"\")","v":""},{"$f":"IF(ItineraryPrograms!M34=\"y\",getScoreFactor(\"Program\",AI$2),\"\")","v":""},{"$f":"IF(ItineraryPrograms!N34=\"y\",getScoreFactor(\"Program\",AJ$2),\"\")","v":""},{"$f":"IF(ItineraryPrograms!O34=\"y\",getScoreFactor(\"Program\",AK$2),\"\")","v":""},{"$f":"IF(ItineraryPrograms!P34=\"y\",getScoreFactor(\"Program\",AL$2),\"\")","v":""},{"$f":"IF(ItineraryPrograms!Q34=\"y\",getScoreFactor(\"Program\",AM$2),\"\")","v":""},{"$f":"IF(ItineraryPrograms!R34=\"y\",getScoreFactor(\"Program\",AN$2),\"\")","v":""},{"$f":"IF(ItineraryPrograms!S34=\"y\",getScoreFactor(\"Program\",AO$2),\"\")","v":""},{"$f":"IF(ItineraryPrograms!T34=\"y\",getScoreFactor(\"Program\",AP$2),\"\")","v":""},{"$f":"IF(ItineraryPrograms!U34=\"y\",getScoreFactor(\"Program\",AQ$2),\"\")","v":""},{"$f":"IF(ItineraryPrograms!V34=\"y\",getScoreFactor(\"Program\",AR$2),\"\")","v":""},{"$f":"IF(ItineraryPrograms!W34=\"y\",getScoreFactor(\"Program\",AS$2),\"\")","v":""},{"$f":"IF(ItineraryPrograms!X34=\"y\",getScoreFactor(\"Program\",AT$2),\"\")","v":""},{"$f":"IF(ItineraryPrograms!Y34=\"y\",getScoreFactor(\"Program\",AU$2),\"\")","v":""},{"$f":"IF(ItineraryPrograms!Z34=\"y\",getScoreFactor(\"Program\",AV$2),\"\")","v":""},{"$f":"IF(ItineraryPrograms!AA34=\"y\",getScoreFactor(\"Program\",AW$2),\"\")","v":""},{"$f":"IF(ItineraryPrograms!AB34=\"y\",getScoreFactor(\"Program\",AX$2),\"\")","v":""},{"$f":"IF(ItineraryPrograms!AC34=\"y\",getScoreFactor(\"Program\",AY$2),\"\")","v":""},{"$f":"IF(ItineraryPrograms!AD34=\"y\",getScoreFactor(\"Program\",AZ$2),\"\")","v":""},{"$f":"IF(ItineraryPrograms!AE34=\"y\",getScoreFactor(\"Program\",BA$2),\"\")","v":""},{"$f":"IF(ItineraryPrograms!AF34=\"y\",getScoreFactor(\"Program\",BB$2),\"\")","v":""},{"$f":"IF(ItineraryPrograms!AG34=\"y\",getScoreFactor(\"Program\",BC$2),\"\")","v":""},{"$f":"IF(ItineraryPrograms!AH34=\"y\",getScoreFactor(\"Program\",BD$2),\"\")","v":""},{"$f":"IF(ItineraryPrograms!AI34=\"y\",getScoreFactor(\"Program\",BE$2),\"\")","v":""},{"$f":"IF(ItineraryPrograms!AJ34=\"y\",getScoreFactor(\"Program\",BF$2),\"\")","v":""},{"$f":"IF(ItineraryPrograms!AK34=\"y\",getScoreFactor(\"Program\",BG$2),\"\")","v":""},{"$f":"IF(ItineraryPrograms!AL34=\"y\",getScoreFactor(\"Program\",BH$2),\"\")","v":""},{"$f":"IF(ItineraryPrograms!AM34=\"y\",getScoreFactor(\"Program\",BI$2),\"\")","v":""},{"$f":"IF(ItineraryPrograms!AN34=\"y\",getScoreFactor(\"Program\",BJ$2),\"\")","v":""},{"$f":"IF(ItineraryPrograms!AO34=\"y\",getScoreFactor(\"Program\",BK$2),\"\")","v":""}]
[{"$f":"Itineraries!A35","v":""},0,{"$f":"getScoreFactor(C$2,itineraryCamps!C36)","v":0},{"$f":"getScoreFactor(D$2,\"Miles\") *itineraryCamps!D36","v":0},{"$f":"IF($A35=\"\",\"\",getScoreFactor(E$2,Itineraries!B35))","v":""},{"$f":"IF(A35=\"\",\"\",getScoreFactor(F$2,Itineraries!C35))","v":""},{"$f":"IF(A35=\"\",\"\",getScoreFactor(G$2,Itineraries!E35))","v":""},{"$f":"IF(A35=\"\",\"\",getScoreFactor(H$2,Itineraries!H35))","v":""},{"$f":"IF(A35=\"\",\"\",getScoreFactor(I$2,Itineraries!G35))","v":""},{"$f":"IF(A35=\"\",\"\",getScoreFactor(J$2,Itineraries!J35))","v":""},{"$f":"IF(A35=\"\",\"\",getScoreFactor(K$2,Itineraries!K35))","v":""},{"$f":"IF(A35=\"\",\"\",getScoreFactor(L$2,Itineraries!L35))","v":""},{"$f":"IF(A35=\"\",\"\",IF(INDEX(startingTA,numericItinerary($A35))=$M$2,getScoreFactor(M$2,\"y\"),getScoreFactor(M$2,\"n\")))","v":""},{"$f":"IF(A35=\"\",\"\",IF(INDEX(startingTA,numericItinerary($A35))=$M$2,getScoreFactor(N$2,\"y\"),getScoreFactor(N$2,\"n\")))","v":""},{"$f":"IF(A35=\"\",\"\",IF(INDEX(baldyMountainHike,numericItinerary($A35))=\"\",\"\",getPeakScore(O$2)))","v":""},{"$f":"IF(A35=\"\",\"\",IF(INDEX(mountPhillipsHike,numericItinerary($A35))=\"\",\"\",getPeakScore(P$2)))","v":""},{"$f":"IF(A35=\"\",\"\",IF(INDEX(toothOfTimeHike,numericItinerary($A35))=\"\",\"\",getPeakScore(Q$2)))","v":""},{"$f":"IF(A35=\"\",\"\",IF(INDEX(trailPeakHike,numericItinerary($A35))=\"\",\"\",getPeakScore(R$2)))","v":""},{"$f":"IF(A35=\"\",\"\",IF(INDEX(mountaineeringHike,numericItinerary($A35))=\"\",\"\",getPeakScore(S$2)))","v":""},{"$f":"IF(areaImportant<>\"y\",\"\",IF(Itineraries!P35<>\"Y\",\"\",getareascore(T$2)))","v":""},{"$f":"IF(areaImportant<>\"y\",\"\",IF(Itineraries!Q35<>\"Y\",\"\",getareascore(U$2)))","v":""},{"$f":"IF(areaImportant<>\"y\",\"\",IF(Itineraries!R35<>\"Y\",\"\",getareascore(V$2)))","v":""},{"$f":"IF(areaImportant<>\"y\",\"\",IF(Itineraries!S35<>\"Y\",\"\",getareascore(W$2)))","v":""},{"$f":"IF(ItineraryPrograms!B35=\"y\",getScoreFactor(\"Program\",X$2),\"\")","v":""},{"$f":"IF(ItineraryPrograms!C35=\"y\",getScoreFactor(\"Program\",Y$2),\"\")","v":""},{"$f":"IF(ItineraryPrograms!D35=\"y\",getScoreFactor(\"Program\",Z$2),\"\")","v":""},{"$f":"IF(ItineraryPrograms!E35=\"y\",getScoreFactor(\"Program\",AA$2),\"\")","v":""},{"$f":"IF(ItineraryPrograms!F35=\"y\",getScoreFactor(\"Program\",AB$2),\"\")","v":""},{"$f":"IF(ItineraryPrograms!G35=\"y\",getScoreFactor(\"Program\",AC$2),\"\")","v":""},{"$f":"IF(ItineraryPrograms!H35=\"y\",getScoreFactor(\"Program\",AD$2),\"\")","v":""},{"$f":"IF(ItineraryPrograms!I35=\"y\",getScoreFactor(\"Program\",AE$2),\"\")","v":""},{"$f":"IF(ItineraryPrograms!J35=\"y\",getScoreFactor(\"Program\",AF$2),\"\")","v":""},{"$f":"IF(ItineraryPrograms!K35=\"y\",getScoreFactor(\"Program\",AG$2),\"\")","v":""},{"$f":"IF(ItineraryPrograms!L35=\"y\",getScoreFactor(\"Program\",AH$2),\"\")","v":""},{"$f":"IF(ItineraryPrograms!M35=\"y\",getScoreFactor(\"Program\",AI$2),\"\")","v":""},{"$f":"IF(ItineraryPrograms!N35=\"y\",getScoreFactor(\"Program\",AJ$2),\"\")","v":""},{"$f":"IF(ItineraryPrograms!O35=\"y\",getScoreFactor(\"Program\",AK$2),\"\")","v":""},{"$f":"IF(ItineraryPrograms!P35=\"y\",getScoreFactor(\"Program\",AL$2),\"\")","v":""},{"$f":"IF(ItineraryPrograms!Q35=\"y\",getScoreFactor(\"Program\",AM$2),\"\")","v":""},{"$f":"IF(ItineraryPrograms!R35=\"y\",getScoreFactor(\"Program\",AN$2),\"\")","v":""},{"$f":"IF(ItineraryPrograms!S35=\"y\",getScoreFactor(\"Program\",AO$2),\"\")","v":""},{"$f":"IF(ItineraryPrograms!T35=\"y\",getScoreFactor(\"Program\",AP$2),\"\")","v":""},{"$f":"IF(ItineraryPrograms!U35=\"y\",getScoreFactor(\"Program\",AQ$2),\"\")","v":""},{"$f":"IF(ItineraryPrograms!V35=\"y\",getScoreFactor(\"Program\",AR$2),\"\")","v":""},{"$f":"IF(ItineraryPrograms!W35=\"y\",getScoreFactor(\"Program\",AS$2),\"\")","v":""},{"$f":"IF(ItineraryPrograms!X35=\"y\",getScoreFactor(\"Program\",AT$2),\"\")","v":""},{"$f":"IF(ItineraryPrograms!Y35=\"y\",getScoreFactor(\"Program\",AU$2),\"\")","v":""},{"$f":"IF(ItineraryPrograms!Z35=\"y\",getScoreFactor(\"Program\",AV$2),\"\")","v":""},{"$f":"IF(ItineraryPrograms!AA35=\"y\",getScoreFactor(\"Program\",AW$2),\"\")","v":""},{"$f":"IF(ItineraryPrograms!AB35=\"y\",getScoreFactor(\"Program\",AX$2),\"\")","v":""},{"$f":"IF(ItineraryPrograms!AC35=\"y\",getScoreFactor(\"Program\",AY$2),\"\")","v":""},{"$f":"IF(ItineraryPrograms!AD35=\"y\",getScoreFactor(\"Program\",AZ$2),\"\")","v":""},{"$f":"IF(ItineraryPrograms!AE35=\"y\",getScoreFactor(\"Program\",BA$2),\"\")","v":""},{"$f":"IF(ItineraryPrograms!AF35=\"y\",getScoreFactor(\"Program\",BB$2),\"\")","v":""},{"$f":"IF(ItineraryPrograms!AG35=\"y\",getScoreFactor(\"Program\",BC$2),\"\")","v":""},{"$f":"IF(ItineraryPrograms!AH35=\"y\",getScoreFactor(\"Program\",BD$2),\"\")","v":""},{"$f":"IF(ItineraryPrograms!AI35=\"y\",getScoreFactor(\"Program\",BE$2),\"\")","v":""},{"$f":"IF(ItineraryPrograms!AJ35=\"y\",getScoreFactor(\"Program\",BF$2),\"\")","v":""},{"$f":"IF(ItineraryPrograms!AK35=\"y\",getScoreFactor(\"Program\",BG$2),\"\")","v":""},{"$f":"IF(ItineraryPrograms!AL35=\"y\",getScoreFactor(\"Program\",BH$2),\"\")","v":""},{"$f":"IF(ItineraryPrograms!AM35=\"y\",getScoreFactor(\"Program\",BI$2),\"\")","v":""},{"$f":"IF(ItineraryPrograms!AN35=\"y\",getScoreFactor(\"Program\",BJ$2),\"\")","v":""},{"$f":"IF(ItineraryPrograms!AO35=\"y\",getScoreFactor(\"Program\",BK$2),\"\")","v":""}]
[{"$f":"Itineraries!A36","v":""},0,{"$f":"getScoreFactor(C$2,itineraryCamps!C37)","v":0},{"$f":"getScoreFactor(D$2,\"Miles\") *itineraryCamps!D37","v":0},{"$f":"IF($A36=\"\",\"\",getScoreFactor(E$2,Itineraries!B36))","v":""},{"$f":"IF(A36=\"\",\"\",getScoreFactor(F$2,Itineraries!C36))","v":""},{"$f":"IF(A36=\"\",\"\",getScoreFactor(G$2,Itineraries!E36))","v":""},{"$f":"IF(A36=\"\",\"\",getScoreFactor(H$2,Itineraries!H36))","v":""},{"$f":"IF(A36=\"\",\"\",getScoreFactor(I$2,Itineraries!G36))","v":""},{"$f":"IF(A36=\"\",\"\",getScoreFactor(J$2,Itineraries!J36))","v":""},{"$f":"IF(A36=\"\",\"\",getScoreFactor(K$2,Itineraries!K36))","v":""},{"$f":"IF(A36=\"\",\"\",getScoreFactor(L$2,Itineraries!L36))","v":""},{"$f":"IF(A36=\"\",\"\",IF(INDEX(startingTA,numericItinerary($A36))=$M$2,getScoreFactor(M$2,\"y\"),getScoreFactor(M$2,\"n\")))","v":""},{"$f":"IF(A36=\"\",\"\",IF(INDEX(startingTA,numericItinerary($A36))=$M$2,getScoreFactor(N$2,\"y\"),getScoreFactor(N$2,\"n\")))","v":""},{"$f":"IF(A36=\"\",\"\",IF(INDEX(baldyMountainHike,numericItinerary($A36))=\"\",\"\",getPeakScore(O$2)))","v":""},{"$f":"IF(A36=\"\",\"\",IF(INDEX(mountPhillipsHike,numericItinerary($A36))=\"\",\"\",getPeakScore(P$2)))","v":""},{"$f":"IF(A36=\"\",\"\",IF(INDEX(toothOfTimeHike,numericItinerary($A36))=\"\",\"\",getPeakScore(Q$2)))","v":""},{"$f":"IF(A36=\"\",\"\",IF(INDEX(trailPeakHike,numericItinerary($A36))=\"\",\"\",getPeakScore(R$2)))","v":""},{"$f":"IF(A36=\"\",\"\",IF(INDEX(mountaineeringHike,numericItinerary($A36))=\"\",\"\",getPeakScore(S$2)))","v":""},{"$f":"IF(areaImportant<>\"y\",\"\",IF(Itineraries!P36<>\"Y\",\"\",getareascore(T$2)))","v":""},{"$f":"IF(areaImportant<>\"y\",\"\",IF(Itineraries!Q36<>\"Y\",\"\",getareascore(U$2)))","v":""},{"$f":"IF(areaImportant<>\"y\",\"\",IF(Itineraries!R36<>\"Y\",\"\",getareascore(V$2)))","v":""},{"$f":"IF(areaImportant<>\"y\",\"\",IF(Itineraries!S36<>\"Y\",\"\",getareascore(W$2)))","v":""},{"$f":"IF(ItineraryPrograms!B36=\"y\",getScoreFactor(\"Program\",X$2),\"\")","v":""},{"$f":"IF(ItineraryPrograms!C36=\"y\",getScoreFactor(\"Program\",Y$2),\"\")","v":""},{"$f":"IF(ItineraryPrograms!D36=\"y\",getScoreFactor(\"Program\",Z$2),\"\")","v":""},{"$f":"IF(ItineraryPrograms!E36=\"y\",getScoreFactor(\"Program\",AA$2),\"\")","v":""},{"$f":"IF(ItineraryPrograms!F36=\"y\",getScoreFactor(\"Program\",AB$2),\"\")","v":""},{"$f":"IF(ItineraryPrograms!G36=\"y\",getScoreFactor(\"Program\",AC$2),\"\")","v":""},{"$f":"IF(ItineraryPrograms!H36=\"y\",getScoreFactor(\"Program\",AD$2),\"\")","v":""},{"$f":"IF(ItineraryPrograms!I36=\"y\",getScoreFactor(\"Program\",AE$2),\"\")","v":""},{"$f":"IF(ItineraryPrograms!J36=\"y\",getScoreFactor(\"Program\",AF$2),\"\")","v":""},{"$f":"IF(ItineraryPrograms!K36=\"y\",getScoreFactor(\"Program\",AG$2),\"\")","v":""},{"$f":"IF(ItineraryPrograms!L36=\"y\",getScoreFactor(\"Program\",AH$2),\"\")","v":""},{"$f":"IF(ItineraryPrograms!M36=\"y\",getScoreFactor(\"Program\",AI$2),\"\")","v":""},{"$f":"IF(ItineraryPrograms!N36=\"y\",getScoreFactor(\"Program\",AJ$2),\"\")","v":""},{"$f":"IF(ItineraryPrograms!O36=\"y\",getScoreFactor(\"Program\",AK$2),\"\")","v":""},{"$f":"IF(ItineraryPrograms!P36=\"y\",getScoreFactor(\"Program\",AL$2),\"\")","v":""},{"$f":"IF(ItineraryPrograms!Q36=\"y\",getScoreFactor(\"Program\",AM$2),\"\")","v":""},{"$f":"IF(ItineraryPrograms!R36=\"y\",getScoreFactor(\"Program\",AN$2),\"\")","v":""},{"$f":"IF(ItineraryPrograms!S36=\"y\",getScoreFactor(\"Program\",AO$2),\"\")","v":""},{"$f":"IF(ItineraryPrograms!T36=\"y\",getScoreFactor(\"Program\",AP$2),\"\")","v":""},{"$f":"IF(ItineraryPrograms!U36=\"y\",getScoreFactor(\"Program\",AQ$2),\"\")","v":""},{"$f":"IF(ItineraryPrograms!V36=\"y\",getScoreFactor(\"Program\",AR$2),\"\")","v":""},{"$f":"IF(ItineraryPrograms!W36=\"y\",getScoreFactor(\"Program\",AS$2),\"\")","v":""},{"$f":"IF(ItineraryPrograms!X36=\"y\",getScoreFactor(\"Program\",AT$2),\"\")","v":""},{"$f":"IF(ItineraryPrograms!Y36=\"y\",getScoreFactor(\"Program\",AU$2),\"\")","v":""},{"$f":"IF(ItineraryPrograms!Z36=\"y\",getScoreFactor(\"Program\",AV$2),\"\")","v":""},{"$f":"IF(ItineraryPrograms!AA36=\"y\",getScoreFactor(\"Program\",AW$2),\"\")","v":""},{"$f":"IF(ItineraryPrograms!AB36=\"y\",getScoreFactor(\"Program\",AX$2),\"\")","v":""},{"$f":"IF(ItineraryPrograms!AC36=\"y\",getScoreFactor(\"Program\",AY$2),\"\")","v":""},{"$f":"IF(ItineraryPrograms!AD36=\"y\",getScoreFactor(\"Program\",AZ$2),\"\")","v":""},{"$f":"IF(ItineraryPrograms!AE36=\"y\",getScoreFactor(\"Program\",BA$2),\"\")","v":""},{"$f":"IF(ItineraryPrograms!AF36=\"y\",getScoreFactor(\"Program\",BB$2),\"\")","v":""},{"$f":"IF(ItineraryPrograms!AG36=\"y\",getScoreFactor(\"Program\",BC$2),\"\")","v":""},{"$f":"IF(ItineraryPrograms!AH36=\"y\",getScoreFactor(\"Program\",BD$2),\"\")","v":""},{"$f":"IF(ItineraryPrograms!AI36=\"y\",getScoreFactor(\"Program\",BE$2),\"\")","v":""},{"$f":"IF(ItineraryPrograms!AJ36=\"y\",getScoreFactor(\"Program\",BF$2),\"\")","v":""},{"$f":"IF(ItineraryPrograms!AK36=\"y\",getScoreFactor(\"Program\",BG$2),\"\")","v":""},{"$f":"IF(ItineraryPrograms!AL36=\"y\",getScoreFactor(\"Program\",BH$2),\"\")","v":""},{"$f":"IF(ItineraryPrograms!AM36=\"y\",getScoreFactor(\"Program\",BI$2),\"\")","v":""},{"$f":"IF(ItineraryPrograms!AN36=\"y\",getScoreFactor(\"Program\",BJ$2),\"\")","v":""},{"$f":"IF(ItineraryPrograms!AO36=\"y\",getScoreFactor(\"Program\",BK$2),\"\")","v":""}]
[]
[null,null,{"$f":"\"Distances \"  & MAX(D3:D36)/mileageFactor & \" to \" & MIN(D3:D36)/mileageFactor& \" miles\"","v":"Distances 70 to 0 miles"}]
[]
["Custom Properties"]
["revision","2024_1-0"]
["trekYear","2024"]
["nDays",9]
["nItineraries",15]
["itineraryNoPrefix","9-"]

{"sheet":"Itineraries","index":14,"n_rows":39,"n_cols":19,"rows_kept":39,"cut":false,"hidden":true,"merged":[[0,12,0,14],[0,15,0,18],[37,0,38,0]]}
[null,null,null,null,null,null,null,null,null,null,null,null,"Maps",null,null,"Region"]
["Itinerary","Days Food from Base","Max Days Food","Staffed Camps","Trail Camps","Layovers","Total Camps","Dry Camps","Min Altitude","Max Altitude","Total Gain","Average Daily Change","South","North","Valle Vidal","South","Central","North","Valle Vidal"]
[{"$f":"itineraryCamps!A4","v":"9-1"},{"$f":"IF($A3=\"\",\"\",itineraryCamps!DL4)","v":2},{"$f":"IF($A3=\"\",\"\",itineraryCamps!DM4)","v":2},{"$f":"IF($A3=\"\",\"\",countcamps(itineraryStaff,numericItinerary($A3)))","v":4},{"$f":"IF($A3=\"\",\"\",countcamps(itineraryTrail,numericItinerary($A3)))","v":6},{"$f":"IF($A3=\"\",\"\",countcamps(itineraryLayover,numericItinerary($A3)))","v":2},{"$f":"IF($A3=\"\",\"\",D3+E3-F3)","v":8},{"$f":"IF($A3=\"\",\"\",countcamps(itineraryDry,numericItinerary($A3)))","v":1},{"$f":"IF($A3=\"\",\"\",MIN(itineraryCamps!AK4:AT4))","v":6979},{"$f":"IF($A3=\"\",\"\",MAX(itineraryCamps!AK4:AT4))","v":8515},{"$f":"IF($A3=\"\",\"\",J3-I3)","v":1536},{"$f":"IF($A3=\"\",\"\",AVERAGE(itineraryCamps!AU4:BC4))","v":791.16666666666663},{"$f":"IF($A3=\"\",\"\",contains(M$2,numericItinerary($A3),itineraryMaps))","v":"Y"},{"$f":"IF($A3=\"\",\"\",contains(N$2,numericItinerary($A3),itineraryMaps))","v":"Y"},{"$f":"IF($A3=\"\",\"\",contains(O$2,numericItinerary($A3),itineraryMaps))","v":""},{"$f":"IF($A3=\"\",\"\",contains(P$2,numericItinerary($A3),itineraryCountry))","v":""},{"$f":"IF($A3=\"\",\"\",contains(Q$2,numericItinerary($A3),itineraryCountry))","v":"Y"},{"$f":"IF($A3=\"\",\"\",contains(R$2,numericItinerary($A3),itineraryCountry))","v":"Y"},{"$f":"IF($A3=\"\",\"\",contains(S$2,numericItinerary($A3),itineraryCountry))","v":""}]
[{"$f":"itineraryCamps!A5","v":"9-2"},{"$f":"IF($A4=\"\",\"\",itineraryCamps!DL5)","v":3},{"$f":"IF($A4=\"\",\"\",itineraryCamps!DM5)","v":3},{"$f":"IF($A4=\"\",\"\",countcamps(itineraryStaff,numericItinerary($A4)))","v":3},{"$f":"IF($A4=\"\",\"\",countcamps(itineraryTrail,numericItinerary($A4)))","v":7},{"$f":"IF($A4=\"\",\"\",countcamps(itineraryLayover,numericItinerary($A4)))","v":2},8,{"$f":"IF($A4=\"\",\"\",countcamps(itineraryDry,numericItinerary($A4)))","v":2},{"$f":"IF($A4=\"\",\"\",MIN(itineraryCamps!AK5:AT5))","v":6979},{"$f":"IF($A4=\"\",\"\",MAX(itineraryCamps!AK5:AT5))","v":10750},3771,{"$f":"IF($A4=\"\",\"\",AVERAGE(itineraryCamps!AU5:BC5))","v":1033.5},{"$f":"IF($A4=\"\",\"\",contains(M$2,numericItinerary($A4),itineraryMaps))","v":""},{"$f":"IF($A4=\"\",\"\",contains(N$2,numericItinerary($A4),itineraryMaps))","v":"Y"},{"$f":"IF($A4=\"\",\"\",contains(O$2,numericItinerary($A4),itineraryMaps))","v":""},{"$f":"IF($A4=\"\",\"\",contains(P$2,numericItinerary($A4),itineraryCountry))","v":""},{"$f":"IF($A4=\"\",\"\",contains(Q$2,numericItinerary($A4),itineraryCountry))","v":""},{"$f":"IF($A4=\"\",\"\",contains(R$2,numericItinerary($A4),itineraryCountry))","v":"Y"},{"$f":"IF($A4=\"\",\"\",contains(S$2,numericItinerary($A4),itineraryCountry))","v":""}]
[{"$f":"itineraryCamps!A6","v":"9-3"},{"$f":"IF($A5=\"\",\"\",itineraryCamps!DL6)","v":2},{"$f":"IF($A5=\"\",\"\",itineraryCamps!DM6)","v":2},{"$f":"IF($A5=\"\",\"\",countcamps(itineraryStaff,numericItinerary($A5)))","v":5},{"$f":"IF($A5=\"\",\"\",countcamps(itineraryTrail,numericItinerary($A5)))","v":5},{"$f":"IF($A5=\"\",\"\",countcamps(itineraryLayover,numericItinerary($A5)))","v":3},7,{"$f":"IF($A5=\"\",\"\",countcamps(itineraryDry,numericItinerary($A5)))","v":2},{"$f":"IF($A5=\"\",\"\",MIN(itineraryCamps!AK6:AT6))","v":7977},{"$f":"IF($A5=\"\",\"\",MAX(itineraryCamps!AK6:AT6))","v":11070},3093,{"$f":"IF($A5=\"\",\"\",AVERAGE(itineraryCamps!AU6:BC6))","v":658.33333333333337},{"$f":"IF($A5=\"\",\"\",contains(M$2,numericItinerary($A5),itineraryMaps))","v":"Y"},{"$f":"IF($A5=\"\",\"\",contains(N$2,numericItinerary($A5),itineraryMaps))","v":""},{"$f":"IF($A5=\"\",\"\",contains(O$2,numericItinerary($A5),itineraryMaps))","v":""},{"$f":"IF($A5=\"\",\"\",contains(P$2,numericItinerary($A5),itineraryCountry))","v":"Y"},{"$f":"IF($A5=\"\",\"\",contains(Q$2,numericItinerary($A5),itineraryCountry))","v":"Y"},{"$f":"IF($A5=\"\",\"\",contains(R$2,numericItinerary($A5),itineraryCountry))","v":""},{"$f":"IF($A5=\"\",\"\",contains(S$2,numericItinerary($A5),itineraryCountry))","v":""}]
[{"$f":"itineraryCamps!A7","v":"9-4"},{"$f":"IF($A6=\"\",\"\",itineraryCamps!DL7)","v":2},{"$f":"IF($A6=\"\",\"\",itineraryCamps!DM7)","v":2},{"$f":"IF($A6=\"\",\"\",countcamps(itineraryStaff,numericItinerary($A6)))","v":3},{"$f":"IF($A6=\"\",\"\",countcamps(itineraryTrail,numericItinerary($A6)))","v":7},{"$f":"IF($A6=\"\",\"\",countcamps(itineraryLayover,numericItinerary($A6)))","v":2},8,{"$f":"IF($A6=\"\",\"\",countcamps(itineraryDry,numericItinerary($A6)))","v":2},{"$f":"IF($A6=\"\",\"\",MIN(itineraryCamps!AK7:AT7))","v":7085},{"$f":"IF($A6=\"\",\"\",MAX(itineraryCamps!AK7:AT7))","v":10509},3424,{"$f":"IF($A6=\"\",\"\",AVERAGE(itineraryCamps!AU7:BC7))","v":1072},{"$f":"IF($A6=\"\",\"\",contains(M$2,numericItinerary($A6),itineraryMaps))","v":"Y"},{"$f":"IF($A6=\"\",\"\",contains(N$2,numericItinerary($A6),itineraryMaps))","v":""},{"$f":"IF($A6=\"\",\"\",contains(O$2,numericItinerary($A6),itineraryMaps))","v":""},{"$f":"IF($A6=\"\",\"\",contains(P$2,numericItinerary($A6),itineraryCountry))","v":"Y"},{"$f":"IF($A6=\"\",\"\",contains(Q$2,numericItinerary($A6),itineraryCountry))","v":"Y"},{"$f":"IF($A6=\"\",\"\",contains(R$2,numericItinerary($A6),itineraryCountry))","v":""},{"$f":"IF($A6=\"\",\"\",contains(S$2,numericItinerary($A6),itineraryCountry))","v":""}]
[{"$f":"itineraryCamps!A8","v":"9-5"},{"$f":"IF($A7=\"\",\"\",itineraryCamps!DL8)","v":3},{"$f":"IF($A7=\"\",\"\",itineraryCamps!DM8)","v":3},{"$f":"IF($A7=\"\",\"\",countcamps(itineraryStaff,numericItinerary($A7)))","v":3},{"$f":"IF($A7=\"\",\"\",countcamps(itineraryTrail,numericItinerary($A7)))","v":7},{"$f":"IF($A7=\"\",\"\",countcamps(itineraryLayover,numericItinerary($A7)))","v":3},7,{"$f":"IF($A7=\"\",\"\",countcamps(itineraryDry,numericItinerary($A7)))","v":1},{"$f":"IF($A7=\"\",\"\",MIN(itineraryCamps!AK8:AT8))","v":7150},{"$f":"IF($A7=\"\",\"\",MAX(itineraryCamps!AK8:AT8))","v":10530},3380,{"$f":"IF($A7=\"\",\"\",AVERAGE(itineraryCamps!AU8:BC8))","v":990.5},{"$f":"IF($A7=\"\",\"\",contains(M$2,numericItinerary($A7),itineraryMaps))","v":""},{"$f":"IF($A7=\"\",\"\",contains(N$2,numericItinerary($A7),itineraryMaps))","v":"Y"},{"$f":"IF($A7=\"\",\"\",contains(O$2,numericItinerary($A7),itineraryMaps))","v":""},{"$f":"IF($A7=\"\",\"\",contains(P$2,numericItinerary($A7),itineraryCountry))","v":""},{"$f":"IF($A7=\"\",\"\",contains(Q$2,numericItinerary($A7),itineraryCountry))","v":""},{"$f":"IF($A7=\"\",\"\",contains(R$2,numericItinerary($A7),itineraryCountry))","v":"Y"},{"$f":"IF($A7=\"\",\"\",contains(S$2,numericItinerary($A7),itineraryCountry))","v":"Y"}]
[{"$f":"itineraryCamps!A9","v":"9-6"},{"$f":"IF($A8=\"\",\"\",itineraryCamps!DL9)","v":2},{"$f":"IF($A8=\"\",\"\",itineraryCamps!DM9)","v":4},{"$f":"IF($A8=\"\",\"\",countcamps(itineraryStaff,numericItinerary($A8)))","v":2},{"$f":"IF($A8=\"\",\"\",countcamps(itineraryTrail,numericItinerary($A8)))","v":8},{"$f":"IF($A8=\"\",\"\",countcamps(itineraryLayover,numericItinerary($A8)))","v":3},7,{"$f":"IF($A8=\"\",\"\",countcamps(itineraryDry,numericItinerary($A8)))","v":0},{"$f":"IF($A8=\"\",\"\",MIN(itineraryCamps!AK9:AT9))","v":7373},{"$f":"IF($A8=\"\",\"\",MAX(itineraryCamps!AK9:AT9))","v":9140},1767,{"$f":"IF($A8=\"\",\"\",AVERAGE(itineraryCamps!AU9:BC9))","v":587.5},{"$f":"IF($A8=\"\",\"\",contains(M$2,numericItinerary($A8),itineraryMaps))","v":"Y"},{"$f":"IF($A8=\"\",\"\",contains(N$2,numericItinerary($A8),itineraryMaps))","v":"Y"},{"$f":"IF($A8=\"\",\"\",contains(O$2,numericItinerary($A8),itineraryMaps))","v":""},{"$f":"IF($A8=\"\",\"\",contains(P$2,numericItinerary($A8),itineraryCountry))","v":""},{"$f":"IF($A8=\"\",\"\",contains(Q$2,numericItinerary($A8),itineraryCountry))","v":"Y"},{"$f":"IF($A8=\"\",\"\",contains(R$2,numericItinerary($A8),itineraryCountry))","v":"Y"},{"$f":"IF($A8=\"\",\"\",contains(S$2,numericItinerary($A8),itineraryCountry))","v":""}]
[{"$f":"itineraryCamps!A10","v":"9-7"},{"$f":"IF($A9=\"\",\"\",itineraryCamps!DL10)","v":2},{"$f":"IF($A9=\"\",\"\",itineraryCamps!DM10)","v":2},{"$f":"IF($A9=\"\",\"\",countcamps(itineraryStaff,numericItinerary($A9)))","v":4},{"$f":"IF($A9=\"\",\"\",countcamps(itineraryTrail,numericItinerary($A9)))","v":6},{"$f":"IF($A9=\"\",\"\",countcamps(itineraryLayover,numericItinerary($A9)))","v":3},7,{"$f":"IF($A9=\"\",\"\",countcamps(itineraryDry,numericItinerary($A9)))","v":3},{"$f":"IF($A9=\"\",\"\",MIN(itineraryCamps!AK10:AT10))","v":7105},{"$f":"IF($A9=\"\",\"\",MAX(itineraryCamps!AK10:AT10))","v":10640},3535,{"$f":"IF($A9=\"\",\"\",AVERAGE(itineraryCamps!AU10:BC10))","v":902.83333333333337},{"$f":"IF($A9=\"\",\"\",contains(M$2,numericItinerary($A9),itineraryMaps))","v":""},{"$f":"IF($A9=\"\",\"\",contains(N$2,numericItinerary($A9),itineraryMaps))","v":"Y"},{"$f":"IF($A9=\"\",\"\",contains(O$2,numericItinerary($A9),itineraryMaps))","v":""},{"$f":"IF($A9=\"\",\"\",contains(P$2,numericItinerary($A9),itineraryCountry))","v":""},{"$f":"IF($A9=\"\",\"\",contains(Q$2,numericItinerary($A9),itineraryCountry))","v":""},{"$f":"IF($A9=\"\",\"\",contains(R$2,numericItinerary($A9),itineraryCountry))","v":"Y"},{"$f":"IF($A9=\"\",\"\",contains(S$2,numericItinerary($A9),itineraryCountry))","v":""}]
[{"$f":"itineraryCamps!A11","v":"9-8"},{"$f":"IF($A10=\"\",\"\",itineraryCamps!DL11)","v":2},{"$f":"IF($A10=\"\",\"\",itineraryCamps!DM11)","v":2},{"$f":"IF($A10=\"\",\"\",countcamps(itineraryStaff,numericItinerary($A10)))","v":3},{"$f":"IF($A10=\"\",\"\",countcamps(itineraryTrail,numericItinerary($A10)))","v":7},{"$f":"IF($A10=\"\",\"\",countcamps(itineraryLayover,numericItinerary($A10)))","v":2},8,{"$f":"IF($A10=\"\",\"\",countcamps(itineraryDry,numericItinerary($A10)))","v":1},{"$f":"IF($A10=\"\",\"\",MIN(itineraryCamps!AK11:AT11))","v":7515},{"$f":"IF($A10=\"\",\"\",MAX(itineraryCamps!AK11:AT11))","v":10490},2975,{"$f":"IF($A10=\"\",\"\",AVERAGE(itineraryCamps!AU11:BC11))","v":736.16666666666663},{"$f":"IF($A10=\"\",\"\",contains(M$2,numericItinerary($A10),itineraryMaps))","v":"Y"},{"$f":"IF($A10=\"\",\"\",contains(N$2,numericItinerary($A10),itineraryMaps))","v":""},{"$f":"IF($A10=\"\",\"\",contains(O$2,numericItinerary($A10),itineraryMaps))","v":""},{"$f":"IF($A10=\"\",\"\",contains(P$2,numericItinerary($A10),itineraryCountry))","v":"Y"},{"$f":"IF($A10=\"\",\"\",contains(Q$2,numericItinerary($A10),itineraryCountry))","v":"Y"},{"$f":"IF($A10=\"\",\"\",contains(R$2,numericItinerary($A10),itineraryCountry))","v":""},{"$f":"IF($A10=\"\",\"\",contains(S$2,numericItinerary($A10),itineraryCountry))","v":""}]
[{"$f":"itineraryCamps!A12","v":"9-9"},{"$f":"IF($A11=\"\",\"\",itineraryCamps!DL12)","v":2},{"$f":"IF($A11=\"\",\"\",itineraryCamps!DM12)","v":2},{"$f":"IF($A11=\"\",\"\",countcamps(itineraryStaff,numericItinerary($A11)))","v":2},{"$f":"IF($A11=\"\",\"\",countcamps(itineraryTrail,numericItinerary($A11)))","v":8},{"$f":"IF($A11=\"\",\"\",countcamps(itineraryLayover,numericItinerary($A11)))","v":2},8,{"$f":"IF($A11=\"\",\"\",countcamps(itineraryDry,numericItinerary($A11)))","v":2},{"$f":"IF($A11=\"\",\"\",MIN(itineraryCamps!AK12:AT12))","v":7373},{"$f":"IF($A11=\"\",\"\",MAX(itineraryCamps!AK12:AT12))","v":10750},3377,{"$f":"IF($A11=\"\",\"\",AVERAGE(itineraryCamps!AU12:BC12))","v":1440.1666666666667},{"$f":"IF($A11=\"\",\"\",contains(M$2,numericItinerary($A11),itineraryMaps))","v":"Y"},{"$f":"IF($A11=\"\",\"\",contains(N$2,numericItinerary($A11),itineraryMaps))","v":"Y"},{"$f":"IF($A11=\"\",\"\",contains(O$2,numericItinerary($A11),itineraryMaps))","v":""},{"$f":"IF($A11=\"\",\"\",contains(P$2,numericItinerary($A11),itineraryCountry))","v":""},{"$f":"IF($A11=\"\",\"\",contains(Q$2,numericItinerary($A11),itineraryCountry))","v":"Y"},{"$f":"IF($A11=\"\",\"\",contains(R$2,numericItinerary($A11),itineraryCountry))","v":"Y"},{"$f":"IF($A11=\"\",\"\",contains(S$2,numericItinerary($A11),itineraryCountry))","v":""}]
[{"$f":"itineraryCamps!A13","v":"9-10"},{"$f":"IF($A12=\"\",\"\",itineraryCamps!DL13)","v":2},{"$f":"IF($A12=\"\",\"\",itineraryCamps!DM13)","v":2},{"$f":"IF($A12=\"\",\"\",countcamps(itineraryStaff,numericItinerary($A12)))","v":4},{"$f":"IF($A12=\"\",\"\",countcamps(itineraryTrail,numericItinerary($A12)))","v":6},{"$f":"IF($A12=\"\",\"\",countcamps(itineraryLayover,numericItinerary($A12)))","v":2},8,{"$f":"IF($A12=\"\",\"\",countcamps(itineraryDry,numericItinerary($A12)))","v":1},{"$f":"IF($A12=\"\",\"\",MIN(itineraryCamps!AK13:AT13))","v":7519},{"$f":"IF($A12=\"\",\"\",MAX(itineraryCamps!AK13:AT13))","v":9409},1890,{"$f":"IF($A12=\"\",\"\",AVERAGE(itineraryCamps!AU13:BC13))","v":529},{"$f":"IF($A12=\"\",\"\",contains(M$2,numericItinerary($A12),itineraryMaps))","v":"Y"},{"$f":"IF($A12=\"\",\"\",contains(N$2,numericItinerary($A12),itineraryMaps))","v":""},{"$f":"IF($A12=\"\",\"\",contains(O$2,numericItinerary($A12),itineraryMaps))","v":""},{"$f":"IF($A12=\"\",\"\",contains(P$2,numericItinerary($A12),itineraryCountry))","v":"Y"},{"$f":"IF($A12=\"\",\"\",contains(Q$2,numericItinerary($A12),itineraryCountry))","v":""},{"$f":"IF($A12=\"\",\"\",contains(R$2,numericItinerary($A12),itineraryCountry))","v":""},{"$f":"IF($A12=\"\",\"\",contains(S$2,numericItinerary($A12),itineraryCountry))","v":""}]
[{"$f":"itineraryCamps!A14","v":"9-11"},{"$f":"IF($A13=\"\",\"\",itineraryCamps!DL14)","v":3},{"$f":"IF($A13=\"\",\"\",itineraryCamps!DM14)","v":3},{"$f":"IF($A13=\"\",\"\",countcamps(itineraryStaff,numericItinerary($A13)))","v":4},{"$f":"IF($A13=\"\",\"\",countcamps(itineraryTrail,numericItinerary($A13)))","v":6},{"$f":"IF($A13=\"\",\"\",countcamps(itineraryLayover,numericItinerary($A13)))","v":2},8,{"$f":"IF($A13=\"\",\"\",countcamps(itineraryDry,numericItinerary($A13)))","v":1},{"$f":"IF($A13=\"\",\"\",MIN(itineraryCamps!AK14:AT14))","v":7217},{"$f":"IF($A13=\"\",\"\",MAX(itineraryCamps!AK14:AT14))","v":10280},3063,{"$f":"IF($A13=\"\",\"\",AVERAGE(itineraryCamps!AU14:BC14))","v":769.83333333333337},{"$f":"IF($A13=\"\",\"\",contains(M$2,numericItinerary($A13),itineraryMaps))","v":"Y"},{"$f":"IF($A13=\"\",\"\",contains(N$2,numericItinerary($A13),itineraryMaps))","v":""},{"$f":"IF($A13=\"\",\"\",contains(O$2,numericItinerary($A13),itineraryMaps))","v":""},{"$f":"IF($A13=\"\",\"\",contains(P$2,numericItinerary($A13),itineraryCountry))","v":"Y"},{"$f":"IF($A13=\"\",\"\",contains(Q$2,numericItinerary($A13),itineraryCountry))","v":"Y"},{"$f":"IF($A13=\"\",\"\",contains(R$2,numericItinerary($A13),itineraryCountry))","v":""},{"$f":"IF($A13=\"\",\"\",contains(S$2,numericItinerary($A13),itineraryCountry))","v":""}]
[{"$f":"itineraryCamps!A15","v":"9-12"},{"$f":"IF($A14=\"\",\"\",itineraryCamps!DL15)","v":2},{"$f":"IF($A14=\"\",\"\",itineraryCamps!DM15)","v":2},{"$f":"IF($A14=\"\",\"\",countcamps(itineraryStaff,numericItinerary($A14)))","v":3},{"$f":"IF($A14=\"\",\"\",countcamps(itineraryTrail,numericItinerary($A14)))","v":7},{"$f":"IF($A14=\"\",\"\",countcamps(itineraryLayover,numericItinerary($A14)))","v":2},8,{"$f":"IF($A14=\"\",\"\",countcamps(itineraryDry,numericItinerary($A14)))","v":1},{"$f":"IF($A14=\"\",\"\",MIN(itineraryCamps!AK15:AT15))","v":8058},{"$f":"IF($A14=\"\",\"\",MAX(itineraryCamps!AK15:AT15))","v":11650},3592,{"$f":"IF($A14=\"\",\"\",AVERAGE(itineraryCamps!AU15:BC15))","v":942},{"$f":"IF($A14=\"\",\"\",contains(M$2,numericItinerary($A14),itineraryMaps))","v":"Y"},{"$f":"IF($A14=\"\",\"\",contains(N$2,numericItinerary($A14),itineraryMaps))","v":""},{"$f":"IF($A14=\"\",\"\",contains(O$2,numericItinerary($A14),itineraryMaps))","v":""},{"$f":"IF($A14=\"\",\"\",contains(P$2,numericItinerary($A14),itineraryCountry))","v":"Y"},{"$f":"IF($A14=\"\",\"\",contains(Q$2,numericItinerary($A14),itineraryCountry))","v":"Y"},{"$f":"IF($A14=\"\",\"\",contains(R$2,numericItinerary($A14),itineraryCountry))","v":""},{"$f":"IF($A14=\"\",\"\",contains(S$2,numericItinerary($A14),itineraryCountry))","v":""}]
[{"$f":"itineraryCamps!A16","v":"9-13"},{"$f":"IF($A15=\"\",\"\",itineraryCamps!DL16)","v":2},{"$f":"IF($A15=\"\",\"\",itineraryCamps!DM16)","v":2},{"$f":"IF($A15=\"\",\"\",countcamps(itineraryStaff,numericItinerary($A15)))","v":3},{"$f":"IF($A15=\"\",\"\",countcamps(itineraryTrail,numericItinerary($A15)))","v":7},{"$f":"IF($A15=\"\",\"\",countcamps(itineraryLayover,numericItinerary($A15)))","v":2},8,{"$f":"IF($A15=\"\",\"\",countcamps(itineraryDry,numericItinerary($A15)))","v":3},{"$f":"IF($A15=\"\",\"\",MIN(itineraryCamps!AK16:AT16))","v":7550},{"$f":"IF($A15=\"\",\"\",MAX(itineraryCamps!AK16:AT16))","v":11650},4100,{"$f":"IF($A15=\"\",\"\",AVERAGE(itineraryCamps!AU16:BC16))","v":1230.3333333333333},{"$f":"IF($A15=\"\",\"\",contains(M$2,numericItinerary($A15),itineraryMaps))","v":"Y"},{"$f":"IF($A15=\"\",\"\",contains(N$2,numericItinerary($A15),itineraryMaps))","v":""},{"$f":"IF($A15=\"\",\"\",contains(O$2,numericItinerary($A15),itineraryMaps))","v":""},{"$f":"IF($A15=\"\",\"\",contains(P$2,numericItinerary($A15),itineraryCountry))","v":"Y"},{"$f":"IF($A15=\"\",\"\",contains(Q$2,numericItinerary($A15),itineraryCountry))","v":"Y"},{"$f":"IF($A15=\"\",\"\",contains(R$2,numericItinerary($A15),itineraryCountry))","v":""},{"$f":"IF($A15=\"\",\"\",contains(S$2,numericItinerary($A15),itineraryCountry))","v":""}]
[{"$f":"itineraryCamps!A17","v":"9-14"},{"$f":"IF($A16=\"\",\"\",itineraryCamps!DL17)","v":3},{"$f":"IF($A16=\"\",\"\",itineraryCamps!DM17)","v":3},{"$f":"IF($A16=\"\",\"\",countcamps(itineraryStaff,numericItinerary($A16)))","v":3},{"$f":"IF($A16=\"\",\"\",countcamps(itineraryTrail,numericItinerary($A16)))","v":7},{"$f":"IF($A16=\"\",\"\",countcamps(itineraryLayover,numericItinerary($A16)))","v":3},7,{"$f":"IF($A16=\"\",\"\",countcamps(itineraryDry,numericItinerary($A16)))","v":1},{"$f":"IF($A16=\"\",\"\",MIN(itineraryCamps!AK17:AT17))","v":7550},{"$f":"IF($A16=\"\",\"\",MAX(itineraryCamps!AK17:AT17))","v":9373},1823,{"$f":"IF($A16=\"\",\"\",AVERAGE(itineraryCamps!AU17:BC17))","v":580.16666666666663},{"$f":"IF($A16=\"\",\"\",contains(M$2,numericItinerary($A16),itineraryMaps))","v":"Y"},{"$f":"IF($A16=\"\",\"\",contains(N$2,numericItinerary($A16),itineraryMaps))","v":"Y"},{"$f":"IF($A16=\"\",\"\",contains(O$2,numericItinerary($A16),itineraryMaps))","v":""},{"$f":"IF($A16=\"\",\"\",contains(P$2,numericItinerary($A16),itineraryCountry))","v":""},{"$f":"IF($A16=\"\",\"\",contains(Q$2,numericItinerary($A16),itineraryCountry))","v":"Y"},{"$f":"IF($A16=\"\",\"\",contains(R$2,numericItinerary($A16),itineraryCountry))","v":"Y"},{"$f":"IF($A16=\"\",\"\",contains(S$2,numericItinerary($A16),itineraryCountry))","v":""}]
[{"$f":"itineraryCamps!A18","v":"9-15"},{"$f":"IF($A17=\"\",\"\",itineraryCamps!DL18)","v":4},{"$f":"IF($A17=\"\",\"\",itineraryCamps!DM18)","v":4},{"$f":"IF($A17=\"\",\"\",countcamps(itineraryStaff,numericItinerary($A17)))","v":4},{"$f":"IF($A17=\"\",\"\",countcamps(itineraryTrail,numericItinerary($A17)))","v":6},{"$f":"IF($A17=\"\",\"\",countcamps(itineraryLayover,numericItinerary($A17)))","v":2},8,{"$f":"IF($A17=\"\",\"\",countcamps(itineraryDry,numericItinerary($A17)))","v":1},{"$f":"IF($A17=\"\",\"\",MIN(itineraryCamps!AK18:AT18))","v":7373},{"$f":"IF($A17=\"\",\"\",MAX(itineraryCamps!AK18:AT18))","v":10530},3157,{"$f":"IF($A17=\"\",\"\",AVERAGE(itineraryCamps!AU18:BC18))","v":1901.3333333333333},{"$f":"IF($A17=\"\",\"\",contains(M$2,numericItinerary($A17),itineraryMaps))","v":"Y"},{"$f":"IF($A17=\"\",\"\",contains(N$2,numericItinerary($A17),itineraryMaps))","v":"Y"},{"$f":"IF($A17=\"\",\"\",contains(O$2,numericItinerary($A17),itineraryMaps))","v":""},{"$f":"IF($A17=\"\",\"\",contains(P$2,numericItinerary($A17),itineraryCountry))","v":""},{"$f":"IF($A17=\"\",\"\",contains(Q$2,numericItinerary($A17),itineraryCountry))","v":"Y"},{"$f":"IF($A17=\"\",\"\",contains(R$2,numericItinerary($A17),itineraryCountry))","v":"Y"},{"$f":"IF($A17=\"\",\"\",contains(S$2,numericItinerary($A17),itineraryCountry))","v":""}]
[{"$f":"itineraryCamps!A19","v":""},{"$f":"IF($A18=\"\",\"\",itineraryCamps!DL19)","v":""},{"$f":"IF($A18=\"\",\"\",itineraryCamps!DM19)","v":""},{"$f":"IF($A18=\"\",\"\",countcamps(itineraryStaff,numericItinerary($A18)))","v":""},{"$f":"IF($A18=\"\",\"\",countcamps(itineraryTrail,numericItinerary($A18)))","v":""},{"$f":"IF($A18=\"\",\"\",countcamps(itineraryLayover,numericItinerary($A18)))","v":""},{"$f":"IF($A18=\"\",\"\",D18+E18-F18)","v":""},{"$f":"IF($A18=\"\",\"\",countcamps(itineraryDry,numericItinerary($A18)))","v":""},{"$f":"IF($A18=\"\",\"\",MIN(itineraryCamps!AK19:AT19))","v":""},{"$f":"IF($A18=\"\",\"\",MAX(itineraryCamps!AK19:AT19))","v":""},{"$f":"IF($A18=\"\",\"\",J18-I18)","v":""},{"$f":"IF($A18=\"\",\"\",AVERAGE(itineraryCamps!AU19:BC19))","v":""},{"$f":"IF($A18=\"\",\"\",contains(M$2,numericItinerary($A18),itineraryMaps))","v":""},{"$f":"IF($A18=\"\",\"\",contains(N$2,numericItinerary($A18),itineraryMaps))","v":""},{"$f":"IF($A18=\"\",\"\",contains(O$2,numericItinerary($A18),itineraryMaps))","v":""},{"$f":"IF($A18=\"\",\"\",contains(P$2,numericItinerary($A18),itineraryCountry))","v":""},{"$f":"IF($A18=\"\",\"\",contains(Q$2,numericItinerary($A18),itineraryCountry))","v":""},{"$f":"IF($A18=\"\",\"\",contains(R$2,numericItinerary($A18),itineraryCountry))","v":""},{"$f":"IF($A18=\"\",\"\",contains(S$2,numericItinerary($A18),itineraryCountry))","v":""}]
[{"$f":"itineraryCamps!A20","v":""},{"$f":"IF($A19=\"\",\"\",itineraryCamps!DL20)","v":""},{"$f":"IF($A19=\"\",\"\",itineraryCamps!DM20)","v":""},{"$f":"IF($A19=\"\",\"\",countcamps(itineraryStaff,numericItinerary($A19)))","v":""},{"$f":"IF($A19=\"\",\"\",countcamps(itineraryTrail,numericItinerary($A19)))","v":""},{"$f":"IF($A19=\"\",\"\",countcamps(itineraryLayover,numericItinerary($A19)))","v":""},{"$f":"IF($A19=\"\",\"\",D19+E19-F19)","v":""},{"$f":"IF($A19=\"\",\"\",countcamps(itineraryDry,numericItinerary($A19)))","v":""},{"$f":"IF($A19=\"\",\"\",MIN(itineraryCamps!AK20:AT20))","v":""},{"$f":"IF($A19=\"\",\"\",MAX(itineraryCamps!AK20:AT20))","v":""},{"$f":"IF($A19=\"\",\"\",J19-I19)","v":""},{"$f":"IF($A19=\"\",\"\",AVERAGE(itineraryCamps!AU20:BC20))","v":""},{"$f":"IF($A19=\"\",\"\",contains(M$2,numericItinerary($A19),itineraryMaps))","v":""},{"$f":"IF($A19=\"\",\"\",contains(N$2,numericItinerary($A19),itineraryMaps))","v":""},{"$f":"IF($A19=\"\",\"\",contains(O$2,numericItinerary($A19),itineraryMaps))","v":""},{"$f":"IF($A19=\"\",\"\",contains(P$2,numericItinerary($A19),itineraryCountry))","v":""},{"$f":"IF($A19=\"\",\"\",contains(Q$2,numericItinerary($A19),itineraryCountry))","v":""},{"$f":"IF($A19=\"\",\"\",contains(R$2,numericItinerary($A19),itineraryCountry))","v":""},{"$f":"IF($A19=\"\",\"\",contains(S$2,numericItinerary($A19),itineraryCountry))","v":""}]
[{"$f":"itineraryCamps!A21","v":""},{"$f":"IF($A20=\"\",\"\",itineraryCamps!DL21)","v":""},{"$f":"IF($A20=\"\",\"\",itineraryCamps!DM21)","v":""},{"$f":"IF($A20=\"\",\"\",countcamps(itineraryStaff,numericItinerary($A20)))","v":""},{"$f":"IF($A20=\"\",\"\",countcamps(itineraryTrail,numericItinerary($A20)))","v":""},{"$f":"IF($A20=\"\",\"\",countcamps(itineraryLayover,numericItinerary($A20)))","v":""},"",{"$f":"IF($A20=\"\",\"\",countcamps(itineraryDry,numericItinerary($A20)))","v":""},{"$f":"IF($A20=\"\",\"\",MIN(itineraryCamps!AK21:AT21))","v":""},{"$f":"IF($A20=\"\",\"\",MAX(itineraryCamps!AK21:AT21))","v":""},"",{"$f":"IF($A20=\"\",\"\",AVERAGE(itineraryCamps!AU21:BC21))","v":""},{"$f":"IF($A20=\"\",\"\",contains(M$2,numericItinerary($A20),itineraryMaps))","v":""},{"$f":"IF($A20=\"\",\"\",contains(N$2,numericItinerary($A20),itineraryMaps))","v":""},{"$f":"IF($A20=\"\",\"\",contains(O$2,numericItinerary($A20),itineraryMaps))","v":""},{"$f":"IF($A20=\"\",\"\",contains(P$2,numericItinerary($A20),itineraryCountry))","v":""},{"$f":"IF($A20=\"\",\"\",contains(Q$2,numericItinerary($A20),itineraryCountry))","v":""},{"$f":"IF($A20=\"\",\"\",contains(R$2,numericItinerary($A20),itineraryCountry))","v":""},{"$f":"IF($A20=\"\",\"\",contains(S$2,numericItinerary($A20),itineraryCountry))","v":""}]
[{"$f":"itineraryCamps!A22","v":""},{"$f":"IF($A21=\"\",\"\",itineraryCamps!DL22)","v":""},{"$f":"IF($A21=\"\",\"\",itineraryCamps!DM22)","v":""},{"$f":"IF($A21=\"\",\"\",countcamps(itineraryStaff,numericItinerary($A21)))","v":""},{"$f":"IF($A21=\"\",\"\",countcamps(itineraryTrail,numericItinerary($A21)))","v":""},{"$f":"IF($A21=\"\",\"\",countcamps(itineraryLayover,numericItinerary($A21)))","v":""},"",{"$f":"IF($A21=\"\",\"\",countcamps(itineraryDry,numericItinerary($A21)))","v":""},{"$f":"IF($A21=\"\",\"\",MIN(itineraryCamps!AK22:AT22))","v":""},{"$f":"IF($A21=\"\",\"\",MAX(itineraryCamps!AK22:AT22))","v":""},"",{"$f":"IF($A21=\"\",\"\",AVERAGE(itineraryCamps!AU22:BC22))","v":""},{"$f":"IF($A21=\"\",\"\",contains(M$2,numericItinerary($A21),itineraryMaps))","v":""},{"$f":"IF($A21=\"\",\"\",contains(N$2,numericItinerary($A21),itineraryMaps))","v":""},{"$f":"IF($A21=\"\",\"\",contains(O$2,numericItinerary($A21),itineraryMaps))","v":""},{"$f":"IF($A21=\"\",\"\",contains(P$2,numericItinerary($A21),itineraryCountry))","v":""},{"$f":"IF($A21=\"\",\"\",contains(Q$2,numericItinerary($A21),itineraryCountry))","v":""},{"$f":"IF($A21=\"\",\"\",contains(R$2,numericItinerary($A21),itineraryCountry))","v":""},{"$f":"IF($A21=\"\",\"\",contains(S$2,numericItinerary($A21),itineraryCountry))","v":""}]
[{"$f":"itineraryCamps!A23","v":""},{"$f":"IF($A22=\"\",\"\",itineraryCamps!DL23)","v":""},{"$f":"IF($A22=\"\",\"\",itineraryCamps!DM23)","v":""},{"$f":"IF($A22=\"\",\"\",countcamps(itineraryStaff,numericItinerary($A22)))","v":""},{"$f":"IF($A22=\"\",\"\",countcamps(itineraryTrail,numericItinerary($A22)))","v":""},{"$f":"IF($A22=\"\",\"\",countcamps(itineraryLayover,numericItinerary($A22)))","v":""},"",{"$f":"IF($A22=\"\",\"\",countcamps(itineraryDry,numericItinerary($A22)))","v":""},{"$f":"IF($A22=\"\",\"\",MIN(itineraryCamps!AK23:AT23))","v":""},{"$f":"IF($A22=\"\",\"\",MAX(itineraryCamps!AK23:AT23))","v":""},"",{"$f":"IF($A22=\"\",\"\",AVERAGE(itineraryCamps!AU23:BC23))","v":""},{"$f":"IF($A22=\"\",\"\",contains(M$2,numericItinerary($A22),itineraryMaps))","v":""},{"$f":"IF($A22=\"\",\"\",contains(N$2,numericItinerary($A22),itineraryMaps))","v":""},{"$f":"IF($A22=\"\",\"\",contains(O$2,numericItinerary($A22),itineraryMaps))","v":""},{"$f":"IF($A22=\"\",\"\",contains(P$2,numericItinerary($A22),itineraryCountry))","v":""},{"$f":"IF($A22=\"\",\"\",contains(Q$2,numericItinerary($A22),itineraryCountry))","v":""},{"$f":"IF($A22=\"\",\"\",contains(R$2,numericItinerary($A22),itineraryCountry))","v":""},{"$f":"IF($A22=\"\",\"\",contains(S$2,numericItinerary($A22),itineraryCountry))","v":""}]
[{"$f":"itineraryCamps!A24","v":""},{"$f":"IF($A23=\"\",\"\",itineraryCamps!DL24)","v":""},{"$f":"IF($A23=\"\",\"\",itineraryCamps!DM24)","v":""},{"$f":"IF($A23=\"\",\"\",countcamps(itineraryStaff,numericItinerary($A23)))","v":""},{"$f":"IF($A23=\"\",\"\",countcamps(itineraryTrail,numericItinerary($A23)))","v":""},{"$f":"IF($A23=\"\",\"\",countcamps(itineraryLayover,numericItinerary($A23)))","v":""},"",{"$f":"IF($A23=\"\",\"\",countcamps(itineraryDry,numericItinerary($A23)))","v":""},{"$f":"IF($A23=\"\",\"\",MIN(itineraryCamps!AK24:AT24))","v":""},{"$f":"IF($A23=\"\",\"\",MAX(itineraryCamps!AK24:AT24))","v":""},"",{"$f":"IF($A23=\"\",\"\",AVERAGE(itineraryCamps!AU24:BC24))","v":""},{"$f":"IF($A23=\"\",\"\",contains(M$2,numericItinerary($A23),itineraryMaps))","v":""},{"$f":"IF($A23=\"\",\"\",contains(N$2,numericItinerary($A23),itineraryMaps))","v":""},{"$f":"IF($A23=\"\",\"\",contains(O$2,numericItinerary($A23),itineraryMaps))","v":""},{"$f":"IF($A23=\"\",\"\",contains(P$2,numericItinerary($A23),itineraryCountry))","v":""},{"$f":"IF($A23=\"\",\"\",contains(Q$2,numericItinerary($A23),itineraryCountry))","v":""},{"$f":"IF($A23=\"\",\"\",contains(R$2,numericItinerary($A23),itineraryCountry))","v":""},{"$f":"IF($A23=\"\",\"\",contains(S$2,numericItinerary($A23),itineraryCountry))","v":""}]
[{"$f":"itineraryCamps!A25","v":""},{"$f":"IF($A24=\"\",\"\",itineraryCamps!DL25)","v":""},{"$f":"IF($A24=\"\",\"\",itineraryCamps!DM25)","v":""},{"$f":"IF($A24=\"\",\"\",countcamps(itineraryStaff,numericItinerary($A24)))","v":""},{"$f":"IF($A24=\"\",\"\",countcamps(itineraryTrail,numericItinerary($A24)))","v":""},{"$f":"IF($A24=\"\",\"\",countcamps(itineraryLayover,numericItinerary($A24)))","v":""},"",{"$f":"IF($A24=\"\",\"\",countcamps(itineraryDry,numericItinerary($A24)))","v":""},{"$f":"IF($A24=\"\",\"\",MIN(itineraryCamps!AK25:AT25))","v":""},{"$f":"IF($A24=\"\",\"\",MAX(itineraryCamps!AK25:AT25))","v":""},"",{"$f":"IF($A24=\"\",\"\",AVERAGE(itineraryCamps!AU25:BC25))","v":""},{"$f":"IF($A24=\"\",\"\",contains(M$2,numericItinerary($A24),itineraryMaps))","v":""},{"$f":"IF($A24=\"\",\"\",contains(N$2,numericItinerary($A24),itineraryMaps))","v":""},{"$f":"IF($A24=\"\",\"\",contains(O$2,numericItinerary($A24),itineraryMaps))","v":""},{"$f":"IF($A24=\"\",\"\",contains(P$2,numericItinerary($A24),itineraryCountry))","v":""},{"$f":"IF($A24=\"\",\"\",contains(Q$2,numericItinerary($A24),itineraryCountry))","v":""},{"$f":"IF($A24=\"\",\"\",contains(R$2,numericItinerary($A24),itineraryCountry))","v":""},{"$f":"IF($A24=\"\",\"\",contains(S$2,numericItinerary($A24),itineraryCountry))","v":""}]
[{"$f":"itineraryCamps!A26","v":""},{"$f":"IF($A25=\"\",\"\",itineraryCamps!DL26)","v":""},{"$f":"IF($A25=\"\",\"\",itineraryCamps!DM26)","v":""},{"$f":"IF($A25=\"\",\"\",countcamps(itineraryStaff,numericItinerary($A25)))","v":""},{"$f":"IF($A25=\"\",\"\",countcamps(itineraryTrail,numericItinerary($A25)))","v":""},{"$f":"IF($A25=\"\",\"\",countcamps(itineraryLayover,numericItinerary($A25)))","v":""},"",{"$f":"IF($A25=\"\",\"\",countcamps(itineraryDry,numericItinerary($A25)))","v":""},{"$f":"IF($A25=\"\",\"\",MIN(itineraryCamps!AK26:AT26))","v":""},{"$f":"IF($A25=\"\",\"\",MAX(itineraryCamps!AK26:AT26))","v":""},"",{"$f":"IF($A25=\"\",\"\",AVERAGE(itineraryCamps!AU26:BC26))","v":""},{"$f":"IF($A25=\"\",\"\",contains(M$2,numericItinerary($A25),itineraryMaps))","v":""},{"$f":"IF($A25=\"\",\"\",contains(N$2,numericItinerary($A25),itineraryMaps))","v":""},{"$f":"IF($A25=\"\",\"\",contains(O$2,numericItinerary($A25),itineraryMaps))","v":""},{"$f":"IF($A25=\"\",\"\",contains(P$2,numericItinerary($A25),itineraryCountry))","v":""},{"$f":"IF($A25=\"\",\"\",contains(Q$2,numericItinerary($A25),itineraryCountry))","v":""},{"$f":"IF($A25=\"\",\"\",contains(R$2,numericItinerary($A25),itineraryCountry))","v":""},{"$f":"IF($A25=\"\",\"\",contains(S$2,numericItinerary($A25),itineraryCountry))","v":""}]
[{"$f":"itineraryCamps!A27","v":""},{"$f":"IF($A26=\"\",\"\",itineraryCamps!DL27)","v":""},{"$f":"IF($A26=\"\",\"\",itineraryCamps!DM27)","v":""},{"$f":"IF($A26=\"\",\"\",countcamps(itineraryStaff,numericItinerary($A26)))","v":""},{"$f":"IF($A26=\"\",\"\",countcamps(itineraryTrail,numericItinerary($A26)))","v":""},{"$f":"IF($A26=\"\",\"\",countcamps(itineraryLayover,numericItinerary($A26)))","v":""},"",{"$f":"IF($A26=\"\",\"\",countcamps(itineraryDry,numericItinerary($A26)))","v":""},{"$f":"IF($A26=\"\",\"\",MIN(itineraryCamps!AK27:AT27))","v":""},{"$f":"IF($A26=\"\",\"\",MAX(itineraryCamps!AK27:AT27))","v":""},"",{"$f":"IF($A26=\"\",\"\",AVERAGE(itineraryCamps!AU27:BC27))","v":""},{"$f":"IF($A26=\"\",\"\",contains(M$2,numericItinerary($A26),itineraryMaps))","v":""},{"$f":"IF($A26=\"\",\"\",contains(N$2,numericItinerary($A26),itineraryMaps))","v":""},{"$f":"IF($A26=\"\",\"\",contains(O$2,numericItinerary($A26),itineraryMaps))","v":""},{"$f":"IF($A26=\"\",\"\",contains(P$2,numericItinerary($A26),itineraryCountry))","v":""},{"$f":"IF($A26=\"\",\"\",contains(Q$2,numericItinerary($A26),itineraryCountry))","v":""},{"$f":"IF($A26=\"\",\"\",contains(R$2,numericItinerary($A26),itineraryCountry))","v":""},{"$f":"IF($A26=\"\",\"\",contains(S$2,numericItinerary($A26),itineraryCountry))","v":""}]
[{"$f":"itineraryCamps!A28","v":""},{"$f":"IF($A27=\"\",\"\",itineraryCamps!DL28)","v":""},{"$f":"IF($A27=\"\",\"\",itineraryCamps!DM28)","v":""},{"$f":"IF($A27=\"\",\"\",countcamps(itineraryStaff,numericItinerary($A27)))","v":""},{"$f":"IF($A27=\"\",\"\",countcamps(itineraryTrail,numericItinerary($A27)))","v":""},{"$f":"IF($A27=\"\",\"\",countcamps(itineraryLayover,numericItinerary($A27)))","v":""},"",{"$f":"IF($A27=\"\",\"\",countcamps(itineraryDry,numericItinerary($A27)))","v":""},{"$f":"IF($A27=\"\",\"\",MIN(itineraryCamps!AK28:AT28))","v":""},{"$f":"IF($A27=\"\",\"\",MAX(itineraryCamps!AK28:AT28))","v":""},"",{"$f":"IF($A27=\"\",\"\",AVERAGE(itineraryCamps!AU28:BC28))","v":""},{"$f":"IF($A27=\"\",\"\",contains(M$2,numericItinerary($A27),itineraryMaps))","v":""},{"$f":"IF($A27=\"\",\"\",contains(N$2,numericItinerary($A27),itineraryMaps))","v":""},{"$f":"IF($A27=\"\",\"\",contains(O$2,numericItinerary($A27),itineraryMaps))","v":""},{"$f":"IF($A27=\"\",\"\",contains(P$2,numericItinerary($A27),itineraryCountry))","v":""},{"$f":"IF($A27=\"\",\"\",contains(Q$2,numericItinerary($A27),itineraryCountry))","v":""},{"$f":"IF($A27=\"\",\"\",contains(R$2,numericItinerary($A27),itineraryCountry))","v":""},{"$f":"IF($A27=\"\",\"\",contains(S$2,numericItinerary($A27),itineraryCountry))","v":""}]
[{"$f":"itineraryCamps!A29","v":""},{"$f":"IF($A28=\"\",\"\",itineraryCamps!DL29)","v":""},{"$f":"IF($A28=\"\",\"\",itineraryCamps!DM29)","v":""},{"$f":"IF($A28=\"\",\"\",countcamps(itineraryStaff,numericItinerary($A28)))","v":""},{"$f":"IF($A28=\"\",\"\",countcamps(itineraryTrail,numericItinerary($A28)))","v":""},{"$f":"IF($A28=\"\",\"\",countcamps(itineraryLayover,numericItinerary($A28)))","v":""},"",{"$f":"IF($A28=\"\",\"\",countcamps(itineraryDry,numericItinerary($A28)))","v":""},{"$f":"IF($A28=\"\",\"\",MIN(itineraryCamps!AK29:AT29))","v":""},{"$f":"IF($A28=\"\",\"\",MAX(itineraryCamps!AK29:AT29))","v":""},"",{"$f":"IF($A28=\"\",\"\",AVERAGE(itineraryCamps!AU29:BC29))","v":""},{"$f":"IF($A28=\"\",\"\",contains(M$2,numericItinerary($A28),itineraryMaps))","v":""},{"$f":"IF($A28=\"\",\"\",contains(N$2,numericItinerary($A28),itineraryMaps))","v":""},{"$f":"IF($A28=\"\",\"\",contains(O$2,numericItinerary($A28),itineraryMaps))","v":""},{"$f":"IF($A28=\"\",\"\",contains(P$2,numericItinerary($A28),itineraryCountry))","v":""},{"$f":"IF($A28=\"\",\"\",contains(Q$2,numericItinerary($A28),itineraryCountry))","v":""},{"$f":"IF($A28=\"\",\"\",contains(R$2,numericItinerary($A28),itineraryCountry))","v":""},{"$f":"IF($A28=\"\",\"\",contains(S$2,numericItinerary($A28),itineraryCountry))","v":""}]
[{"$f":"itineraryCamps!A30","v":""},{"$f":"IF($A29=\"\",\"\",itineraryCamps!DL30)","v":""},{"$f":"IF($A29=\"\",\"\",itineraryCamps!DM30)","v":""},{"$f":"IF($A29=\"\",\"\",countcamps(itineraryStaff,numericItinerary($A29)))","v":""},{"$f":"IF($A29=\"\",\"\",countcamps(itineraryTrail,numericItinerary($A29)))","v":""},{"$f":"IF($A29=\"\",\"\",countcamps(itineraryLayover,numericItinerary($A29)))","v":""},"",{"$f":"IF($A29=\"\",\"\",countcamps(itineraryDry,numericItinerary($A29)))","v":""},{"$f":"IF($A29=\"\",\"\",MIN(itineraryCamps!AK30:AT30))","v":""},{"$f":"IF($A29=\"\",\"\",MAX(itineraryCamps!AK30:AT30))","v":""},"",{"$f":"IF($A29=\"\",\"\",AVERAGE(itineraryCamps!AU30:BC30))","v":""},{"$f":"IF($A29=\"\",\"\",contains(M$2,numericItinerary($A29),itineraryMaps))","v":""},{"$f":"IF($A29=\"\",\"\",contains(N$2,numericItinerary($A29),itineraryMaps))","v":""},{"$f":"IF($A29=\"\",\"\",contains(O$2,numericItinerary($A29),itineraryMaps))","v":""},{"$f":"IF($A29=\"\",\"\",contains(P$2,numericItinerary($A29),itineraryCountry))","v":""},{"$f":"IF($A29=\"\",\"\",contains(Q$2,numericItinerary($A29),itineraryCountry))","v":""},{"$f":"IF($A29=\"\",\"\",contains(R$2,numericItinerary($A29),itineraryCountry))","v":""},{"$f":"IF($A29=\"\",\"\",contains(S$2,numericItinerary($A29),itineraryCountry))","v":""}]
[{"$f":"itineraryCamps!A31","v":""},{"$f":"IF($A30=\"\",\"\",itineraryCamps!DL31)","v":""},{"$f":"IF($A30=\"\",\"\",itineraryCamps!DM31)","v":""},{"$f":"IF($A30=\"\",\"\",countcamps(itineraryStaff,numericItinerary($A30)))","v":""},{"$f":"IF($A30=\"\",\"\",countcamps(itineraryTrail,numericItinerary($A30)))","v":""},{"$f":"IF($A30=\"\",\"\",countcamps(itineraryLayover,numericItinerary($A30)))","v":""},"",{"$f":"IF($A30=\"\",\"\",countcamps(itineraryDry,numericItinerary($A30)))","v":""},{"$f":"IF($A30=\"\",\"\",MIN(itineraryCamps!AK31:AT31))","v":""},{"$f":"IF($A30=\"\",\"\",MAX(itineraryCamps!AK31:AT31))","v":""},"",{"$f":"IF($A30=\"\",\"\",AVERAGE(itineraryCamps!AU31:BC31))","v":""},{"$f":"IF($A30=\"\",\"\",contains(M$2,numericItinerary($A30),itineraryMaps))","v":""},{"$f":"IF($A30=\"\",\"\",contains(N$2,numericItinerary($A30),itineraryMaps))","v":""},{"$f":"IF($A30=\"\",\"\",contains(O$2,numericItinerary($A30),itineraryMaps))","v":""},{"$f":"IF($A30=\"\",\"\",contains(P$2,numericItinerary($A30),itineraryCountry))","v":""},{"$f":"IF($A30=\"\",\"\",contains(Q$2,numericItinerary($A30),itineraryCountry))","v":""},{"$f":"IF($A30=\"\",\"\",contains(R$2,numericItinerary($A30),itineraryCountry))","v":""},{"$f":"IF($A30=\"\",\"\",contains(S$2,numericItinerary($A30),itineraryCountry))","v":""}]
[{"$f":"itineraryCamps!A32","v":""},{"$f":"IF($A31=\"\",\"\",itineraryCamps!DL32)","v":""},{"$f":"IF($A31=\"\",\"\",itineraryCamps!DM32)","v":""},{"$f":"IF($A31=\"\",\"\",countcamps(itineraryStaff,numericItinerary($A31)))","v":""},{"$f":"IF($A31=\"\",\"\",countcamps(itineraryTrail,numericItinerary($A31)))","v":""},{"$f":"IF($A31=\"\",\"\",countcamps(itineraryLayover,numericItinerary($A31)))","v":""},"",{"$f":"IF($A31=\"\",\"\",countcamps(itineraryDry,numericItinerary($A31)))","v":""},{"$f":"IF($A31=\"\",\"\",MIN(itineraryCamps!AK32:AT32))","v":""},{"$f":"IF($A31=\"\",\"\",MAX(itineraryCamps!AK32:AT32))","v":""},"",{"$f":"IF($A31=\"\",\"\",AVERAGE(itineraryCamps!AU32:BC32))","v":""},{"$f":"IF($A31=\"\",\"\",contains(M$2,numericItinerary($A31),itineraryMaps))","v":""},{"$f":"IF($A31=\"\",\"\",contains(N$2,numericItinerary($A31),itineraryMaps))","v":""},{"$f":"IF($A31=\"\",\"\",contains(O$2,numericItinerary($A31),itineraryMaps))","v":""},{"$f":"IF($A31=\"\",\"\",contains(P$2,numericItinerary($A31),itineraryCountry))","v":""},{"$f":"IF($A31=\"\",\"\",contains(Q$2,numericItinerary($A31),itineraryCountry))","v":""},{"$f":"IF($A31=\"\",\"\",contains(R$2,numericItinerary($A31),itineraryCountry))","v":""},{"$f":"IF($A31=\"\",\"\",contains(S$2,numericItinerary($A31),itineraryCountry))","v":""}]
[{"$f":"itineraryCamps!A33","v":""},{"$f":"IF($A32=\"\",\"\",itineraryCamps!DL33)","v":""},{"$f":"IF($A32=\"\",\"\",itineraryCamps!DM33)","v":""},{"$f":"IF($A32=\"\",\"\",countcamps(itineraryStaff,numericItinerary($A32)))","v":""},{"$f":"IF($A32=\"\",\"\",countcamps(itineraryTrail,numericItinerary($A32)))","v":""},{"$f":"IF($A32=\"\",\"\",countcamps(itineraryLayover,numericItinerary($A32)))","v":""},"",{"$f":"IF($A32=\"\",\"\",countcamps(itineraryDry,numericItinerary($A32)))","v":""},{"$f":"IF($A32=\"\",\"\",MIN(itineraryCamps!AK33:AT33))","v":""},{"$f":"IF($A32=\"\",\"\",MAX(itineraryCamps!AK33:AT33))","v":""},"",{"$f":"IF($A32=\"\",\"\",AVERAGE(itineraryCamps!AU33:BC33))","v":""},{"$f":"IF($A32=\"\",\"\",contains(M$2,numericItinerary($A32),itineraryMaps))","v":""},{"$f":"IF($A32=\"\",\"\",contains(N$2,numericItinerary($A32),itineraryMaps))","v":""},{"$f":"IF($A32=\"\",\"\",contains(O$2,numericItinerary($A32),itineraryMaps))","v":""},{"$f":"IF($A32=\"\",\"\",contains(P$2,numericItinerary($A32),itineraryCountry))","v":""},{"$f":"IF($A32=\"\",\"\",contains(Q$2,numericItinerary($A32),itineraryCountry))","v":""},{"$f":"IF($A32=\"\",\"\",contains(R$2,numericItinerary($A32),itineraryCountry))","v":""},{"$f":"IF($A32=\"\",\"\",contains(S$2,numericItinerary($A32),itineraryCountry))","v":""}]
[{"$f":"itineraryCamps!A34","v":""},{"$f":"IF($A33=\"\",\"\",itineraryCamps!DL34)","v":""},{"$f":"IF($A33=\"\",\"\",itineraryCamps!DM34)","v":""},{"$f":"IF($A33=\"\",\"\",countcamps(itineraryStaff,numericItinerary($A33)))","v":""},{"$f":"IF($A33=\"\",\"\",countcamps(itineraryTrail,numericItinerary($A33)))","v":""},{"$f":"IF($A33=\"\",\"\",countcamps(itineraryLayover,numericItinerary($A33)))","v":""},"",{"$f":"IF($A33=\"\",\"\",countcamps(itineraryDry,numericItinerary($A33)))","v":""},{"$f":"IF($A33=\"\",\"\",MIN(itineraryCamps!AK34:AT34))","v":""},{"$f":"IF($A33=\"\",\"\",MAX(itineraryCamps!AK34:AT34))","v":""},"",{"$f":"IF($A33=\"\",\"\",AVERAGE(itineraryCamps!AU34:BC34))","v":""},{"$f":"IF($A33=\"\",\"\",contains(M$2,numericItinerary($A33),itineraryMaps))","v":""},{"$f":"IF($A33=\"\",\"\",contains(N$2,numericItinerary($A33),itineraryMaps))","v":""},{"$f":"IF($A33=\"\",\"\",contains(O$2,numericItinerary($A33),itineraryMaps))","v":""},{"$f":"IF($A33=\"\",\"\",contains(P$2,numericItinerary($A33),itineraryCountry))","v":""},{"$f":"IF($A33=\"\",\"\",contains(Q$2,numericItinerary($A33),itineraryCountry))","v":""},{"$f":"IF($A33=\"\",\"\",contains(R$2,numericItinerary($A33),itineraryCountry))","v":""},{"$f":"IF($A33=\"\",\"\",contains(S$2,numericItinerary($A33),itineraryCountry))","v":""}]
[{"$f":"itineraryCamps!A35","v":""},{"$f":"IF($A34=\"\",\"\",itineraryCamps!DL35)","v":""},{"$f":"IF($A34=\"\",\"\",itineraryCamps!DM35)","v":""},{"$f":"IF($A34=\"\",\"\",countcamps(itineraryStaff,numericItinerary($A34)))","v":""},{"$f":"IF($A34=\"\",\"\",countcamps(itineraryTrail,numericItinerary($A34)))","v":""},{"$f":"IF($A34=\"\",\"\",countcamps(itineraryLayover,numericItinerary($A34)))","v":""},"",{"$f":"IF($A34=\"\",\"\",countcamps(itineraryDry,numericItinerary($A34)))","v":""},{"$f":"IF($A34=\"\",\"\",MIN(itineraryCamps!AK35:AT35))","v":""},{"$f":"IF($A34=\"\",\"\",MAX(itineraryCamps!AK35:AT35))","v":""},"",{"$f":"IF($A34=\"\",\"\",AVERAGE(itineraryCamps!AU35:BC35))","v":""},{"$f":"IF($A34=\"\",\"\",contains(M$2,numericItinerary($A34),itineraryMaps))","v":""},{"$f":"IF($A34=\"\",\"\",contains(N$2,numericItinerary($A34),itineraryMaps))","v":""},{"$f":"IF($A34=\"\",\"\",contains(O$2,numericItinerary($A34),itineraryMaps))","v":""},{"$f":"IF($A34=\"\",\"\",contains(P$2,numericItinerary($A34),itineraryCountry))","v":""},{"$f":"IF($A34=\"\",\"\",contains(Q$2,numericItinerary($A34),itineraryCountry))","v":""},{"$f":"IF($A34=\"\",\"\",contains(R$2,numericItinerary($A34),itineraryCountry))","v":""},{"$f":"IF($A34=\"\",\"\",contains(S$2,numericItinerary($A34),itineraryCountry))","v":""}]
[{"$f":"itineraryCamps!A36","v":""},{"$f":"IF($A35=\"\",\"\",itineraryCamps!DL36)","v":""},{"$f":"IF($A35=\"\",\"\",itineraryCamps!DM36)","v":""},{"$f":"IF($A35=\"\",\"\",countcamps(itineraryStaff,numericItinerary($A35)))","v":""},{"$f":"IF($A35=\"\",\"\",countcamps(itineraryTrail,numericItinerary($A35)))","v":""},{"$f":"IF($A35=\"\",\"\",countcamps(itineraryLayover,numericItinerary($A35)))","v":""},"",{"$f":"IF($A35=\"\",\"\",countcamps(itineraryDry,numericItinerary($A35)))","v":""},{"$f":"IF($A35=\"\",\"\",MIN(itineraryCamps!AK36:AT36))","v":""},{"$f":"IF($A35=\"\",\"\",MAX(itineraryCamps!AK36:AT36))","v":""},"",{"$f":"IF($A35=\"\",\"\",AVERAGE(itineraryCamps!AU36:BC36))","v":""},{"$f":"IF($A35=\"\",\"\",contains(M$2,numericItinerary($A35),itineraryMaps))","v":""},{"$f":"IF($A35=\"\",\"\",contains(N$2,numericItinerary($A35),itineraryMaps))","v":""},{"$f":"IF($A35=\"\",\"\",contains(O$2,numericItinerary($A35),itineraryMaps))","v":""},{"$f":"IF($A35=\"\",\"\",contains(P$2,numericItinerary($A35),itineraryCountry))","v":""},{"$f":"IF($A35=\"\",\"\",contains(Q$2,numericItinerary($A35),itineraryCountry))","v":""},{"$f":"IF($A35=\"\",\"\",contains(R$2,numericItinerary($A35),itineraryCountry))","v":""},{"$f":"IF($A35=\"\",\"\",contains(S$2,numericItinerary($A35),itineraryCountry))","v":""}]
[{"$f":"itineraryCamps!A37","v":""},{"$f":"IF($A36=\"\",\"\",itineraryCamps!DL37)","v":""},{"$f":"IF($A36=\"\",\"\",itineraryCamps!DM37)","v":""},{"$f":"IF($A36=\"\",\"\",countcamps(itineraryStaff,numericItinerary($A36)))","v":""},{"$f":"IF($A36=\"\",\"\",countcamps(itineraryTrail,numericItinerary($A36)))","v":""},{"$f":"IF($A36=\"\",\"\",countcamps(itineraryLayover,numericItinerary($A36)))","v":""},"",{"$f":"IF($A36=\"\",\"\",countcamps(itineraryDry,numericItinerary($A36)))","v":""},{"$f":"IF($A36=\"\",\"\",MIN(itineraryCamps!AK37:AT37))","v":""},{"$f":"IF($A36=\"\",\"\",MAX(itineraryCamps!AK37:AT37))","v":""},"",{"$f":"IF($A36=\"\",\"\",AVERAGE(itineraryCamps!AU37:BC37))","v":""},{"$f":"IF($A36=\"\",\"\",contains(M$2,numericItinerary($A36),itineraryMaps))","v":""},{"$f":"IF($A36=\"\",\"\",contains(N$2,numericItinerary($A36),itineraryMaps))","v":""},{"$f":"IF($A36=\"\",\"\",contains(O$2,numericItinerary($A36),itineraryMaps))","v":""},{"$f":"IF($A36=\"\",\"\",contains(P$2,numericItinerary($A36),itineraryCountry))","v":""},{"$f":"IF($A36=\"\",\"\",contains(Q$2,numericItinerary($A36),itineraryCountry))","v":""},{"$f":"IF($A36=\"\",\"\",contains(R$2,numericItinerary($A36),itineraryCountry))","v":""},{"$f":"IF($A36=\"\",\"\",contains(S$2,numericItinerary($A36),itineraryCountry))","v":""}]
[]
["Min/Max nCamps",{"$f":"MIN(B3:B36)","v":2},2,2,5,2,7,0]
[null,{"$f":"MAX(B3:B36)","v":4},4,5,8,3,8,3]

{"sheet":"Programs","index":15,"n_rows":41,"n_cols":5,"rows_kept":41,"cut":false,"hidden":true,"merged":[]}
["#","Programs",null,"nPrograms",{"$f":"MAX(A:A)","v":40}]
[{"$f":"ROW()-1","v":1},"Archaeology"]
[{"$f":"ROW()-1","v":2},"Archery - 3 Dimensional"]
[3,"Atlatl (Dart-throwing)"]
[4,"Baldy Mountain"]
[5,"Blacksmithing"]
[6,"Campfire (evening)"]
[7,"Cantina"]
[8,"Challenge Events"]
[9,"Chuckwagon Dinner"]
[10,"Demonstration Forest"]
[11,"Fishing"]
[12,"Fly Tying"]
[13,"Fur Trapper Rendezvous"]
[14,"Gold Mining & Panning"]
[15,"Homesteading"]
[16,"Horse Rides"]
[17,"Hunter Safety"]
[18,"Inspiration Point Hike"]
[19,"Jicarilla Apache Life"]
[20,"Laser Shot Shooting Range"]
[21,"Lodge/Cabin Tours"]
[22,"Low Impact Camping"]
[23,"Mine Tour"]
[24,"Mount Phillips"]
[25,"Mountaineering"]
[26,"Muzzle Loading Rifle"]
[27,"New Mexico Homestead"]
[28,"Petroglyph Tour"]
[29,"Post Civil War Encampment"]
[30,"Railroading"]
[31,"Rock Climbing & Rappelling"]
[32,"Rocky Mountain Fur Co."]
[33,"Shooting/Reloading - .30-06"]
[34,"Shotgun Shooting/Reloading - 12 Gauge"]
[35,"Spar Pole Climbing"]
[36,"Tie Making & Crosscut Saws"]
[37,"Tomahawk Throwing"]
[38,"Tooth of Time"]
[39,"Trail Peak"]
[40,"Western Lore/Branding"]

{"sheet":"Camp Programs","index":16,"n_rows":53,"n_cols":52,"rows_kept":53,"cut":false,"hidden":true,"merged":[[0,0,1,0],[0,1,1,1]]}
["These are the programs available at camps.  Used to create the default programs for itineraries in itineraryPrograms worksheet.\n\n\nStaffed Camp","# Programs",1,{"$f":"C1+1","v":2},{"$f":"D1+1","v":3},4,5,6,7,8,9,10,11,12,13,14,15,16,17,18,19,20,21,22,23,24,25,26,27,28,29,30,31,32,33,{"$f":"AI1+1","v":34},35,36,37,38,39,40,41,42,43,{"$f":"AS1+1","v":44},45,{"$f":"AU1+1","v":46},{"$f":"AV1+1","v":47},{"$f":"AW1+1","v":48},{"$f":"AX1+1","v":49},50]
[null,null,{"$f":"INDEX(program_table,C1)","v":"Archaeology"},{"$f":"INDEX(program_table,D1)","v":"Archery - 3 Dimensional"},{"$f":"INDEX(program_table,E1)","v":"Atlatl (Dart-throwing)"},{"$f":"INDEX(program_table,F1)","v":"Baldy Mountain"},{"$f":"INDEX(program_table,G1)","v":"Blacksmithing"},{"$f":"INDEX(program_table,H1)","v":"Campfire (evening)"},{"$f":"INDEX(program_table,I1)","v":"Cantina"},{"$f":"INDEX(program_table,J1)","v":"Challenge Events"},{"$f":"INDEX(program_table,K1)","v":"Chuckwagon Dinner"},{"$f":"INDEX(program_table,L1)","v":"Demonstration Forest"},{"$f":"INDEX(program_table,M1)","v":"Fishing"},{"$f":"INDEX(program_table,N1)","v":"Fly Tying"},{"$f":"INDEX(program_table,O1)","v":"Fur Trapper Rendezvous"},{"$f":"INDEX(program_table,P1)","v":"Gold Mining & Panning"},{"$f":"INDEX(program_table,Q1)","v":"Homesteading"},{"$f":"INDEX(program_table,R1)","v":"Horse Rides"},{"$f":"INDEX(program_table,S1)","v":"Hunter Safety"},{"$f":"INDEX(program_table,T1)","v":"Inspiration Point Hike"},{"$f":"INDEX(program_table,U1)","v":"Jicarilla Apache Life"},{"$f":"INDEX(program_table,V1)","v":"Laser Shot Shooting Range"},{"$f":"INDEX(program_table,W1)","v":"Lodge/Cabin Tours"},{"$f":"INDEX(program_table,X1)","v":"Low Impact Camping"},{"$f":"INDEX(program_table,Y1)","v":"Mine Tour"},{"$f":"INDEX(program_table,Z1)","v":"Mount Phillips"},{"$f":"INDEX(program_table,AA1)","v":"Mountaineering"},{"$f":"INDEX(program_table,AB1)","v":"Muzzle Loading Rifle"},{"$f":"INDEX(program_table,AC1)","v":"New Mexico Homestead"},{"$f":"INDEX(program_table,AD1)","v":"Petroglyph Tour"},{"$f":"INDEX(program_table,AE1)","v":"Post Civil War Encampment"},{"$f":"INDEX(program_table,AF1)","v":"Railroading"},{"$f":"INDEX(program_table,AG1)","v":"Rock Climbing & Rappelling"},{"$f":"INDEX(program_table,AH1)","v":"Rocky Mountain Fur Co."},{"$f":"INDEX(program_table,AI1)","v":"Shooting/Reloading - .30-06"},{"$f":"INDEX(program_table,AJ1)","v":"Shotgun Shooting/Reloading - 12 Gauge"},{"$f":"INDEX(program_table,AK1)","v":"Spar Pole Climbing"},{"$f":"INDEX(program_table,AL1)","v":"Tie Making & Crosscut Saws"},{"$f":"INDEX(program_table,AM1)","v":"Tomahawk Throwing"},{"$f":"INDEX(program_table,AN1)","v":"Tooth of Time"},{"$f":"INDEX(program_table,AO1)","v":"Trail Peak"},{"$f":"INDEX(program_table,AP1)","v":"Western Lore/Branding"},{"$f":"INDEX(program_table,AQ1)","v":{"$error":"#REF!"}},{"$f":"INDEX(program_table,AR1)","v":{"$error":"#REF!"}},{"$f":"INDEX(program_table,AS1)","v":{"$error":"#REF!"}},{"$f":"INDEX(program_table,AT1)","v":{"$error":"#REF!"}},{"$f":"INDEX(program_table,AU1)","v":{"$error":"#REF!"}},{"$f":"INDEX(program_table,AV1)","v":{"$error":"#REF!"}},{"$f":"INDEX(program_table,AW1)","v":{"$error":"#REF!"}},{"$f":"INDEX(program_table,AX1)","v":{"$error":"#REF!"}},{"$f":"INDEX(program_table,AY1)","v":{"$error":"#REF!"}},{"$f":"INDEX(program_table,AZ1)","v":{"$error":"#REF!"}}]
["Abreu",{"$f":"COUNTIF(C3:AZ3,\"y\")","v":4},null,null,null,null,null,null,null,null,null,"y",null,null,null,null,null,null,null,null,null,null,null,null,null,null,null,null,null,"y",null,"y",null,null,null,null,null,"y"]
["Anasazi",0]
["Apache Springs",2,null,"y",null,null,null,null,null,null,null,null,null,null,null,null,null,null,null,null,null,null,null,null,null,null,"y"]
["Baldy Town",0]
["Beaubien",4,null,null,null,null,null,null,null,null,"y",null,null,"y",null,null,null,null,null,null,null,null,null,"y",null,null,null,null,null,null,null,null,null,null,null,null,null,null,null,null,null,null,null,null,null,null,null,null,null,null,null,"y"]
["Beatty Lakes",1,null,null,null,null,null,null,null,null,null,null,null,null,null,null,null,null,null,null,null,null,null,null,null,null,null,null,null,null,"y"]
["Black Mountain",3,null,null,null,null,null,"y",null,null,null,null,null,null,null,null,null,null,null,null,null,null,null,null,null,null,null,null,null,null,null,null,null,null,null,null,"y",null,null,"y"]
["Carson Meadows",2,null,null,null,null,null,null,null,null,null,null,null,null,null,null,null,null,"y",null,null,null,null,null,null,null,null,null,null,null,null,null,null,null,null,null,null,null,null,null,null,null,null,"y"]
["Chase Cow",2,null,null,null,null,null,null,"y",null,null,null,null,null,null,null,null,null,null,null,null,null,null,null,null,null,null,null,null,null,null,null,null,null,null,null,null,null,null,null,null,"y"]
["Chase Ranch",1,null,null,null,null,null,null,null,null,null,null,null,null,null,null,null,null,null,null,null,"y"]
["Cimarroncita",3,null,"y",null,null,null,null,null,null,null,null,null,null,null,null,null,null,null,null,null,null,null,null,"y",null,null,null,"y"]
["Cimarroncito",1,null,null,null,null,null,null,null,null,null,null,null,null,null,null,null,null,null,null,null,null,null,null,null,null,null,null,null,null,null,null,null,null,null,null,null,null,null,null,null,"y"]
["Clarks Fork",4,null,null,null,null,null,null,null,null,"y",null,null,"y",null,null,null,null,null,null,null,null,null,"y",null,null,null,null,null,null,null,null,null,null,null,null,null,null,null,null,null,null,null,null,null,null,null,null,null,null,null,"y"]
["Clear Creek",3,null,null,null,null,null,null,null,null,null,null,null,null,null,null,null,null,null,null,null,null,null,null,null,null,null,null,null,null,null,null,null,null,null,null,"y",null,null,null,null,null,"y",null,null,null,null,null,"y"]
["COPE Course",1,null,null,null,null,null,null,null,null,null,null,null,null,null,null,null,null,null,null,"y"]
["Crater Lake",3,null,null,null,null,null,null,null,null,"y",null,null,null,null,null,null,null,null,null,null,null,null,null,null,null,null,null,null,null,null,null,null,null,null,null,null,null,null,null,null,null,null,null,null,null,"y","y"]
["Crooked Creek",2,null,null,null,null,null,null,null,null,null,null,null,null,null,null,null,null,null,null,null,null,"y",null,null,null,null,null,null,"y"]
["Cyphers Mine",4,null,null,null,null,null,"y",null,null,"y",null,null,null,null,null,null,null,null,"y",null,null,null,null,null,null,null,null,null,null,null,null,"y"]
["Dan Beard",1,null,null,null,null,null,null,null,null,null,null,"y"]
["Dean Cow",0]
["Demonstration Forest",1,null,null,null,null,null,null,null,null,null,null,null,null,null,"y"]
["Fish Camp",3,null,null,null,null,null,null,null,null,null,null,null,null,null,null,"y","y",null,null,null,null,null,null,null,null,null,null,null,"y"]
["French Henry",3,null,null,null,null,null,"y",null,null,null,null,null,null,null,null,null,null,null,"y",null,null,null,null,null,null,null,null,null,null,null,null,"y"]
["Garcia Cow",0]
["Greenwood Canyon",1,null,null,null,null,null,null,null,null,null,null,null,null,null,null,null,null,null,null,null,null,null,null,null,null,null,null,null,null,"y"]
["Harlan",1,null,null,null,null,null,null,null,null,null,null,null,null,null,null,null,null,null,null,null,null,null,null,null,null,null,null,null,null,null,null,null,null,null,null,null,null,null,null,null,null,null,null,null,"y"]
["Head of Dean",1,null,null,null,null,null,null,null,null,null,null,"y"]
["Hunting Lodge",2,null,null,null,null,null,null,null,null,null,null,null,null,null,null,"y",null,null,null,null,null,null,null,null,null,null,null,null,"y"]
["Indian Writings",3,"y",null,null,"y",null,null,null,null,null,null,null,null,null,null,null,null,null,null,null,null,null,null,null,null,null,null,null,null,null,null,null,null,null,null,null,null,"y"]
["Iris Park",1,null,null,null,null,null,null,null,null,null,null,null,null,null,null,null,null,null,null,null,null,null,null,null,null,null,null,null,null,"y"]
["Kit Carson",0]
["Little Costilla",1,null,null,null,null,null,null,null,null,null,null,null,null,null,null,null,null,null,null,null,null,null,null,null,null,null,null,null,null,"y"]
["Miners Park",{"$f":"COUNTIF(C35:AZ35,\"y\")","v":1},null,null,null,null,null,null,null,null,null,null,null,null,null,null,null,null,null,null,null,null,null,null,null,null,null,null,null,null,null,null,null,null,null,null,null,null,null,null,null,"y"]
["Metcalf Station",3,null,null,null,null,null,"y",null,null,"y",null,null,null,null,null,null,null,null,null,null,null,null,null,null,null,null,null,null,null,null,null,null,null,null,null,null,null,null,null,"y"]
["Middle Ponil",1,null,null,null,null,null,null,null,null,null,null,null,null,null,null,null,null,null,null,null,null,null,null,null,null,null,null,null,null,"y"]
["Miranda",3,null,null,null,null,null,null,null,"y",null,null,null,null,null,null,null,null,null,null,null,null,null,null,null,null,null,null,null,null,null,null,null,null,null,null,"y",null,null,null,null,null,null,null,null,null,null,null,"y"]
["Phillips Junction",1,null,null,null,null,null,null,null,null,null,null,null,null,null,null,null,null,null,null,null,null,null,null,null,null,null,null,null,null,"y"]
["Ponil",7,null,null,null,null,null,null,null,"y","y","y",null,"y","y",null,null,null,null,null,null,null,null,"y",null,null,null,null,null,null,null,null,null,null,null,null,null,null,null,null,null,null,null,null,null,null,null,null,null,null,null,"y"]
["Pueblano",3,null,null,null,null,null,null,null,null,"y",null,null,null,null,null,null,null,null,null,null,null,null,null,null,null,null,null,null,null,null,null,null,null,null,null,null,null,null,null,null,null,null,null,null,null,"y","y"]
["Rayado",3,null,null,null,null,null,"y",null,null,null,null,null,null,null,null,null,null,null,null,null,null,null,null,null,null,null,"y",null,null,null,null,null,null,null,null,null,null,null,null,null,null,null,null,null,null,null,null,"y"]
["Rich Cabins",4,null,null,null,null,null,null,null,null,"y",null,null,null,null,null,null,null,null,null,null,null,"y",null,null,null,null,null,null,"y","y"]
["Ring Place",3,null,null,"y",null,null,null,null,null,null,null,null,null,null,null,null,null,null,null,null,null,null,null,null,null,null,null,null,null,"y",null,null,null,"y"]
["Santa Claus",0]
["Sawmill",1,null,null,null,null,null,null,null,null,null,null,null,null,null,null,null,null,null,null,null,null,null,null,null,null,null,null,null,null,null,null,null,null,null,null,null,null,null,null,null,null,null,null,"y"]
["Seally Canyon",0]
["Upper Greenwood",1,null,null,null,null,null,null,null,null,null,null,null,null,null,null,null,null,null,null,null,null,null,null,null,null,null,null,null,null,"y"]
["Urraca",3,null,null,null,null,null,null,null,null,"y",null,"y",null,null,null,null,null,null,null,null,null,null,null,null,"y"]
["Ute Gulch",0]
["Whiteman Vega",0]
["Zastrow",0]
[null,null,{"$f":"COUNTIF(C3:C52,\"y\")","v":1},{"$f":"COUNTIF(D3:D52,\"y\")","v":2},1,1,0,5,1,2,9,2,3,3,1,1,2,1,1,2,1,1,2,3,1,1,1,1,1,5,9,1,2,0,1,0,3,1,1,1,1,3,1,1,1,1,2,2,3,0,0,3]

{"sheet":"Camp Elevations","index":17,"n_rows":171,"n_cols":14,"rows_kept":171,"cut":false,"hidden":true,"merged":[[170,3,170,12],[103,13,104,13]]}
["Added","CAMP NAME","Country","Easting","Northing","ELEVATION ","Commissary","Trading Post","Staffed","Trail Camp","Dry Camp","Showers","campMap"]
[null,"Abreu","South",498586,4025999,7217,"","","Y","","","Y","South"]
[null,"Agua Fria","South",488935,4026589,8726,"","","","Y","","","South"]
[null,"Aguila","South",497862,4028279,8282,"","","","Y","","","South"]
[2019,"American Creek","South",481557.83,4035889.24,9815,null,null,"","Y","",null,"South"]
[null,"Anasazi","North",501736,4051171,6911,"","","","Y","","","North"]
[null,"Apache Springs","South",487072,4026937,9409,"Y","","Y","","","","South"]
[2019,"Arrowhead","South",496899.66,4035172.06,7644,null,null,"","Y","Y",null,"South"]
[null,"Aspen Springs","Central",494588,4039845,7912,"","","","Y","","","South"]
[2021,"Azurite","North",482386.37579999998,4054351.6874000002,10640,null,null,"","Y","Y",null,"North"]
[null,"Backache Springs","South",502047,4027556,7688,"","","","Y","","","South"]
[null,"Baldy Skyline","North",487283.46,4052136.12,9140,"","","","Y","","","North"]
[null,"Baldy Town","North",482894,4053456,9851,"Y","Y","Y","","","Y","North"]
[null,"Base","Central",503848,4034364,6696,"","","","Y","","","South"]
[null,"Bear Canyon","South",487881,4028169,9288,"","","","Y","","","South"]
[null,"Bear Caves","South",496976,4028855,8423,"","","","Y","","","South"]
[2021,"Bear Creek",{"$f":"C15","v":"South"},{"$f":"D15","v":487881},4028169,9288,"","","","Y","","","South","Renamed from Bear Canyon"]
[null,"Beatty Lakes","Valle Vidal",489314.61,4064668.2415999998,8178.6580000000004,"","","","Y","Y","","North"]
[null,"Beaubien","South",490738,4030941,9330,"","","Y","","","Y","South"]
[null,"Bent","North",494100,4054501,7319,"","","","Y","","","North"]
[null,"Black Horse","North",483104,4051686,9619,"","","","Y","","","North"]
[2021,"Black Horse Creek",{"$f":"C21","v":"North"},{"$f":"D21","v":483104},4051686,9619,"","","","Y","","","North","Renamed from Black Horse"]
[2021,"Black Horse Mine","North",482367.65720000002,4052309.574,10750,null,null,"","Y","Y",null,"North"]
[null,"Black Jacks","North",496177,4047265,8211,"","","","Y","","","North"]
[null,"Black Mountain","South",491634,4033045,8991,"","","Y","","","","South"]
[2022,"Bluestem","North",495101.6764,4051329.0962,7495,null,null,"","Y","Y",null,"North"]
[null,"Bonita Cow","South",null,null,9120,"","","","Y","","","South"]
[null,"Buck Creek","South",488296,4029577,9131,"","","","Y","","","South"]
[null,"Camping HQ",{"$f":"C14","v":"Central"},{"$f":"D14","v":503848},4034364,6696,"","","","Y","","","South","Same as BASE"]
[null,"Campos Heck","North",502454,4047467,7081,"","","","Y","","","North"]
[null,"Carson Meadows","South",497851,4024826,7758,"","","Y","","","","South"]
[null,"Cathedral Rock","Central",495619,4037883,7550,"","","","Y","","","South"]
[null,"Chase Canyon","North",503643,4053267,7192,"","","","Y","","","North"]
[2019,"Chase Cow","North",504488.58,4052426.91,7177,null,null,"Y","","",null,"North"]
[null,"Chase Ranch","North",506771,4045397,6552,"","","Y","","Y","","North"]
[null,"Cimarron River","Central",494007,4046488,7282,"","","","Y","","","South"]
[2021,"Cimarroncita","Central",492337.15110000002,4045746.6666999999,7373,null,null,"Y","","",null,"North & South"]
[null,"Cimarroncito","Central",494139,4039271,8137,"","","Y","","","Y","South"]
[null,"Clarks Fork","Central",495699,4035985.55,7515,"","","Y","","","Y","South"]
[null,"Clear Creek","Central",483477,4036332,10240,"","","Y","","","","South"]
[null,"Comanche Creek","South",485656.75,4033365.26,9600,"","","","Y","","","South"]
[null,"Comanche Peak","Central",487608,4037237,11070,"","","","Y","Y","","South"]
[null,"Cook Canyon","North",494194,4058460,7731,"","","","Y","","","North"]
[null,"Copper Park","North",481903,4055101,10530,"","","","Y","","","North"]
[null,"Cottonwood","North",500105,4056884,7373,"","","","Y","","","North"]
[2023,"Coyote Howl","North",500561.82,4054185.0869999998,7560.52,"","","","Y","","","North"]
[null,"Crags","South",494334,4024631,8058,"","","","Y","","","South"]
[null,"Crater Lake","South",495609,4028935,8398,"","","Y","","","","South"]
[null,"Crooked Creek","South",486794,4031067,9360,"","","Y","","","","South"]
[null,"Cyphers Mine","Central",489568,4037662,9302,"","","Y","","","Y","South"]
[null,"Dan Beard","North",492056,4059215,7896,"","","Y","","","","North"]
[2019,"Daves Lake","South",491347.09,4025665.43,9453,null,null,"","Y","",null,"South"]
[null,"Dean Cow","North",500102,4046769,7232,"","","Y","","","Y","North"]
[null,"Dean Cutoff","North",495546.39,4052340.91,7320,"","","","Y","","","North"]
[null,"Dean Heck","North",504413,4044305,6758,"","","","Y","","","North"]
[2019,"Dean Skyline","North",495667.97,4051680.85,7967,null,null,"","Y","Y",null,"North"]
[null,"Deer Lake","Central",497685,4040333,8280,"","","","Y","","","South"]
[null,"Deer Lake Mesa","Central",495433,4042810,8324,"","","","Y","","","South"]
[null,"Demonstration Forest","South",494670,4037285,7720,"","","","Y","Y","","South"]
[null,"Devil's Wash Basin","Central",494932,4042281,8515,"","","","Y","Y","","South"]
[2020,"Divide","South",488258.43,4036088.88,10509,null,null,"","Y","Y",null,"South"]
[null,"Elkhorn","North",492424,4051874,8496,"","","","Y","","","North"]
[null,"Ewells Park","North",484643,4053169,9373,"","","","Y","","","North"]
[null,"Fish Camp","South",490787,4026964,8564,"","","Y","","","","South"]
[null,"Flume Canyon","North",492186,4053281,7715,"","","","Y","","","North"]
[null,"French Henry","North",483471,4054519,9635,"","","Y","","","","North"]
[2019,"Garcia Cow","South",483495.8,4027944.67,9855,null,null,"Y","","",null,"South"]
[null,"Greenwood Canyon","Valle Vidal",483891.64,4061375.92,8300,"","","","Y","","","North"]
[null,"Harlan","Central",498402,4041184,7550,"","","Y","","","","South"]
[null,"Hawkeye","Central",494791,4046280,7586,"","","","Y","Y","","South"]
[null,"Head of Dean","North",489268,4051641,8754,"","","Y","","","","North"]
[2021,"Heck Meadow","South",498379.26270000002,4035918.4079,7085,null,null,"","Y","Y",null,"South"]
[null,"Hells Fire Canyon","North",506048,4049722,6837,"","","","Y","","","North"]
[2020,"Herradura","South",498970.27,4030120,7465,"","","","Y","Y","","South"]
[null,"Horse Canyon","North",494604,4057016,8128,"","","","Y","","","North"]
[null,"House Canyon","North",502969,4051149,7157,"","","","Y","","","North"]
[null,"Hunting Lodge","Central",494338,4037841,7776,"","","N","y","","","South","Trail Camp starting in 2024"]
[null,"Indian Writings","North",500421,4053139,6979,"","","Y","","","Y","North"]
[null,"Iris Park","Valle Vidal",486124,4064630,8571,"","","","Y","","","North"]
[null,"Kit Carson","South",506169.3798,4024627.3322999999,6466,"","","Y","","","","South"]
[null,"Lamberts Mine","Central",490260,4037034,8957,"","","","Y","","","South"]
[2021,"Line",{"$f":"C83","v":"South"},{"$f":"D83","v":498199.67},4023525.53,8125,"","","","Y","","","South","Renamed from Line Camp"]
[null,"Line Camp","South",498199.67,4023525.53,8125,"","","","Y","","","South"]
[null,"Little Costilla","Valle Vidal",480285.29,4072995.57,10200.69,"","","","Y","","","North"]
[2019,"Little Twin","North",505391.65330000001,4049985.7826999999,7258.9650430000002,null,null,"","Y","Y",null,"North"]
[null,"Lookout Meadow","South",493728,4026401,9419,"","","","Y","","","South"]
[null,"Lost Cabins","South",487827,4026491,9205,"","","","Y","","","South"]
[null,"Lost Gap","Central",496635,4040475,8413,"","","","Y","Y","","South"]
[2019,"Lovato","South",487595.97,4023654.22,9523,null,null,"","Y","",null,"South"]
[null,"Lovers Leap","South",498474,4030533,7469,"","","","Y","","","South"]
[null,"Lower Bonito","South",493583,4027520,8962,"","","","Y","","","South"]
[null,"Lower Sawmill","Central",493143,4041628,8308,"","","","Y","","","South"]
[2021,"Magpie","South",501032.30530000001,4031514.3975,7385,null,null,"","Y","Y",null,"South"]
[null,"Martinez Springs","Central",496880,4043340,7494,"","","","Y","","","South"]
[null,"Maxwell","North",486238,4050954,8498,"","","","Y","","","North"]
[null,"McBride Canyon","North",500499,4050410,7105,"","","","Y","Y","","North"]
[null,"McCrystal Creek","Valle Vidal",486857.99619999999,4073297.6935000001,8538,"","","","Y","","","North"]
[null,"Metcalf Station","North",497635,4057295,7220,"","","Y","","","","North"]
[null,"Middle Ponil","Valle Vidal",482410,4068284,9118,"","","","Y","","","North"]
[null,"Miners Park","South",496250,4030958,7977,"Y","","Y","","","Y","South"]
[null,"Minnette Meadows","Central",492417.2,4044351,7703,"","","","Y","Y","","South"]
[null,"Miranda","North",484666,4051561,8898,"","","Y","","","","North"]
[2021,"Mistletoe","Central",493459.07990000001,4048688.4183999998,8295,null,null,"","Y","Y",null,"North & South"]
[null,"Mount Phillips","Central",486031.29960000003,4036786.3292,11650,"","","","Y","Y","","South","2023 Different spellings for same camp"]
[null,"Mt Phillips","Central",486031.29960000003,4036786.3292,11650,"","","","Y","Y","","South"]
[null,"New Dean","North",495733,4049734,7724,"","","","Y","","","North"]
[null,"North Fork Urraca","South",496228,4032333,7961,"","","","Y","","","South"]
[2019,"North Ponil","North",495945.07,4058676.11,7706,null,null,"","Y","",null,"North"]
[null,"Old Abreu","South",497636,4025768,7375,"","","","Y","","","South"]
[null,"Old Camp","Valle Vidal",null,null,null,"","","","Y","","","North"]
[null,"Olympia","South",502788,4025183,6731,"","","","Y","","","South"]
[null,"Phillips Junction","South",489389,4030051,8921,"Y","Y","Y","","","Y","South"]
[null,"Pinyon Flats","South",501236,4024353,6924,"","","","Y","","","South"]
[2023,"Placer","North",4836526.0779999997,4052601.3470000001,9483.43,"","","","Y","","","North"]
[null,"Ponderosa Park","Central",495827,4034966,8004,"","","","Y","Y","","South"]
[null,"Ponil","North",496696.54700000002,4053001.2755,7150,"Y","Y","Y","","","Y","North"]
[null,"Porcupine","South",488353,4030881,9152,"","","","Y","","","South"]
[null,"Pueblano","North",489738,4053274,8069,"","","Y","","","","North"]
[null,"Pueblano Ruins","North",487758,4053694,8359,"","","","Y","","","North"]
[2020,"Rabbit Ear","North",492496.72,4059396.86,8115,null,null,"","Y","Y",null,"North"]
[null,"Rayado","South",506169.3798,4024627.3322999999,6518,"","","","Y","","","South"]
[null,"Rayado Ridge","South",505371,4024604,6655,"","","","Y","","Y","South"]
[null,"Rayado River","South",499286,4025697,7079,"","","","Y","","","South"]
[null,"Red Hills","South",487476,4035642,10280,"","","","Y","","","South"]
[null,"Rich Cabins","Valle Vidal",489694,4058261,7728,"Y","","Y","","","","North"]
[null,"Rimrock Park","South",498366,4025625,7359,"","","","Y","Y","","South"]
[null,"Ring Place","Valle Vidal",489152,4069608,8124,"Y","","Y","","","","North"]
[2021,"Ringtail","North",487012.16409999999,4051328.0446000001,8600,null,null,"","Y","Y",null,"North"]
[null,"RMSC","South",500770,4032043,7080,"","","","Y","","","South"]
[null,"Rock Springs","Central",496880,4043340,7491,"","","","Y","","","South"]
[2019,"Saladon","South",482203.13,4032785.4142999998,9874.788998,null,null,"","Y","",null,"South"]
[null,"Santa Claus","North",491849,4049566,8438,"","","Y","","","","North"]
[null,"Sawmill","Central",490259,4041146,9193,"","","Y","","","Y","South"]
[null,"Seally Canyon","Valle Vidal",490997,4067420,8037,"","","","Y","Y","","North"]
[null,"Shaefers Pass","Central",495940,4033735,8724,"","","","Y","Y","","South"]
[null,"Shuree Cabin","Valle Vidal",480498,4070514,9647,"","","","Y","","","North"]
[null,"Shuree Lodge","Valle Vidal",482669,4069480,9277,"","","","Y","","","North"]
[null,"Sioux","North",495001,4053225,7382,"","","","Y","","","North"]
[null,"Six Mile Gate","North",503191.76,4049062.91,6710,"","","","Y","","","North"]
[null,"Slate Hill Heck","North",502409,4043124,7722,"","","","Y","Y","","North"]
[null,"Stockade","South",500015,4032275,7254,"","","","Y","","","South"]
[null,"Stockade Ridge","South",499296,4032487,7519,"","","","Y","Y","","South"]
[null,"Thunder Ridge","Central",488492.89939999999,4038824.1444999999,10490,"","","","Y","Y","","South"]
[2019,"Tolby Headwaters","South",480146.81,4038306.99,9219,null,null,"","Y","",null,"South"]
[null,"Tooth Ridge","Central",500029.67,4033924.75,8240,"","","","Y","Y","","South"]
[null,"Toothache Springs","South",500750,4028216,7870,"","","","Y","","","South"]
[2021,"Touch-Me-Not Creek","North",484936.67660000001,4050860.9983999999,8855,null,null,"","Y","",null,"North"]
[null,"Trail Canyon","North",499226,4049865,7070,"","","","Y","","","North"]
[null,"Turkey Creek","North",498097,4046582,7569,"","","","Y","","","North"]
[null,"Upper Bench","Central",494832,4043955,8161,"","","","Y","Y","","South"]
[null,"Upper Clarks Fork","Central",495583,4034947,7902,"","","","Y","Y","","South"]
[null,"Upper Dean Cow","North",492036,4050785,8254,"","","","Y","","","North"]
[null,"Upper Greenwood","Valle Vidal",479874.12530000001,4056510.7667999999,10262.665999999999,"","","","Y","","","North"]
[null,"Upper Sawmill","Central",491866.71,4041590,8611,"","","","Y","","","South"]
[2022,"Upper Webster Park","Central",492935.53470000002,4039576.3048999999,8764,null,null,"","Y","",null,"South","2023 Combined Upper & Lower Webster Parks"]
[null,"Urraca","South",500851,4029314,7968,"","","Y","","","","South"]
[null,"Ute Gulch","Central",494653,4041249,7866,"Y","Y","Y","","","","South"]
[null,"Ute Meadows","North",483892,4052643,9164,"","","","Y","","","North"]
[null,"Ute Park Pass","Central",493784,4042291,8258,"","","","Y","","","South"]
[null,"Ute Springs","Central",495177,4040114,7689,"","","","Y","","","South"]
[null,"Vaca","Central",499148,4041252,7415,"","","","Y","","","South"]
[null,"Visto Grande","Central",493983,4045668,7782,"","","","Y","","","South"]
[null,"Webster Lake","Central",497835,4037406,7122,"","","","Y","","","South"]
[null,"Webster Parks","Central",492939.82,4039509.952,8611.1200000000008,"","","","Y","Y","","South","2023 Combined Upper & Lower Webster Parks"]
[null,"Whistle Punk","Central",489586.4,4039243.3,10052,"","","","Y","","","South"]
[null,"Whiteman Vega","Valle Vidal",490820,4072011,8061,"","","Y","","","","North"]
[null,"Wild Horse","South",484174,4032864,10420,"","","","Y","","","South"]
[2019,"Wild Horse Park","South",481273.93,4030849.05,9883,null,null,"","Y","",null,"North"]
[null,"Window Rock","Central",null,null,8312,"","","","Y","Y","","South"]
[null,"Zastrow","South",500378,4025857,6946,"Y","","Y","","","Y","South"]
[null,null,null,"NOTE:  Coordinates/elevations  from 2017 Philmont's 2017 UTM.xlsm file.  These do not agree with Philmont's .kmz Google Earth file."]

{"sheet":"UteParkPassAlternatives","index":18,"n_rows":40,"n_cols":9,"rows_kept":40,"cut":false,"hidden":true,"merged":[[1,6,13,6],[14,6,26,6],[27,6,39,6]]}
["Itinerary","Day","Plan A\n(Original Itinerary)","Plan B\n(Delay)","Plan C\n(Change Direction)","Plan D\n(Alternate Itinerary)",null,null,"Note:  Line Return will be removed for uppPlans form selection"]
["12-29",1,"BASE","BASE","BASE","BASE","Southbound"]
["12-29",2,{"$f":"INDEX(campsByItinerary,RIGHT($A3,LEN($A3)-3),$B3-1)","v":0},"Bluestem","Bluestem","Bluestem"]
["12-29",3,{"$f":"INDEX(campsByItinerary,RIGHT($A4,LEN($A4)-3),$B4-1)","v":0},"Pueblano Ruins","Pueblano Ruins","Pueblano Ruins"]
["12-29",4,{"$f":"INDEX(campsByItinerary,RIGHT($A5,LEN($A5)-3),$B5-1)","v":0},"Baldy Town","Baldy Town","Baldy Town"]
["12-29",5,{"$f":"INDEX(campsByItinerary,RIGHT($A6,LEN($A6)-3),$B6-1)","v":0},"Baldy Town","Baldy Town","Baldy Town"]
["12-29",6,{"$f":"INDEX(campsByItinerary,RIGHT($A7,LEN($A7)-3),$B7-1)","v":0},"Mistletoe","Mistletoe","Mistletoe"]
["12-29",7,{"$f":"INDEX(campsByItinerary,RIGHT($A8,LEN($A8)-3),$B8-1)","v":0},"Cimarroncita","Cimarroncita","Cimarroncita"]
["12-29",8,{"$f":"INDEX(campsByItinerary,RIGHT($A9,LEN($A9)-3),$B9-1)","v":0},"Cimarroncita","Cimarroncita","New Dean"]
["12-29",9,{"$f":"INDEX(campsByItinerary,RIGHT($A10,LEN($A10)-3),$B10-1)","v":0},"Sawmill","Upper Dean Cow","Pueblano"]
["12-29",10,{"$f":"INDEX(campsByItinerary,RIGHT($A11,LEN($A11)-3),$B11-1)","v":0},"Lamberts Mine","Rich Cabins","Rich Cabins"]
["12-29",11,{"$f":"INDEX(campsByItinerary,RIGHT($A12,LEN($A12)-3),$B12-1)","v":0},"Shaefers Pass","Ponil","Ponil"]
["12-29",12,"BASE","BASE","BASE","BASE"]
["12-29","Return","Hike In","Hike In","Hike In","Hike In"]
["12-30",1,"BASE","BASE","BASE","BASE","Northbound"]
["12-30",2,{"$f":"INDEX(campsByItinerary,RIGHT($A16,LEN($A16)-3),$B16-1)","v":0},"Heck Meadow","Heck Meadow","Heck Meadow"]
["12-30",3,{"$f":"INDEX(campsByItinerary,RIGHT($A17,LEN($A17)-3),$B17-1)","v":0},"Clarks Fork","Clarks Fork","Clarks Fork"]
["12-30",4,{"$f":"INDEX(campsByItinerary,RIGHT($A18,LEN($A18)-3),$B18-1)","v":0},"Clarks Fork","Clarks Fork","Clarks Fork"]
["12-30",5,{"$f":"INDEX(campsByItinerary,RIGHT($A19,LEN($A19)-3),$B19-1)","v":0},"Lamberts Mine","Lamberts Mine","Lamberts Mine"]
["12-30",6,{"$f":"INDEX(campsByItinerary,RIGHT($A20,LEN($A20)-3),$B20-1)","v":0},"Sawmill","Sawmill","Sawmill"]
["12-30",7,{"$f":"INDEX(campsByItinerary,RIGHT($A21,LEN($A21)-3),$B21-1)","v":0},"Sawmill","Sawmill","Mt Phillips"]
["12-30",8,{"$f":"INDEX(campsByItinerary,RIGHT($A22,LEN($A22)-3),$B22-1)","v":0},"Cimarroncita","Mt Phillips","Crooked Creek"]
["12-30",9,{"$f":"INDEX(campsByItinerary,RIGHT($A23,LEN($A23)-3),$B23-1)","v":0},"Santa Claus","Fish Camp","Fish Camp"]
["12-30",10,{"$f":"INDEX(campsByItinerary,RIGHT($A24,LEN($A24)-3),$B24-1)","v":0},"Ewells Park","Crater Lake","Crater Lake"]
["12-30",11,{"$f":"INDEX(campsByItinerary,RIGHT($A25,LEN($A25)-3),$B25-1)","v":0},"Ewells Park","Rimrock Park","Rimrock Park"]
["12-30",12,"BASE","BASE","BASE","BASE"]
["12-30","Return","Hike In","Hike In","Hike In","Hike In"]
["12-32",1,"BASE","BASE","BASE","BASE","Southbound"]
["12-32",2,{"$f":"INDEX(campsByItinerary,RIGHT($A29,LEN($A29)-3),$B29-1)","v":0},"Sioux","Sioux","Sioux"]
["12-32",3,{"$f":"INDEX(campsByItinerary,RIGHT($A30,LEN($A30)-3),$B30-1)","v":0},"Rich Cabins","Rich Cabins","Rich Cabins"]
["12-32",4,{"$f":"INDEX(campsByItinerary,RIGHT($A31,LEN($A31)-3),$B31-1)","v":0},"Head of Dean","Head of Dean","Head of Dean"]
["12-32",5,{"$f":"INDEX(campsByItinerary,RIGHT($A32,LEN($A32)-3),$B32-1)","v":0},"Copper Park","Copper Park","Copper Park"]
["12-32",6,{"$f":"INDEX(campsByItinerary,RIGHT($A33,LEN($A33)-3),$B33-1)","v":0},"Copper Park","Copper Park","Copper Park"]
["12-32",7,{"$f":"INDEX(campsByItinerary,RIGHT($A34,LEN($A34)-3),$B34-1)","v":0},"Santa Claus","Santa Claus","Santa Claus"]
["12-32",8,{"$f":"INDEX(campsByItinerary,RIGHT($A35,LEN($A35)-3),$B35-1)","v":0},"Cimarroncita","Cimarroncita","Cimarroncita"]
["12-32",9,{"$f":"INDEX(campsByItinerary,RIGHT($A36,LEN($A36)-3),$B36-1)","v":0},"Cimarroncita","Cimarroncita","Santa Claus"]
["12-32",10,{"$f":"INDEX(campsByItinerary,RIGHT($A37,LEN($A37)-3),$B37-1)","v":0},"Cimarroncito","Miranda","Miranda"]
["12-32",11,{"$f":"INDEX(campsByItinerary,RIGHT($A38,LEN($A38)-3),$B38-1)","v":0},"Clarks Fork","Miranda","Miranda"]
["12-32",12,"BASE","BASE","BASE","BASE"]
["12-32","Return","Ponil","Ponil","Ponil","Ponil"]